BEGIN:VCALENDAR
VERSION:2.0
PRODID:-//ADAC Sport- und Kulturverein e.V - ECPv6.11.2//NONSGML v1.0//EN
CALSCALE:GREGORIAN
METHOD:PUBLISH
X-WR-CALNAME:ADAC Sport- und Kulturverein e.V
X-ORIGINAL-URL:https://sportundkulturverein.net
X-WR-CALDESC:Veranstaltungen für ADAC Sport- und Kulturverein e.V
REFRESH-INTERVAL;VALUE=DURATION:PT1H
X-Robots-Tag:noindex
X-PUBLISHED-TTL:PT1H
BEGIN:VTIMEZONE
TZID:Europe/Berlin
BEGIN:DAYLIGHT
TZOFFSETFROM:+0100
TZOFFSETTO:+0200
TZNAME:CEST
DTSTART:20240331T010000
END:DAYLIGHT
BEGIN:STANDARD
TZOFFSETFROM:+0200
TZOFFSETTO:+0100
TZNAME:CET
DTSTART:20241027T010000
END:STANDARD
BEGIN:DAYLIGHT
TZOFFSETFROM:+0100
TZOFFSETTO:+0200
TZNAME:CEST
DTSTART:20250330T010000
END:DAYLIGHT
BEGIN:STANDARD
TZOFFSETFROM:+0200
TZOFFSETTO:+0100
TZNAME:CET
DTSTART:20251026T010000
END:STANDARD
END:VTIMEZONE
BEGIN:VEVENT
DTSTART;TZID=Europe/Berlin:20250218T184500
DTEND;TZID=Europe/Berlin:20250218T201500
DTSTAMP:20260419T194059
CREATED:20250511T160056Z
LAST-MODIFIED:20250808T170352Z
UID:10003515-1739904300-1739909700@sportundkulturverein.net
SUMMARY:Fußball - Herbst/Winter
DESCRIPTION:Die Fußballer des ADAC treffen sich das ganze Jahr über zum Kicken. \nVon Mai – September wird outdoor gespielt\, von Oktober – März in der Halle\, jeweils dienstags (14-tägig). \nDer Spaß am Spiel und der Austausch mit Kollegen steht dabei im Vordergrund. \nWenn Du auch als ehemaliger oder aktueller Vereinsspieler\, Hobbyfußballer oder Ballartist gerne mal mit Kollegen dem gepflegten Ballsport nachgehen möchtest\, dann bist Du hier genau richtig!
URL:https://sportundkulturverein.net/veranstaltung/fussball-herbst-winter/2025-02-18/
LOCATION:SoccerFive im Sportzentrum Martinsried\, Lochhamer Str. 33\, Martinsried\, 82152
CATEGORIES:Sport
ATTACH;FMTTYPE=image/jpeg:https://sportundkulturverein.net/wp-content/uploads/2023/11/ADAC-Fussball-Winter-3-scaled.jpg
ORGANIZER;CN="Alexander Rabbe":MAILTO:lexander.rabbe@adac.de
END:VEVENT
BEGIN:VEVENT
DTSTART;TZID=Europe/Berlin:20250204T184500
DTEND;TZID=Europe/Berlin:20250204T201500
DTSTAMP:20260419T194059
CREATED:20250511T160056Z
LAST-MODIFIED:20250808T170352Z
UID:10003514-1738694700-1738700100@sportundkulturverein.net
SUMMARY:Fußball - Herbst/Winter
DESCRIPTION:Die Fußballer des ADAC treffen sich das ganze Jahr über zum Kicken. \nVon Mai – September wird outdoor gespielt\, von Oktober – März in der Halle\, jeweils dienstags (14-tägig). \nDer Spaß am Spiel und der Austausch mit Kollegen steht dabei im Vordergrund. \nWenn Du auch als ehemaliger oder aktueller Vereinsspieler\, Hobbyfußballer oder Ballartist gerne mal mit Kollegen dem gepflegten Ballsport nachgehen möchtest\, dann bist Du hier genau richtig!
URL:https://sportundkulturverein.net/veranstaltung/fussball-herbst-winter/2025-02-04/
LOCATION:SoccerFive im Sportzentrum Martinsried\, Lochhamer Str. 33\, Martinsried\, 82152
CATEGORIES:Sport
ATTACH;FMTTYPE=image/jpeg:https://sportundkulturverein.net/wp-content/uploads/2023/11/ADAC-Fussball-Winter-3-scaled.jpg
ORGANIZER;CN="Alexander Rabbe":MAILTO:lexander.rabbe@adac.de
END:VEVENT
BEGIN:VEVENT
DTSTART;TZID=Europe/Berlin:20250121T184500
DTEND;TZID=Europe/Berlin:20250121T201500
DTSTAMP:20260419T194059
CREATED:20250511T160056Z
LAST-MODIFIED:20250808T170352Z
UID:10003513-1737485100-1737490500@sportundkulturverein.net
SUMMARY:Fußball - Herbst/Winter
DESCRIPTION:Die Fußballer des ADAC treffen sich das ganze Jahr über zum Kicken. \nVon Mai – September wird outdoor gespielt\, von Oktober – März in der Halle\, jeweils dienstags (14-tägig). \nDer Spaß am Spiel und der Austausch mit Kollegen steht dabei im Vordergrund. \nWenn Du auch als ehemaliger oder aktueller Vereinsspieler\, Hobbyfußballer oder Ballartist gerne mal mit Kollegen dem gepflegten Ballsport nachgehen möchtest\, dann bist Du hier genau richtig!
URL:https://sportundkulturverein.net/veranstaltung/fussball-herbst-winter/2025-01-21/
LOCATION:SoccerFive im Sportzentrum Martinsried\, Lochhamer Str. 33\, Martinsried\, 82152
CATEGORIES:Sport
ATTACH;FMTTYPE=image/jpeg:https://sportundkulturverein.net/wp-content/uploads/2023/11/ADAC-Fussball-Winter-3-scaled.jpg
ORGANIZER;CN="Alexander Rabbe":MAILTO:lexander.rabbe@adac.de
END:VEVENT
BEGIN:VEVENT
DTSTART;TZID=Europe/Berlin:20250107T184500
DTEND;TZID=Europe/Berlin:20250107T201500
DTSTAMP:20260419T194059
CREATED:20250511T160056Z
LAST-MODIFIED:20250808T170352Z
UID:10003512-1736275500-1736280900@sportundkulturverein.net
SUMMARY:Fußball - Herbst/Winter
DESCRIPTION:Die Fußballer des ADAC treffen sich das ganze Jahr über zum Kicken. \nVon Mai – September wird outdoor gespielt\, von Oktober – März in der Halle\, jeweils dienstags (14-tägig). \nDer Spaß am Spiel und der Austausch mit Kollegen steht dabei im Vordergrund. \nWenn Du auch als ehemaliger oder aktueller Vereinsspieler\, Hobbyfußballer oder Ballartist gerne mal mit Kollegen dem gepflegten Ballsport nachgehen möchtest\, dann bist Du hier genau richtig!
URL:https://sportundkulturverein.net/veranstaltung/fussball-herbst-winter/2025-01-07/
LOCATION:SoccerFive im Sportzentrum Martinsried\, Lochhamer Str. 33\, Martinsried\, 82152
CATEGORIES:Sport
ATTACH;FMTTYPE=image/jpeg:https://sportundkulturverein.net/wp-content/uploads/2023/11/ADAC-Fussball-Winter-3-scaled.jpg
ORGANIZER;CN="Alexander Rabbe":MAILTO:lexander.rabbe@adac.de
END:VEVENT
BEGIN:VEVENT
DTSTART;TZID=Europe/Berlin:20241224T184500
DTEND;TZID=Europe/Berlin:20241224T201500
DTSTAMP:20260419T194059
CREATED:20250511T160056Z
LAST-MODIFIED:20250808T170352Z
UID:10003511-1735065900-1735071300@sportundkulturverein.net
SUMMARY:Fußball - Herbst/Winter
DESCRIPTION:Die Fußballer des ADAC treffen sich das ganze Jahr über zum Kicken. \nVon Mai – September wird outdoor gespielt\, von Oktober – März in der Halle\, jeweils dienstags (14-tägig). \nDer Spaß am Spiel und der Austausch mit Kollegen steht dabei im Vordergrund. \nWenn Du auch als ehemaliger oder aktueller Vereinsspieler\, Hobbyfußballer oder Ballartist gerne mal mit Kollegen dem gepflegten Ballsport nachgehen möchtest\, dann bist Du hier genau richtig!
URL:https://sportundkulturverein.net/veranstaltung/fussball-herbst-winter/2024-12-24/
LOCATION:SoccerFive im Sportzentrum Martinsried\, Lochhamer Str. 33\, Martinsried\, 82152
CATEGORIES:Sport
ATTACH;FMTTYPE=image/jpeg:https://sportundkulturverein.net/wp-content/uploads/2023/11/ADAC-Fussball-Winter-3-scaled.jpg
ORGANIZER;CN="Alexander Rabbe":MAILTO:lexander.rabbe@adac.de
END:VEVENT
BEGIN:VEVENT
DTSTART;TZID=Europe/Berlin:20241210T184500
DTEND;TZID=Europe/Berlin:20241210T201500
DTSTAMP:20260419T194059
CREATED:20250511T160056Z
LAST-MODIFIED:20250808T170352Z
UID:10003510-1733856300-1733861700@sportundkulturverein.net
SUMMARY:Fußball - Herbst/Winter
DESCRIPTION:Die Fußballer des ADAC treffen sich das ganze Jahr über zum Kicken. \nVon Mai – September wird outdoor gespielt\, von Oktober – März in der Halle\, jeweils dienstags (14-tägig). \nDer Spaß am Spiel und der Austausch mit Kollegen steht dabei im Vordergrund. \nWenn Du auch als ehemaliger oder aktueller Vereinsspieler\, Hobbyfußballer oder Ballartist gerne mal mit Kollegen dem gepflegten Ballsport nachgehen möchtest\, dann bist Du hier genau richtig!
URL:https://sportundkulturverein.net/veranstaltung/fussball-herbst-winter/2024-12-10/
LOCATION:SoccerFive im Sportzentrum Martinsried\, Lochhamer Str. 33\, Martinsried\, 82152
CATEGORIES:Sport
ATTACH;FMTTYPE=image/jpeg:https://sportundkulturverein.net/wp-content/uploads/2023/11/ADAC-Fussball-Winter-3-scaled.jpg
ORGANIZER;CN="Alexander Rabbe":MAILTO:lexander.rabbe@adac.de
END:VEVENT
BEGIN:VEVENT
DTSTART;TZID=Europe/Berlin:20241126T184500
DTEND;TZID=Europe/Berlin:20241126T201500
DTSTAMP:20260419T194059
CREATED:20250511T160056Z
LAST-MODIFIED:20250808T170352Z
UID:10003509-1732646700-1732652100@sportundkulturverein.net
SUMMARY:Fußball - Herbst/Winter
DESCRIPTION:Die Fußballer des ADAC treffen sich das ganze Jahr über zum Kicken. \nVon Mai – September wird outdoor gespielt\, von Oktober – März in der Halle\, jeweils dienstags (14-tägig). \nDer Spaß am Spiel und der Austausch mit Kollegen steht dabei im Vordergrund. \nWenn Du auch als ehemaliger oder aktueller Vereinsspieler\, Hobbyfußballer oder Ballartist gerne mal mit Kollegen dem gepflegten Ballsport nachgehen möchtest\, dann bist Du hier genau richtig!
URL:https://sportundkulturverein.net/veranstaltung/fussball-herbst-winter/2024-11-26/
LOCATION:SoccerFive im Sportzentrum Martinsried\, Lochhamer Str. 33\, Martinsried\, 82152
CATEGORIES:Sport
ATTACH;FMTTYPE=image/jpeg:https://sportundkulturverein.net/wp-content/uploads/2023/11/ADAC-Fussball-Winter-3-scaled.jpg
ORGANIZER;CN="Alexander Rabbe":MAILTO:lexander.rabbe@adac.de
END:VEVENT
BEGIN:VEVENT
DTSTART;TZID=Europe/Berlin:20241112T184500
DTEND;TZID=Europe/Berlin:20241112T201500
DTSTAMP:20260419T194059
CREATED:20250511T160056Z
LAST-MODIFIED:20250808T170352Z
UID:10003508-1731437100-1731442500@sportundkulturverein.net
SUMMARY:Fußball - Herbst/Winter
DESCRIPTION:Die Fußballer des ADAC treffen sich das ganze Jahr über zum Kicken. \nVon Mai – September wird outdoor gespielt\, von Oktober – März in der Halle\, jeweils dienstags (14-tägig). \nDer Spaß am Spiel und der Austausch mit Kollegen steht dabei im Vordergrund. \nWenn Du auch als ehemaliger oder aktueller Vereinsspieler\, Hobbyfußballer oder Ballartist gerne mal mit Kollegen dem gepflegten Ballsport nachgehen möchtest\, dann bist Du hier genau richtig!
URL:https://sportundkulturverein.net/veranstaltung/fussball-herbst-winter/2024-11-12/
LOCATION:SoccerFive im Sportzentrum Martinsried\, Lochhamer Str. 33\, Martinsried\, 82152
CATEGORIES:Sport
ATTACH;FMTTYPE=image/jpeg:https://sportundkulturverein.net/wp-content/uploads/2023/11/ADAC-Fussball-Winter-3-scaled.jpg
ORGANIZER;CN="Alexander Rabbe":MAILTO:lexander.rabbe@adac.de
END:VEVENT
BEGIN:VEVENT
DTSTART;TZID=Europe/Berlin:20241029T184500
DTEND;TZID=Europe/Berlin:20241029T201500
DTSTAMP:20260419T194059
CREATED:20250511T160056Z
LAST-MODIFIED:20250808T170352Z
UID:10003507-1730227500-1730232900@sportundkulturverein.net
SUMMARY:Fußball - Herbst/Winter
DESCRIPTION:Die Fußballer des ADAC treffen sich das ganze Jahr über zum Kicken. \nVon Mai – September wird outdoor gespielt\, von Oktober – März in der Halle\, jeweils dienstags (14-tägig). \nDer Spaß am Spiel und der Austausch mit Kollegen steht dabei im Vordergrund. \nWenn Du auch als ehemaliger oder aktueller Vereinsspieler\, Hobbyfußballer oder Ballartist gerne mal mit Kollegen dem gepflegten Ballsport nachgehen möchtest\, dann bist Du hier genau richtig!
URL:https://sportundkulturverein.net/veranstaltung/fussball-herbst-winter/2024-10-29/
LOCATION:SoccerFive im Sportzentrum Martinsried\, Lochhamer Str. 33\, Martinsried\, 82152
CATEGORIES:Sport
ATTACH;FMTTYPE=image/jpeg:https://sportundkulturverein.net/wp-content/uploads/2023/11/ADAC-Fussball-Winter-3-scaled.jpg
ORGANIZER;CN="Alexander Rabbe":MAILTO:lexander.rabbe@adac.de
END:VEVENT
BEGIN:VEVENT
DTSTART;TZID=Europe/Berlin:20241015T184500
DTEND;TZID=Europe/Berlin:20241015T201500
DTSTAMP:20260419T194059
CREATED:20250511T160056Z
LAST-MODIFIED:20250808T170352Z
UID:10003506-1729017900-1729023300@sportundkulturverein.net
SUMMARY:Fußball - Herbst/Winter
DESCRIPTION:Die Fußballer des ADAC treffen sich das ganze Jahr über zum Kicken. \nVon Mai – September wird outdoor gespielt\, von Oktober – März in der Halle\, jeweils dienstags (14-tägig). \nDer Spaß am Spiel und der Austausch mit Kollegen steht dabei im Vordergrund. \nWenn Du auch als ehemaliger oder aktueller Vereinsspieler\, Hobbyfußballer oder Ballartist gerne mal mit Kollegen dem gepflegten Ballsport nachgehen möchtest\, dann bist Du hier genau richtig!
URL:https://sportundkulturverein.net/veranstaltung/fussball-herbst-winter/2024-10-15/
LOCATION:SoccerFive im Sportzentrum Martinsried\, Lochhamer Str. 33\, Martinsried\, 82152
CATEGORIES:Sport
ATTACH;FMTTYPE=image/jpeg:https://sportundkulturverein.net/wp-content/uploads/2023/11/ADAC-Fussball-Winter-3-scaled.jpg
ORGANIZER;CN="Alexander Rabbe":MAILTO:lexander.rabbe@adac.de
END:VEVENT
BEGIN:VEVENT
DTSTART;TZID=Europe/Berlin:20241001T184500
DTEND;TZID=Europe/Berlin:20241001T201500
DTSTAMP:20260419T194059
CREATED:20250511T160056Z
LAST-MODIFIED:20250808T170352Z
UID:10003505-1727808300-1727813700@sportundkulturverein.net
SUMMARY:Fußball - Herbst/Winter
DESCRIPTION:Die Fußballer des ADAC treffen sich das ganze Jahr über zum Kicken. \nVon Mai – September wird outdoor gespielt\, von Oktober – März in der Halle\, jeweils dienstags (14-tägig). \nDer Spaß am Spiel und der Austausch mit Kollegen steht dabei im Vordergrund. \nWenn Du auch als ehemaliger oder aktueller Vereinsspieler\, Hobbyfußballer oder Ballartist gerne mal mit Kollegen dem gepflegten Ballsport nachgehen möchtest\, dann bist Du hier genau richtig!
URL:https://sportundkulturverein.net/veranstaltung/fussball-herbst-winter/2024-10-01/
LOCATION:SoccerFive im Sportzentrum Martinsried\, Lochhamer Str. 33\, Martinsried\, 82152
CATEGORIES:Sport
ATTACH;FMTTYPE=image/jpeg:https://sportundkulturverein.net/wp-content/uploads/2023/11/ADAC-Fussball-Winter-3-scaled.jpg
ORGANIZER;CN="Alexander Rabbe":MAILTO:lexander.rabbe@adac.de
END:VEVENT
END:VCALENDAR