BEGIN:VCALENDAR
VERSION:2.0
PRODID:-//ADAC Sport- und Kulturverein e.V - ECPv6.11.2//NONSGML v1.0//EN
CALSCALE:GREGORIAN
METHOD:PUBLISH
X-ORIGINAL-URL:https://sportundkulturverein.net
X-WR-CALDESC:Veranstaltungen für ADAC Sport- und Kulturverein e.V
REFRESH-INTERVAL;VALUE=DURATION:PT1H
X-Robots-Tag:noindex
X-PUBLISHED-TTL:PT1H
BEGIN:VTIMEZONE
TZID:Europe/Berlin
BEGIN:DAYLIGHT
TZOFFSETFROM:+0100
TZOFFSETTO:+0200
TZNAME:CEST
DTSTART:20250330T010000
END:DAYLIGHT
BEGIN:STANDARD
TZOFFSETFROM:+0200
TZOFFSETTO:+0100
TZNAME:CET
DTSTART:20251026T010000
END:STANDARD
END:VTIMEZONE
BEGIN:VEVENT
DTSTART;VALUE=DATE:20251122
DTEND;VALUE=DATE:20251123
DTSTAMP:20260420T041206
CREATED:20250512T174717Z
LAST-MODIFIED:20251017T150644Z
UID:10003038-1763769600-1763855999@sportundkulturverein.net
SUMMARY:5. "Ich Lauf Mit gegen Gewalt"-Lauf (Charity Lauf)
DESCRIPTION:https://www.landkreis-muenchen.de/themen/familie-soziales/lauf-ich-lauf-mit-gegen-gewalt/\nStrecken: 5 km\, 10 km\n(ADAC Sport- und Kulturverein übernimmt Startgebühr)
URL:https://sportundkulturverein.net/veranstaltung/ich-lauf-mit-gegen-gewalt-lauf-charity-lauf/
LOCATION:Haar
CATEGORIES:Sport
ORGANIZER;CN="Stephan Reinberger":MAILTO:stephan.reinberger@adac.de
END:VEVENT
END:VCALENDAR