BEGIN:VCALENDAR
VERSION:2.0
PRODID:-//ADAC Sport- und Kulturverein e.V - ECPv6.11.2//NONSGML v1.0//EN
CALSCALE:GREGORIAN
METHOD:PUBLISH
X-WR-CALNAME:ADAC Sport- und Kulturverein e.V
X-ORIGINAL-URL:https://sportundkulturverein.net
X-WR-CALDESC:Veranstaltungen für ADAC Sport- und Kulturverein e.V
REFRESH-INTERVAL;VALUE=DURATION:PT1H
X-Robots-Tag:noindex
X-PUBLISHED-TTL:PT1H
BEGIN:VTIMEZONE
TZID:Europe/Berlin
BEGIN:DAYLIGHT
TZOFFSETFROM:+0100
TZOFFSETTO:+0200
TZNAME:CEST
DTSTART:20250330T010000
END:DAYLIGHT
BEGIN:STANDARD
TZOFFSETFROM:+0200
TZOFFSETTO:+0100
TZNAME:CET
DTSTART:20251026T010000
END:STANDARD
END:VTIMEZONE
BEGIN:VEVENT
DTSTART;TZID=Europe/Berlin:20251113T160000
DTEND;TZID=Europe/Berlin:20251113T220000
DTSTAMP:20260420T003017
CREATED:20250512T161401Z
LAST-MODIFIED:20250512T174555Z
UID:10002705-1763049600-1763071200@sportundkulturverein.net
SUMMARY:9. ADAC Treppenlauf 2025
DESCRIPTION:Auch dieses Jahr findet der Treppenlauf wieder im Turm der ADAC Zentrale statt. \nDie Teilnehmer können in zwei Kategorien teilnehmen:\nEinzel (472 Stufen) oder 2-er Staffel \nDer ADAC Sport- und Kulturverein übernimmt die Startgebühr für seine Mitglieder. \nDie Anmeldung erfolgt vstl. ab September.
URL:https://sportundkulturverein.net/veranstaltung/adac-treppenlauf-2025/
LOCATION:ADAC Zentrale\, Turm-Treppenhaus\, Hansastr. 19\, München\, 80686\, Germany
CATEGORIES:Sport
ORGANIZER;CN="Jeannine Bigalke":MAILTO:jeannine.bigalke@adac.de
END:VEVENT
END:VCALENDAR