BEGIN:VCALENDAR
VERSION:2.0
PRODID:-//ADAC Sport- und Kulturverein e.V - ECPv6.11.2//NONSGML v1.0//EN
CALSCALE:GREGORIAN
METHOD:PUBLISH
X-WR-CALNAME:ADAC Sport- und Kulturverein e.V
X-ORIGINAL-URL:https://sportundkulturverein.net
X-WR-CALDESC:Veranstaltungen für ADAC Sport- und Kulturverein e.V
REFRESH-INTERVAL;VALUE=DURATION:PT1H
X-Robots-Tag:noindex
X-PUBLISHED-TTL:PT1H
BEGIN:VTIMEZONE
TZID:Europe/Berlin
BEGIN:DAYLIGHT
TZOFFSETFROM:+0100
TZOFFSETTO:+0200
TZNAME:CEST
DTSTART:20250330T010000
END:DAYLIGHT
BEGIN:STANDARD
TZOFFSETFROM:+0200
TZOFFSETTO:+0100
TZNAME:CET
DTSTART:20251026T010000
END:STANDARD
END:VTIMEZONE
BEGIN:VEVENT
DTSTART;TZID=Europe/Berlin:20251123T110000
DTEND;TZID=Europe/Berlin:20251123T200000
DTSTAMP:20260420T215300
CREATED:20250512T154256Z
LAST-MODIFIED:20250512T181053Z
UID:10002136-1763895600-1763928000@sportundkulturverein.net
SUMMARY:Tennis Schleiferl-Turnier
DESCRIPTION:2025 wird u.a. ein Schleiferlturnier in Martinsried stattfinden. \n 
URL:https://sportundkulturverein.net/veranstaltung/tennis-mixed-meisterschaften-2/
LOCATION:München
CATEGORIES:Sport
ATTACH;FMTTYPE=image/jpeg:https://sportundkulturverein.net/wp-content/uploads/2021/08/tennis-player.jpg
ORGANIZER;CN="Christine Pfl%C3%BCger":MAILTO:christine.pflueger60@gmail.com
END:VEVENT
BEGIN:VEVENT
DTSTART;TZID=Europe/Berlin:20251125T160000
DTEND;TZID=Europe/Berlin:20251125T210000
DTSTAMP:20260420T215300
CREATED:20251104T151354Z
LAST-MODIFIED:20251104T151354Z
UID:10005141-1764086400-1764104400@sportundkulturverein.net
SUMMARY:2. ADAC Tischtennisturnier
DESCRIPTION:Der ADAC Sport- und Kulturverein lädt euch zu unserem zweiten Tischtennisturnier ein! Packt eure Schläger ein und bereitet euch auf einen sportlichen Nachmittag vor.
URL:https://sportundkulturverein.net/veranstaltung/2-adac-tischtennisturnier/
LOCATION:ADAC Zentrale\, Foyer\, Hansastr. 19\, München\, 80686\, Germany
CATEGORIES:Sport
ORGANIZER;CN="Michaela Sampakidou":MAILTO:michaela.sampakidou@stiftung.adac.de
END:VEVENT
END:VCALENDAR