BEGIN:VCALENDAR
VERSION:2.0
PRODID:-//ADAC Sport- und Kulturverein e.V - ECPv6.11.2//NONSGML v1.0//EN
CALSCALE:GREGORIAN
METHOD:PUBLISH
X-WR-CALNAME:ADAC Sport- und Kulturverein e.V
X-ORIGINAL-URL:https://sportundkulturverein.net
X-WR-CALDESC:Veranstaltungen für ADAC Sport- und Kulturverein e.V
REFRESH-INTERVAL;VALUE=DURATION:PT1H
X-Robots-Tag:noindex
X-PUBLISHED-TTL:PT1H
BEGIN:VTIMEZONE
TZID:Europe/Berlin
BEGIN:DAYLIGHT
TZOFFSETFROM:+0100
TZOFFSETTO:+0200
TZNAME:CEST
DTSTART:20280326T010000
END:DAYLIGHT
BEGIN:STANDARD
TZOFFSETFROM:+0200
TZOFFSETTO:+0100
TZNAME:CET
DTSTART:20281029T010000
END:STANDARD
END:VTIMEZONE
BEGIN:VEVENT
DTSTART;TZID=Europe/Berlin:20280502T193000
DTEND;TZID=Europe/Berlin:20280502T213000
DTSTAMP:20260421T121005
CREATED:20251017T152739Z
LAST-MODIFIED:20260420T164648Z
UID:10005870-1840908600-1840915800@sportundkulturverein.net
SUMMARY:Bachata Choreographie
DESCRIPTION:Dance Classes with Masha\nIn diesem Kurs konzentrieren wir uns auf Lady Styling im Bachata oder Latin Fusion Stil – Ausdruck\, Eleganz und feminine Bewegungsqualität in leidenschaftlichen Social Latin Tänzen. \nDer Kurs verbindet Technik\, tänzerische Freiheit und Selbstbewusstsein und schafft einen Raum für Leidenschaft\, Weiblichkeit und stärkende weibliche Energie auf der Tanzfläche. \nDer Kurs ist geeignet für Anfängerinnen sowie Tänzerinnen mit Vorkenntnissen.
URL:https://sportundkulturverein.net/veranstaltung/bachata-choreographie/2028-05-02/
LOCATION:Betriebssportraum D 0162
CATEGORIES:Sport
ORGANIZER;CN="Mariia (Masha) Stankevych":MAILTO:mariia.stankevych@tum.de
END:VEVENT
BEGIN:VEVENT
DTSTART;TZID=Europe/Berlin:20280503T183000
DTEND;TZID=Europe/Berlin:20280503T200000
DTSTAMP:20260421T121005
CREATED:20250808T182252Z
LAST-MODIFIED:20260420T164736Z
UID:10006199-1840991400-1840996800@sportundkulturverein.net
SUMMARY:Bachata oder Latin Fusion – Lady Styling für Frauen
DESCRIPTION:Dance Classes with Masha\nIn diesem Kurs konzentrieren wir uns auf Lady Styling im Bachata oder Latin Fusion Stil – Ausdruck\, Eleganz und feminine Bewegungsqualität in leidenschaftlichen Social Latin Tänzen. \nDer Kurs verbindet Technik\, tänzerische Freiheit und Selbstbewusstsein und schafft einen Raum für Leidenschaft\, Weiblichkeit und stärkende weibliche Energie auf der Tanzfläche. \nDer Kurs ist geeignet für Anfängerinnen sowie Tänzerinnen mit Vorkenntnissen.
URL:https://sportundkulturverein.net/veranstaltung/batchata-lady-styling/2028-05-03/
LOCATION:Betriebssportraum D 0162
CATEGORIES:Sport
ORGANIZER;CN="Renate Holler":MAILTO:renate.holler@adac.de
END:VEVENT
BEGIN:VEVENT
DTSTART;TZID=Europe/Berlin:20280504T180000
DTEND;TZID=Europe/Berlin:20280504T192000
DTSTAMP:20260421T121005
CREATED:20260420T163249Z
LAST-MODIFIED:20260420T164411Z
UID:10006466-1841076000-1841080800@sportundkulturverein.net
SUMMARY:Südamerikanischer DANCEMIX
DESCRIPTION:Südamerikanischer DANCEMIX mit Andrea\nEin energiegeladenes Erlebnis voller Rhythmus\, Kultur und Lebensfreude. \nDancemix ist eine explosive Kombination aus südamerikanischen und karibischen Rhythmen\, die deinen Körper von Kopf bis Fuß in Bewegung bringt.\nWir entdecken verschiedene Tanzstile\, um neue Bewegungsformen zu erkunden\, Energie freizusetzen und aus südamerikanischen Kulturen die exotischen Rhythmen zu genießen. \nWir freuen uns auf Dich! Es sind keine Vorkenntnisse notwendig.
URL:https://sportundkulturverein.net/veranstaltung/suedamerikanischer-dancemix/2028-05-04/
LOCATION:Betriebssportraum D 0162
CATEGORIES:Sport
ORGANIZER;CN="Renate Holler":MAILTO:renate.holler@adac.de
END:VEVENT
BEGIN:VEVENT
DTSTART;TZID=Europe/Berlin:20280509T193000
DTEND;TZID=Europe/Berlin:20280509T213000
DTSTAMP:20260421T121005
CREATED:20251017T152739Z
LAST-MODIFIED:20260420T164648Z
UID:10005871-1841513400-1841520600@sportundkulturverein.net
SUMMARY:Bachata Choreographie
DESCRIPTION:Dance Classes with Masha\nIn diesem Kurs konzentrieren wir uns auf Lady Styling im Bachata oder Latin Fusion Stil – Ausdruck\, Eleganz und feminine Bewegungsqualität in leidenschaftlichen Social Latin Tänzen. \nDer Kurs verbindet Technik\, tänzerische Freiheit und Selbstbewusstsein und schafft einen Raum für Leidenschaft\, Weiblichkeit und stärkende weibliche Energie auf der Tanzfläche. \nDer Kurs ist geeignet für Anfängerinnen sowie Tänzerinnen mit Vorkenntnissen.
URL:https://sportundkulturverein.net/veranstaltung/bachata-choreographie/2028-05-09/
LOCATION:Betriebssportraum D 0162
CATEGORIES:Sport
ORGANIZER;CN="Mariia (Masha) Stankevych":MAILTO:mariia.stankevych@tum.de
END:VEVENT
BEGIN:VEVENT
DTSTART;TZID=Europe/Berlin:20280510T183000
DTEND;TZID=Europe/Berlin:20280510T200000
DTSTAMP:20260421T121005
CREATED:20250808T182252Z
LAST-MODIFIED:20260420T164736Z
UID:10006200-1841596200-1841601600@sportundkulturverein.net
SUMMARY:Bachata oder Latin Fusion – Lady Styling für Frauen
DESCRIPTION:Dance Classes with Masha\nIn diesem Kurs konzentrieren wir uns auf Lady Styling im Bachata oder Latin Fusion Stil – Ausdruck\, Eleganz und feminine Bewegungsqualität in leidenschaftlichen Social Latin Tänzen. \nDer Kurs verbindet Technik\, tänzerische Freiheit und Selbstbewusstsein und schafft einen Raum für Leidenschaft\, Weiblichkeit und stärkende weibliche Energie auf der Tanzfläche. \nDer Kurs ist geeignet für Anfängerinnen sowie Tänzerinnen mit Vorkenntnissen.
URL:https://sportundkulturverein.net/veranstaltung/batchata-lady-styling/2028-05-10/
LOCATION:Betriebssportraum D 0162
CATEGORIES:Sport
ORGANIZER;CN="Renate Holler":MAILTO:renate.holler@adac.de
END:VEVENT
BEGIN:VEVENT
DTSTART;TZID=Europe/Berlin:20280511T180000
DTEND;TZID=Europe/Berlin:20280511T192000
DTSTAMP:20260421T121005
CREATED:20260420T163249Z
LAST-MODIFIED:20260420T164411Z
UID:10006467-1841680800-1841685600@sportundkulturverein.net
SUMMARY:Südamerikanischer DANCEMIX
DESCRIPTION:Südamerikanischer DANCEMIX mit Andrea\nEin energiegeladenes Erlebnis voller Rhythmus\, Kultur und Lebensfreude. \nDancemix ist eine explosive Kombination aus südamerikanischen und karibischen Rhythmen\, die deinen Körper von Kopf bis Fuß in Bewegung bringt.\nWir entdecken verschiedene Tanzstile\, um neue Bewegungsformen zu erkunden\, Energie freizusetzen und aus südamerikanischen Kulturen die exotischen Rhythmen zu genießen. \nWir freuen uns auf Dich! Es sind keine Vorkenntnisse notwendig.
URL:https://sportundkulturverein.net/veranstaltung/suedamerikanischer-dancemix/2028-05-11/
LOCATION:Betriebssportraum D 0162
CATEGORIES:Sport
ORGANIZER;CN="Renate Holler":MAILTO:renate.holler@adac.de
END:VEVENT
BEGIN:VEVENT
DTSTART;TZID=Europe/Berlin:20280516T193000
DTEND;TZID=Europe/Berlin:20280516T213000
DTSTAMP:20260421T121005
CREATED:20251017T152739Z
LAST-MODIFIED:20260420T164648Z
UID:10005872-1842118200-1842125400@sportundkulturverein.net
SUMMARY:Bachata Choreographie
DESCRIPTION:Dance Classes with Masha\nIn diesem Kurs konzentrieren wir uns auf Lady Styling im Bachata oder Latin Fusion Stil – Ausdruck\, Eleganz und feminine Bewegungsqualität in leidenschaftlichen Social Latin Tänzen. \nDer Kurs verbindet Technik\, tänzerische Freiheit und Selbstbewusstsein und schafft einen Raum für Leidenschaft\, Weiblichkeit und stärkende weibliche Energie auf der Tanzfläche. \nDer Kurs ist geeignet für Anfängerinnen sowie Tänzerinnen mit Vorkenntnissen.
URL:https://sportundkulturverein.net/veranstaltung/bachata-choreographie/2028-05-16/
LOCATION:Betriebssportraum D 0162
CATEGORIES:Sport
ORGANIZER;CN="Mariia (Masha) Stankevych":MAILTO:mariia.stankevych@tum.de
END:VEVENT
BEGIN:VEVENT
DTSTART;TZID=Europe/Berlin:20280517T183000
DTEND;TZID=Europe/Berlin:20280517T200000
DTSTAMP:20260421T121005
CREATED:20250808T182252Z
LAST-MODIFIED:20260420T164736Z
UID:10006201-1842201000-1842206400@sportundkulturverein.net
SUMMARY:Bachata oder Latin Fusion – Lady Styling für Frauen
DESCRIPTION:Dance Classes with Masha\nIn diesem Kurs konzentrieren wir uns auf Lady Styling im Bachata oder Latin Fusion Stil – Ausdruck\, Eleganz und feminine Bewegungsqualität in leidenschaftlichen Social Latin Tänzen. \nDer Kurs verbindet Technik\, tänzerische Freiheit und Selbstbewusstsein und schafft einen Raum für Leidenschaft\, Weiblichkeit und stärkende weibliche Energie auf der Tanzfläche. \nDer Kurs ist geeignet für Anfängerinnen sowie Tänzerinnen mit Vorkenntnissen.
URL:https://sportundkulturverein.net/veranstaltung/batchata-lady-styling/2028-05-17/
LOCATION:Betriebssportraum D 0162
CATEGORIES:Sport
ORGANIZER;CN="Renate Holler":MAILTO:renate.holler@adac.de
END:VEVENT
BEGIN:VEVENT
DTSTART;TZID=Europe/Berlin:20280518T180000
DTEND;TZID=Europe/Berlin:20280518T192000
DTSTAMP:20260421T121005
CREATED:20260420T163249Z
LAST-MODIFIED:20260420T164411Z
UID:10006468-1842285600-1842290400@sportundkulturverein.net
SUMMARY:Südamerikanischer DANCEMIX
DESCRIPTION:Südamerikanischer DANCEMIX mit Andrea\nEin energiegeladenes Erlebnis voller Rhythmus\, Kultur und Lebensfreude. \nDancemix ist eine explosive Kombination aus südamerikanischen und karibischen Rhythmen\, die deinen Körper von Kopf bis Fuß in Bewegung bringt.\nWir entdecken verschiedene Tanzstile\, um neue Bewegungsformen zu erkunden\, Energie freizusetzen und aus südamerikanischen Kulturen die exotischen Rhythmen zu genießen. \nWir freuen uns auf Dich! Es sind keine Vorkenntnisse notwendig.
URL:https://sportundkulturverein.net/veranstaltung/suedamerikanischer-dancemix/2028-05-18/
LOCATION:Betriebssportraum D 0162
CATEGORIES:Sport
ORGANIZER;CN="Renate Holler":MAILTO:renate.holler@adac.de
END:VEVENT
BEGIN:VEVENT
DTSTART;TZID=Europe/Berlin:20280523T193000
DTEND;TZID=Europe/Berlin:20280523T213000
DTSTAMP:20260421T121005
CREATED:20251017T152739Z
LAST-MODIFIED:20260420T164648Z
UID:10005873-1842723000-1842730200@sportundkulturverein.net
SUMMARY:Bachata Choreographie
DESCRIPTION:Dance Classes with Masha\nIn diesem Kurs konzentrieren wir uns auf Lady Styling im Bachata oder Latin Fusion Stil – Ausdruck\, Eleganz und feminine Bewegungsqualität in leidenschaftlichen Social Latin Tänzen. \nDer Kurs verbindet Technik\, tänzerische Freiheit und Selbstbewusstsein und schafft einen Raum für Leidenschaft\, Weiblichkeit und stärkende weibliche Energie auf der Tanzfläche. \nDer Kurs ist geeignet für Anfängerinnen sowie Tänzerinnen mit Vorkenntnissen.
URL:https://sportundkulturverein.net/veranstaltung/bachata-choreographie/2028-05-23/
LOCATION:Betriebssportraum D 0162
CATEGORIES:Sport
ORGANIZER;CN="Mariia (Masha) Stankevych":MAILTO:mariia.stankevych@tum.de
END:VEVENT
BEGIN:VEVENT
DTSTART;TZID=Europe/Berlin:20280524T183000
DTEND;TZID=Europe/Berlin:20280524T200000
DTSTAMP:20260421T121005
CREATED:20250808T182252Z
LAST-MODIFIED:20260420T164736Z
UID:10006202-1842805800-1842811200@sportundkulturverein.net
SUMMARY:Bachata oder Latin Fusion – Lady Styling für Frauen
DESCRIPTION:Dance Classes with Masha\nIn diesem Kurs konzentrieren wir uns auf Lady Styling im Bachata oder Latin Fusion Stil – Ausdruck\, Eleganz und feminine Bewegungsqualität in leidenschaftlichen Social Latin Tänzen. \nDer Kurs verbindet Technik\, tänzerische Freiheit und Selbstbewusstsein und schafft einen Raum für Leidenschaft\, Weiblichkeit und stärkende weibliche Energie auf der Tanzfläche. \nDer Kurs ist geeignet für Anfängerinnen sowie Tänzerinnen mit Vorkenntnissen.
URL:https://sportundkulturverein.net/veranstaltung/batchata-lady-styling/2028-05-24/
LOCATION:Betriebssportraum D 0162
CATEGORIES:Sport
ORGANIZER;CN="Renate Holler":MAILTO:renate.holler@adac.de
END:VEVENT
BEGIN:VEVENT
DTSTART;TZID=Europe/Berlin:20280525T180000
DTEND;TZID=Europe/Berlin:20280525T192000
DTSTAMP:20260421T121005
CREATED:20260420T163249Z
LAST-MODIFIED:20260420T164411Z
UID:10006469-1842890400-1842895200@sportundkulturverein.net
SUMMARY:Südamerikanischer DANCEMIX
DESCRIPTION:Südamerikanischer DANCEMIX mit Andrea\nEin energiegeladenes Erlebnis voller Rhythmus\, Kultur und Lebensfreude. \nDancemix ist eine explosive Kombination aus südamerikanischen und karibischen Rhythmen\, die deinen Körper von Kopf bis Fuß in Bewegung bringt.\nWir entdecken verschiedene Tanzstile\, um neue Bewegungsformen zu erkunden\, Energie freizusetzen und aus südamerikanischen Kulturen die exotischen Rhythmen zu genießen. \nWir freuen uns auf Dich! Es sind keine Vorkenntnisse notwendig.
URL:https://sportundkulturverein.net/veranstaltung/suedamerikanischer-dancemix/2028-05-25/
LOCATION:Betriebssportraum D 0162
CATEGORIES:Sport
ORGANIZER;CN="Renate Holler":MAILTO:renate.holler@adac.de
END:VEVENT
BEGIN:VEVENT
DTSTART;TZID=Europe/Berlin:20280530T193000
DTEND;TZID=Europe/Berlin:20280530T213000
DTSTAMP:20260421T121005
CREATED:20251017T152739Z
LAST-MODIFIED:20260420T164648Z
UID:10005874-1843327800-1843335000@sportundkulturverein.net
SUMMARY:Bachata Choreographie
DESCRIPTION:Dance Classes with Masha\nIn diesem Kurs konzentrieren wir uns auf Lady Styling im Bachata oder Latin Fusion Stil – Ausdruck\, Eleganz und feminine Bewegungsqualität in leidenschaftlichen Social Latin Tänzen. \nDer Kurs verbindet Technik\, tänzerische Freiheit und Selbstbewusstsein und schafft einen Raum für Leidenschaft\, Weiblichkeit und stärkende weibliche Energie auf der Tanzfläche. \nDer Kurs ist geeignet für Anfängerinnen sowie Tänzerinnen mit Vorkenntnissen.
URL:https://sportundkulturverein.net/veranstaltung/bachata-choreographie/2028-05-30/
LOCATION:Betriebssportraum D 0162
CATEGORIES:Sport
ORGANIZER;CN="Mariia (Masha) Stankevych":MAILTO:mariia.stankevych@tum.de
END:VEVENT
BEGIN:VEVENT
DTSTART;TZID=Europe/Berlin:20280531T183000
DTEND;TZID=Europe/Berlin:20280531T200000
DTSTAMP:20260421T121005
CREATED:20250808T182252Z
LAST-MODIFIED:20260420T164736Z
UID:10006203-1843410600-1843416000@sportundkulturverein.net
SUMMARY:Bachata oder Latin Fusion – Lady Styling für Frauen
DESCRIPTION:Dance Classes with Masha\nIn diesem Kurs konzentrieren wir uns auf Lady Styling im Bachata oder Latin Fusion Stil – Ausdruck\, Eleganz und feminine Bewegungsqualität in leidenschaftlichen Social Latin Tänzen. \nDer Kurs verbindet Technik\, tänzerische Freiheit und Selbstbewusstsein und schafft einen Raum für Leidenschaft\, Weiblichkeit und stärkende weibliche Energie auf der Tanzfläche. \nDer Kurs ist geeignet für Anfängerinnen sowie Tänzerinnen mit Vorkenntnissen.
URL:https://sportundkulturverein.net/veranstaltung/batchata-lady-styling/2028-05-31/
LOCATION:Betriebssportraum D 0162
CATEGORIES:Sport
ORGANIZER;CN="Renate Holler":MAILTO:renate.holler@adac.de
END:VEVENT
END:VCALENDAR