BEGIN:VCALENDAR
VERSION:2.0
PRODID:-//ADAC Sport- und Kulturverein e.V - ECPv6.11.2//NONSGML v1.0//EN
CALSCALE:GREGORIAN
METHOD:PUBLISH
X-WR-CALNAME:ADAC Sport- und Kulturverein e.V
X-ORIGINAL-URL:https://sportundkulturverein.net
X-WR-CALDESC:Veranstaltungen für ADAC Sport- und Kulturverein e.V
REFRESH-INTERVAL;VALUE=DURATION:PT1H
X-Robots-Tag:noindex
X-PUBLISHED-TTL:PT1H
BEGIN:VTIMEZONE
TZID:Europe/Berlin
BEGIN:DAYLIGHT
TZOFFSETFROM:+0100
TZOFFSETTO:+0200
TZNAME:CEST
DTSTART:20270328T010000
END:DAYLIGHT
BEGIN:STANDARD
TZOFFSETFROM:+0200
TZOFFSETTO:+0100
TZNAME:CET
DTSTART:20271031T010000
END:STANDARD
END:VTIMEZONE
BEGIN:VEVENT
DTSTART;TZID=Europe/Berlin:20270901T183000
DTEND;TZID=Europe/Berlin:20270901T200000
DTSTAMP:20260420T225823
CREATED:20250808T182252Z
LAST-MODIFIED:20260420T164736Z
UID:10006164-1819823400-1819828800@sportundkulturverein.net
SUMMARY:Bachata oder Latin Fusion – Lady Styling für Frauen
DESCRIPTION:Dance Classes with Masha\nIn diesem Kurs konzentrieren wir uns auf Lady Styling im Bachata oder Latin Fusion Stil – Ausdruck\, Eleganz und feminine Bewegungsqualität in leidenschaftlichen Social Latin Tänzen. \nDer Kurs verbindet Technik\, tänzerische Freiheit und Selbstbewusstsein und schafft einen Raum für Leidenschaft\, Weiblichkeit und stärkende weibliche Energie auf der Tanzfläche. \nDer Kurs ist geeignet für Anfängerinnen sowie Tänzerinnen mit Vorkenntnissen.
URL:https://sportundkulturverein.net/veranstaltung/batchata-lady-styling/2027-09-01/
LOCATION:Betriebssportraum D 0162
CATEGORIES:Sport
ORGANIZER;CN="Renate Holler":MAILTO:renate.holler@adac.de
END:VEVENT
BEGIN:VEVENT
DTSTART;TZID=Europe/Berlin:20270902T180000
DTEND;TZID=Europe/Berlin:20270902T192000
DTSTAMP:20260420T225823
CREATED:20260420T163249Z
LAST-MODIFIED:20260420T164411Z
UID:10006431-1819908000-1819912800@sportundkulturverein.net
SUMMARY:Südamerikanischer DANCEMIX
DESCRIPTION:Südamerikanischer DANCEMIX mit Andrea\nEin energiegeladenes Erlebnis voller Rhythmus\, Kultur und Lebensfreude. \nDancemix ist eine explosive Kombination aus südamerikanischen und karibischen Rhythmen\, die deinen Körper von Kopf bis Fuß in Bewegung bringt.\nWir entdecken verschiedene Tanzstile\, um neue Bewegungsformen zu erkunden\, Energie freizusetzen und aus südamerikanischen Kulturen die exotischen Rhythmen zu genießen. \nWir freuen uns auf Dich! Es sind keine Vorkenntnisse notwendig.
URL:https://sportundkulturverein.net/veranstaltung/suedamerikanischer-dancemix/2027-09-02/
LOCATION:Betriebssportraum D 0162
CATEGORIES:Sport
ORGANIZER;CN="Renate Holler":MAILTO:renate.holler@adac.de
END:VEVENT
BEGIN:VEVENT
DTSTART;TZID=Europe/Berlin:20270907T193000
DTEND;TZID=Europe/Berlin:20270907T213000
DTSTAMP:20260420T225823
CREATED:20251017T152739Z
LAST-MODIFIED:20260420T164648Z
UID:10005836-1820345400-1820352600@sportundkulturverein.net
SUMMARY:Bachata Choreographie
DESCRIPTION:Dance Classes with Masha\nIn diesem Kurs konzentrieren wir uns auf Lady Styling im Bachata oder Latin Fusion Stil – Ausdruck\, Eleganz und feminine Bewegungsqualität in leidenschaftlichen Social Latin Tänzen. \nDer Kurs verbindet Technik\, tänzerische Freiheit und Selbstbewusstsein und schafft einen Raum für Leidenschaft\, Weiblichkeit und stärkende weibliche Energie auf der Tanzfläche. \nDer Kurs ist geeignet für Anfängerinnen sowie Tänzerinnen mit Vorkenntnissen.
URL:https://sportundkulturverein.net/veranstaltung/bachata-choreographie/2027-09-07/
LOCATION:Betriebssportraum D 0162
CATEGORIES:Sport
ORGANIZER;CN="Mariia (Masha) Stankevych":MAILTO:mariia.stankevych@tum.de
END:VEVENT
BEGIN:VEVENT
DTSTART;TZID=Europe/Berlin:20270908T183000
DTEND;TZID=Europe/Berlin:20270908T200000
DTSTAMP:20260420T225823
CREATED:20250808T182252Z
LAST-MODIFIED:20260420T164736Z
UID:10006165-1820428200-1820433600@sportundkulturverein.net
SUMMARY:Bachata oder Latin Fusion – Lady Styling für Frauen
DESCRIPTION:Dance Classes with Masha\nIn diesem Kurs konzentrieren wir uns auf Lady Styling im Bachata oder Latin Fusion Stil – Ausdruck\, Eleganz und feminine Bewegungsqualität in leidenschaftlichen Social Latin Tänzen. \nDer Kurs verbindet Technik\, tänzerische Freiheit und Selbstbewusstsein und schafft einen Raum für Leidenschaft\, Weiblichkeit und stärkende weibliche Energie auf der Tanzfläche. \nDer Kurs ist geeignet für Anfängerinnen sowie Tänzerinnen mit Vorkenntnissen.
URL:https://sportundkulturverein.net/veranstaltung/batchata-lady-styling/2027-09-08/
LOCATION:Betriebssportraum D 0162
CATEGORIES:Sport
ORGANIZER;CN="Renate Holler":MAILTO:renate.holler@adac.de
END:VEVENT
BEGIN:VEVENT
DTSTART;TZID=Europe/Berlin:20270909T180000
DTEND;TZID=Europe/Berlin:20270909T192000
DTSTAMP:20260420T225823
CREATED:20260420T163249Z
LAST-MODIFIED:20260420T164411Z
UID:10006432-1820512800-1820517600@sportundkulturverein.net
SUMMARY:Südamerikanischer DANCEMIX
DESCRIPTION:Südamerikanischer DANCEMIX mit Andrea\nEin energiegeladenes Erlebnis voller Rhythmus\, Kultur und Lebensfreude. \nDancemix ist eine explosive Kombination aus südamerikanischen und karibischen Rhythmen\, die deinen Körper von Kopf bis Fuß in Bewegung bringt.\nWir entdecken verschiedene Tanzstile\, um neue Bewegungsformen zu erkunden\, Energie freizusetzen und aus südamerikanischen Kulturen die exotischen Rhythmen zu genießen. \nWir freuen uns auf Dich! Es sind keine Vorkenntnisse notwendig.
URL:https://sportundkulturverein.net/veranstaltung/suedamerikanischer-dancemix/2027-09-09/
LOCATION:Betriebssportraum D 0162
CATEGORIES:Sport
ORGANIZER;CN="Renate Holler":MAILTO:renate.holler@adac.de
END:VEVENT
BEGIN:VEVENT
DTSTART;TZID=Europe/Berlin:20270914T193000
DTEND;TZID=Europe/Berlin:20270914T213000
DTSTAMP:20260420T225823
CREATED:20251017T152739Z
LAST-MODIFIED:20260420T164648Z
UID:10005837-1820950200-1820957400@sportundkulturverein.net
SUMMARY:Bachata Choreographie
DESCRIPTION:Dance Classes with Masha\nIn diesem Kurs konzentrieren wir uns auf Lady Styling im Bachata oder Latin Fusion Stil – Ausdruck\, Eleganz und feminine Bewegungsqualität in leidenschaftlichen Social Latin Tänzen. \nDer Kurs verbindet Technik\, tänzerische Freiheit und Selbstbewusstsein und schafft einen Raum für Leidenschaft\, Weiblichkeit und stärkende weibliche Energie auf der Tanzfläche. \nDer Kurs ist geeignet für Anfängerinnen sowie Tänzerinnen mit Vorkenntnissen.
URL:https://sportundkulturverein.net/veranstaltung/bachata-choreographie/2027-09-14/
LOCATION:Betriebssportraum D 0162
CATEGORIES:Sport
ORGANIZER;CN="Mariia (Masha) Stankevych":MAILTO:mariia.stankevych@tum.de
END:VEVENT
BEGIN:VEVENT
DTSTART;TZID=Europe/Berlin:20270915T183000
DTEND;TZID=Europe/Berlin:20270915T200000
DTSTAMP:20260420T225823
CREATED:20250808T182252Z
LAST-MODIFIED:20260420T164736Z
UID:10006166-1821033000-1821038400@sportundkulturverein.net
SUMMARY:Bachata oder Latin Fusion – Lady Styling für Frauen
DESCRIPTION:Dance Classes with Masha\nIn diesem Kurs konzentrieren wir uns auf Lady Styling im Bachata oder Latin Fusion Stil – Ausdruck\, Eleganz und feminine Bewegungsqualität in leidenschaftlichen Social Latin Tänzen. \nDer Kurs verbindet Technik\, tänzerische Freiheit und Selbstbewusstsein und schafft einen Raum für Leidenschaft\, Weiblichkeit und stärkende weibliche Energie auf der Tanzfläche. \nDer Kurs ist geeignet für Anfängerinnen sowie Tänzerinnen mit Vorkenntnissen.
URL:https://sportundkulturverein.net/veranstaltung/batchata-lady-styling/2027-09-15/
LOCATION:Betriebssportraum D 0162
CATEGORIES:Sport
ORGANIZER;CN="Renate Holler":MAILTO:renate.holler@adac.de
END:VEVENT
BEGIN:VEVENT
DTSTART;TZID=Europe/Berlin:20270916T180000
DTEND;TZID=Europe/Berlin:20270916T192000
DTSTAMP:20260420T225823
CREATED:20260420T163249Z
LAST-MODIFIED:20260420T164411Z
UID:10006433-1821117600-1821122400@sportundkulturverein.net
SUMMARY:Südamerikanischer DANCEMIX
DESCRIPTION:Südamerikanischer DANCEMIX mit Andrea\nEin energiegeladenes Erlebnis voller Rhythmus\, Kultur und Lebensfreude. \nDancemix ist eine explosive Kombination aus südamerikanischen und karibischen Rhythmen\, die deinen Körper von Kopf bis Fuß in Bewegung bringt.\nWir entdecken verschiedene Tanzstile\, um neue Bewegungsformen zu erkunden\, Energie freizusetzen und aus südamerikanischen Kulturen die exotischen Rhythmen zu genießen. \nWir freuen uns auf Dich! Es sind keine Vorkenntnisse notwendig.
URL:https://sportundkulturverein.net/veranstaltung/suedamerikanischer-dancemix/2027-09-16/
LOCATION:Betriebssportraum D 0162
CATEGORIES:Sport
ORGANIZER;CN="Renate Holler":MAILTO:renate.holler@adac.de
END:VEVENT
BEGIN:VEVENT
DTSTART;TZID=Europe/Berlin:20270921T193000
DTEND;TZID=Europe/Berlin:20270921T213000
DTSTAMP:20260420T225823
CREATED:20251017T152739Z
LAST-MODIFIED:20260420T164648Z
UID:10005838-1821555000-1821562200@sportundkulturverein.net
SUMMARY:Bachata Choreographie
DESCRIPTION:Dance Classes with Masha\nIn diesem Kurs konzentrieren wir uns auf Lady Styling im Bachata oder Latin Fusion Stil – Ausdruck\, Eleganz und feminine Bewegungsqualität in leidenschaftlichen Social Latin Tänzen. \nDer Kurs verbindet Technik\, tänzerische Freiheit und Selbstbewusstsein und schafft einen Raum für Leidenschaft\, Weiblichkeit und stärkende weibliche Energie auf der Tanzfläche. \nDer Kurs ist geeignet für Anfängerinnen sowie Tänzerinnen mit Vorkenntnissen.
URL:https://sportundkulturverein.net/veranstaltung/bachata-choreographie/2027-09-21/
LOCATION:Betriebssportraum D 0162
CATEGORIES:Sport
ORGANIZER;CN="Mariia (Masha) Stankevych":MAILTO:mariia.stankevych@tum.de
END:VEVENT
BEGIN:VEVENT
DTSTART;TZID=Europe/Berlin:20270922T183000
DTEND;TZID=Europe/Berlin:20270922T200000
DTSTAMP:20260420T225823
CREATED:20250808T182252Z
LAST-MODIFIED:20260420T164736Z
UID:10006167-1821637800-1821643200@sportundkulturverein.net
SUMMARY:Bachata oder Latin Fusion – Lady Styling für Frauen
DESCRIPTION:Dance Classes with Masha\nIn diesem Kurs konzentrieren wir uns auf Lady Styling im Bachata oder Latin Fusion Stil – Ausdruck\, Eleganz und feminine Bewegungsqualität in leidenschaftlichen Social Latin Tänzen. \nDer Kurs verbindet Technik\, tänzerische Freiheit und Selbstbewusstsein und schafft einen Raum für Leidenschaft\, Weiblichkeit und stärkende weibliche Energie auf der Tanzfläche. \nDer Kurs ist geeignet für Anfängerinnen sowie Tänzerinnen mit Vorkenntnissen.
URL:https://sportundkulturverein.net/veranstaltung/batchata-lady-styling/2027-09-22/
LOCATION:Betriebssportraum D 0162
CATEGORIES:Sport
ORGANIZER;CN="Renate Holler":MAILTO:renate.holler@adac.de
END:VEVENT
BEGIN:VEVENT
DTSTART;TZID=Europe/Berlin:20270923T180000
DTEND;TZID=Europe/Berlin:20270923T192000
DTSTAMP:20260420T225823
CREATED:20260420T163249Z
LAST-MODIFIED:20260420T164411Z
UID:10006434-1821722400-1821727200@sportundkulturverein.net
SUMMARY:Südamerikanischer DANCEMIX
DESCRIPTION:Südamerikanischer DANCEMIX mit Andrea\nEin energiegeladenes Erlebnis voller Rhythmus\, Kultur und Lebensfreude. \nDancemix ist eine explosive Kombination aus südamerikanischen und karibischen Rhythmen\, die deinen Körper von Kopf bis Fuß in Bewegung bringt.\nWir entdecken verschiedene Tanzstile\, um neue Bewegungsformen zu erkunden\, Energie freizusetzen und aus südamerikanischen Kulturen die exotischen Rhythmen zu genießen. \nWir freuen uns auf Dich! Es sind keine Vorkenntnisse notwendig.
URL:https://sportundkulturverein.net/veranstaltung/suedamerikanischer-dancemix/2027-09-23/
LOCATION:Betriebssportraum D 0162
CATEGORIES:Sport
ORGANIZER;CN="Renate Holler":MAILTO:renate.holler@adac.de
END:VEVENT
BEGIN:VEVENT
DTSTART;TZID=Europe/Berlin:20270928T193000
DTEND;TZID=Europe/Berlin:20270928T213000
DTSTAMP:20260420T225823
CREATED:20251017T152739Z
LAST-MODIFIED:20260420T164648Z
UID:10005839-1822159800-1822167000@sportundkulturverein.net
SUMMARY:Bachata Choreographie
DESCRIPTION:Dance Classes with Masha\nIn diesem Kurs konzentrieren wir uns auf Lady Styling im Bachata oder Latin Fusion Stil – Ausdruck\, Eleganz und feminine Bewegungsqualität in leidenschaftlichen Social Latin Tänzen. \nDer Kurs verbindet Technik\, tänzerische Freiheit und Selbstbewusstsein und schafft einen Raum für Leidenschaft\, Weiblichkeit und stärkende weibliche Energie auf der Tanzfläche. \nDer Kurs ist geeignet für Anfängerinnen sowie Tänzerinnen mit Vorkenntnissen.
URL:https://sportundkulturverein.net/veranstaltung/bachata-choreographie/2027-09-28/
LOCATION:Betriebssportraum D 0162
CATEGORIES:Sport
ORGANIZER;CN="Mariia (Masha) Stankevych":MAILTO:mariia.stankevych@tum.de
END:VEVENT
BEGIN:VEVENT
DTSTART;TZID=Europe/Berlin:20270929T183000
DTEND;TZID=Europe/Berlin:20270929T200000
DTSTAMP:20260420T225823
CREATED:20250808T182252Z
LAST-MODIFIED:20260420T164736Z
UID:10006168-1822242600-1822248000@sportundkulturverein.net
SUMMARY:Bachata oder Latin Fusion – Lady Styling für Frauen
DESCRIPTION:Dance Classes with Masha\nIn diesem Kurs konzentrieren wir uns auf Lady Styling im Bachata oder Latin Fusion Stil – Ausdruck\, Eleganz und feminine Bewegungsqualität in leidenschaftlichen Social Latin Tänzen. \nDer Kurs verbindet Technik\, tänzerische Freiheit und Selbstbewusstsein und schafft einen Raum für Leidenschaft\, Weiblichkeit und stärkende weibliche Energie auf der Tanzfläche. \nDer Kurs ist geeignet für Anfängerinnen sowie Tänzerinnen mit Vorkenntnissen.
URL:https://sportundkulturverein.net/veranstaltung/batchata-lady-styling/2027-09-29/
LOCATION:Betriebssportraum D 0162
CATEGORIES:Sport
ORGANIZER;CN="Renate Holler":MAILTO:renate.holler@adac.de
END:VEVENT
BEGIN:VEVENT
DTSTART;TZID=Europe/Berlin:20270930T180000
DTEND;TZID=Europe/Berlin:20270930T192000
DTSTAMP:20260420T225823
CREATED:20260420T163249Z
LAST-MODIFIED:20260420T164411Z
UID:10006435-1822327200-1822332000@sportundkulturverein.net
SUMMARY:Südamerikanischer DANCEMIX
DESCRIPTION:Südamerikanischer DANCEMIX mit Andrea\nEin energiegeladenes Erlebnis voller Rhythmus\, Kultur und Lebensfreude. \nDancemix ist eine explosive Kombination aus südamerikanischen und karibischen Rhythmen\, die deinen Körper von Kopf bis Fuß in Bewegung bringt.\nWir entdecken verschiedene Tanzstile\, um neue Bewegungsformen zu erkunden\, Energie freizusetzen und aus südamerikanischen Kulturen die exotischen Rhythmen zu genießen. \nWir freuen uns auf Dich! Es sind keine Vorkenntnisse notwendig.
URL:https://sportundkulturverein.net/veranstaltung/suedamerikanischer-dancemix/2027-09-30/
LOCATION:Betriebssportraum D 0162
CATEGORIES:Sport
ORGANIZER;CN="Renate Holler":MAILTO:renate.holler@adac.de
END:VEVENT
END:VCALENDAR