BEGIN:VCALENDAR
VERSION:2.0
PRODID:-//ADAC Sport- und Kulturverein e.V - ECPv6.11.2//NONSGML v1.0//EN
CALSCALE:GREGORIAN
METHOD:PUBLISH
X-ORIGINAL-URL:https://sportundkulturverein.net
X-WR-CALDESC:Veranstaltungen für ADAC Sport- und Kulturverein e.V
REFRESH-INTERVAL;VALUE=DURATION:PT1H
X-Robots-Tag:noindex
X-PUBLISHED-TTL:PT1H
BEGIN:VTIMEZONE
TZID:Europe/Berlin
BEGIN:DAYLIGHT
TZOFFSETFROM:+0100
TZOFFSETTO:+0200
TZNAME:CEST
DTSTART:20250330T010000
END:DAYLIGHT
BEGIN:STANDARD
TZOFFSETFROM:+0200
TZOFFSETTO:+0100
TZNAME:CET
DTSTART:20251026T010000
END:STANDARD
END:VTIMEZONE
BEGIN:VEVENT
DTSTART;TZID=Europe/Berlin:20250903T183000
DTEND;TZID=Europe/Berlin:20250903T200000
DTSTAMP:20260420T065014
CREATED:20250808T182252Z
LAST-MODIFIED:20260302T162304Z
UID:10004308-1756924200-1756929600@sportundkulturverein.net
SUMMARY:Bachata Styling Basics - Latino-Tanz für Frauen
DESCRIPTION:Bachata Sensual ist eine besondere Interpretation des ursprünglich aus der dominikanischen Republik stammenden Musik- und Tanzgenres Bachata. \nIn unseren Kursen lernst du Bachata Lady Style Steps\, d.h. Grundschritte und Kombinationen\, sexy Moves\, Posture und Deine Arme einzusetzen und immer auch eine kleine Choreo\, die für Anfänger als auch für Fortgeschrittene geeignet ist. \nLucia Rahn (Tanzlehrerin und Leitung von Pura Ladies) bringt Styling und Fußarbeit mit\, die Solo tanzbar aber auch im Paartanz einsetzbar sind.
URL:https://sportundkulturverein.net/veranstaltung/batchata-lady-styling/2025-09-03/
LOCATION:Betriebssportraum D 0162
CATEGORIES:Sport
ORGANIZER;CN="Renate Holler":MAILTO:renate.holler@adac.de
END:VEVENT
BEGIN:VEVENT
DTSTART;TZID=Europe/Berlin:20250910T183000
DTEND;TZID=Europe/Berlin:20250910T200000
DTSTAMP:20260420T065014
CREATED:20250808T182252Z
LAST-MODIFIED:20260302T162304Z
UID:10004309-1757529000-1757534400@sportundkulturverein.net
SUMMARY:Bachata Styling Basics - Latino-Tanz für Frauen
DESCRIPTION:Bachata Sensual ist eine besondere Interpretation des ursprünglich aus der dominikanischen Republik stammenden Musik- und Tanzgenres Bachata. \nIn unseren Kursen lernst du Bachata Lady Style Steps\, d.h. Grundschritte und Kombinationen\, sexy Moves\, Posture und Deine Arme einzusetzen und immer auch eine kleine Choreo\, die für Anfänger als auch für Fortgeschrittene geeignet ist. \nLucia Rahn (Tanzlehrerin und Leitung von Pura Ladies) bringt Styling und Fußarbeit mit\, die Solo tanzbar aber auch im Paartanz einsetzbar sind.
URL:https://sportundkulturverein.net/veranstaltung/batchata-lady-styling/2025-09-10/
LOCATION:Betriebssportraum D 0162
CATEGORIES:Sport
ORGANIZER;CN="Renate Holler":MAILTO:renate.holler@adac.de
END:VEVENT
BEGIN:VEVENT
DTSTART;TZID=Europe/Berlin:20250917T183000
DTEND;TZID=Europe/Berlin:20250917T200000
DTSTAMP:20260420T065014
CREATED:20250808T182252Z
LAST-MODIFIED:20260302T162304Z
UID:10004310-1758133800-1758139200@sportundkulturverein.net
SUMMARY:Bachata Styling Basics - Latino-Tanz für Frauen
DESCRIPTION:Bachata Sensual ist eine besondere Interpretation des ursprünglich aus der dominikanischen Republik stammenden Musik- und Tanzgenres Bachata. \nIn unseren Kursen lernst du Bachata Lady Style Steps\, d.h. Grundschritte und Kombinationen\, sexy Moves\, Posture und Deine Arme einzusetzen und immer auch eine kleine Choreo\, die für Anfänger als auch für Fortgeschrittene geeignet ist. \nLucia Rahn (Tanzlehrerin und Leitung von Pura Ladies) bringt Styling und Fußarbeit mit\, die Solo tanzbar aber auch im Paartanz einsetzbar sind.
URL:https://sportundkulturverein.net/veranstaltung/batchata-lady-styling/2025-09-17/
LOCATION:Betriebssportraum D 0162
CATEGORIES:Sport
ORGANIZER;CN="Renate Holler":MAILTO:renate.holler@adac.de
END:VEVENT
BEGIN:VEVENT
DTSTART;TZID=Europe/Berlin:20250924T183000
DTEND;TZID=Europe/Berlin:20250924T200000
DTSTAMP:20260420T065014
CREATED:20250808T182252Z
LAST-MODIFIED:20260302T162304Z
UID:10004311-1758738600-1758744000@sportundkulturverein.net
SUMMARY:Bachata Styling Basics - Latino-Tanz für Frauen
DESCRIPTION:Bachata Sensual ist eine besondere Interpretation des ursprünglich aus der dominikanischen Republik stammenden Musik- und Tanzgenres Bachata. \nIn unseren Kursen lernst du Bachata Lady Style Steps\, d.h. Grundschritte und Kombinationen\, sexy Moves\, Posture und Deine Arme einzusetzen und immer auch eine kleine Choreo\, die für Anfänger als auch für Fortgeschrittene geeignet ist. \nLucia Rahn (Tanzlehrerin und Leitung von Pura Ladies) bringt Styling und Fußarbeit mit\, die Solo tanzbar aber auch im Paartanz einsetzbar sind.
URL:https://sportundkulturverein.net/veranstaltung/batchata-lady-styling/2025-09-24/
LOCATION:Betriebssportraum D 0162
CATEGORIES:Sport
ORGANIZER;CN="Renate Holler":MAILTO:renate.holler@adac.de
END:VEVENT
END:VCALENDAR