BEGIN:VCALENDAR
VERSION:2.0
PRODID:-//ADAC Sport- und Kulturverein e.V - ECPv6.11.2//NONSGML v1.0//EN
CALSCALE:GREGORIAN
METHOD:PUBLISH
X-ORIGINAL-URL:https://sportundkulturverein.net
X-WR-CALDESC:Veranstaltungen für ADAC Sport- und Kulturverein e.V
REFRESH-INTERVAL;VALUE=DURATION:PT1H
X-Robots-Tag:noindex
X-PUBLISHED-TTL:PT1H
BEGIN:VTIMEZONE
TZID:Europe/Berlin
BEGIN:DAYLIGHT
TZOFFSETFROM:+0100
TZOFFSETTO:+0200
TZNAME:CEST
DTSTART:20260329T010000
END:DAYLIGHT
BEGIN:STANDARD
TZOFFSETFROM:+0200
TZOFFSETTO:+0100
TZNAME:CET
DTSTART:20261025T010000
END:STANDARD
END:VTIMEZONE
BEGIN:VEVENT
DTSTART;TZID=Europe/Berlin:20260604T180000
DTEND;TZID=Europe/Berlin:20260604T192000
DTSTAMP:20260421T034945
CREATED:20260420T163249Z
LAST-MODIFIED:20260420T164411Z
UID:10006366-1780596000-1780600800@sportundkulturverein.net
SUMMARY:Südamerikanischer DANCEMIX
DESCRIPTION:Südamerikanischer DANCEMIX mit Andrea\nEin energiegeladenes Erlebnis voller Rhythmus\, Kultur und Lebensfreude. \nDancemix ist eine explosive Kombination aus südamerikanischen und karibischen Rhythmen\, die deinen Körper von Kopf bis Fuß in Bewegung bringt.\nWir entdecken verschiedene Tanzstile\, um neue Bewegungsformen zu erkunden\, Energie freizusetzen und aus südamerikanischen Kulturen die exotischen Rhythmen zu genießen. \nWir freuen uns auf Dich! Es sind keine Vorkenntnisse notwendig.
URL:https://sportundkulturverein.net/veranstaltung/suedamerikanischer-dancemix/2026-06-04/
LOCATION:Betriebssportraum D 0162
CATEGORIES:Sport
ORGANIZER;CN="Renate Holler":MAILTO:renate.holler@adac.de
END:VEVENT
BEGIN:VEVENT
DTSTART;TZID=Europe/Berlin:20260611T180000
DTEND;TZID=Europe/Berlin:20260611T192000
DTSTAMP:20260421T034945
CREATED:20260420T163249Z
LAST-MODIFIED:20260420T164411Z
UID:10006367-1781200800-1781205600@sportundkulturverein.net
SUMMARY:Südamerikanischer DANCEMIX
DESCRIPTION:Südamerikanischer DANCEMIX mit Andrea\nEin energiegeladenes Erlebnis voller Rhythmus\, Kultur und Lebensfreude. \nDancemix ist eine explosive Kombination aus südamerikanischen und karibischen Rhythmen\, die deinen Körper von Kopf bis Fuß in Bewegung bringt.\nWir entdecken verschiedene Tanzstile\, um neue Bewegungsformen zu erkunden\, Energie freizusetzen und aus südamerikanischen Kulturen die exotischen Rhythmen zu genießen. \nWir freuen uns auf Dich! Es sind keine Vorkenntnisse notwendig.
URL:https://sportundkulturverein.net/veranstaltung/suedamerikanischer-dancemix/2026-06-11/
LOCATION:Betriebssportraum D 0162
CATEGORIES:Sport
ORGANIZER;CN="Renate Holler":MAILTO:renate.holler@adac.de
END:VEVENT
BEGIN:VEVENT
DTSTART;TZID=Europe/Berlin:20260618T180000
DTEND;TZID=Europe/Berlin:20260618T192000
DTSTAMP:20260421T034945
CREATED:20260420T163249Z
LAST-MODIFIED:20260420T164411Z
UID:10006368-1781805600-1781810400@sportundkulturverein.net
SUMMARY:Südamerikanischer DANCEMIX
DESCRIPTION:Südamerikanischer DANCEMIX mit Andrea\nEin energiegeladenes Erlebnis voller Rhythmus\, Kultur und Lebensfreude. \nDancemix ist eine explosive Kombination aus südamerikanischen und karibischen Rhythmen\, die deinen Körper von Kopf bis Fuß in Bewegung bringt.\nWir entdecken verschiedene Tanzstile\, um neue Bewegungsformen zu erkunden\, Energie freizusetzen und aus südamerikanischen Kulturen die exotischen Rhythmen zu genießen. \nWir freuen uns auf Dich! Es sind keine Vorkenntnisse notwendig.
URL:https://sportundkulturverein.net/veranstaltung/suedamerikanischer-dancemix/2026-06-18/
LOCATION:Betriebssportraum D 0162
CATEGORIES:Sport
ORGANIZER;CN="Renate Holler":MAILTO:renate.holler@adac.de
END:VEVENT
BEGIN:VEVENT
DTSTART;TZID=Europe/Berlin:20260625T180000
DTEND;TZID=Europe/Berlin:20260625T192000
DTSTAMP:20260421T034945
CREATED:20260420T163249Z
LAST-MODIFIED:20260420T164411Z
UID:10006369-1782410400-1782415200@sportundkulturverein.net
SUMMARY:Südamerikanischer DANCEMIX
DESCRIPTION:Südamerikanischer DANCEMIX mit Andrea\nEin energiegeladenes Erlebnis voller Rhythmus\, Kultur und Lebensfreude. \nDancemix ist eine explosive Kombination aus südamerikanischen und karibischen Rhythmen\, die deinen Körper von Kopf bis Fuß in Bewegung bringt.\nWir entdecken verschiedene Tanzstile\, um neue Bewegungsformen zu erkunden\, Energie freizusetzen und aus südamerikanischen Kulturen die exotischen Rhythmen zu genießen. \nWir freuen uns auf Dich! Es sind keine Vorkenntnisse notwendig.
URL:https://sportundkulturverein.net/veranstaltung/suedamerikanischer-dancemix/2026-06-25/
LOCATION:Betriebssportraum D 0162
CATEGORIES:Sport
ORGANIZER;CN="Renate Holler":MAILTO:renate.holler@adac.de
END:VEVENT
END:VCALENDAR