BEGIN:VCALENDAR
VERSION:2.0
PRODID:-//ADAC Sport- und Kulturverein e.V - ECPv6.11.2//NONSGML v1.0//EN
CALSCALE:GREGORIAN
METHOD:PUBLISH
X-WR-CALNAME:ADAC Sport- und Kulturverein e.V
X-ORIGINAL-URL:https://sportundkulturverein.net
X-WR-CALDESC:Veranstaltungen für ADAC Sport- und Kulturverein e.V
REFRESH-INTERVAL;VALUE=DURATION:PT1H
X-Robots-Tag:noindex
X-PUBLISHED-TTL:PT1H
BEGIN:VTIMEZONE
TZID:Europe/Berlin
BEGIN:DAYLIGHT
TZOFFSETFROM:+0100
TZOFFSETTO:+0200
TZNAME:CEST
DTSTART:20280326T010000
END:DAYLIGHT
BEGIN:STANDARD
TZOFFSETFROM:+0200
TZOFFSETTO:+0100
TZNAME:CET
DTSTART:20281029T010000
END:STANDARD
END:VTIMEZONE
BEGIN:VEVENT
DTSTART;TZID=Europe/Berlin:20280105T180000
DTEND;TZID=Europe/Berlin:20280105T200000
DTSTAMP:20260421T025522
CREATED:20250511T152129Z
LAST-MODIFIED:20250511T152129Z
UID:10001526-1830708000-1830715200@sportundkulturverein.net
SUMMARY:Bowling Stuttgart
DESCRIPTION:Beim Bowling gibt es keine signifikanten körperlichen Einschränkungen für die Spieler \, sodass sowohl jüngere als auch ältere Spieler gegeneinander antreten können. Durch den schnellen Spielerwechsel auf der Bahn ist das Spiel spannend und dynamisch\, da die Spieler ihre aktuellen Ergebnisse und Punktegewinne miteinander vergleichen können. \nEs handelt sich um einen bequemen und sicheren Sport\, der dank der Tatsache\, dass seine Spiele in Innenräumen ausgetragen werden\, unabhängig von möglichen schlechten Wetterbedingungen ist. \nDie Bowling-Gruppe Stuttgart trifft sich regelmäßig zum gemeinsamen Spiel.\nAn den Terminen sind jeweils 2 Bahnen reserviert und es wird auch mit und gegen andere Clubs gespielt. \nNeue Mitspieler sind jederzeit willkommen! \n 
URL:https://sportundkulturverein.net/veranstaltung/bowling-stuttgart/2028-01-05/
LOCATION:Bowling Arena Stuttgart\, Am Sportpark 9\, Stuttgart\, 70469
CATEGORIES:Sport
ATTACH;FMTTYPE=image/webp:https://sportundkulturverein.net/wp-content/uploads/2021/08/Bowling_P1030537-2560x1920-1920w.webp
ORGANIZER;CN="Uwe Schickle":MAILTO:bsg.gelbebengel@kabelbw.de
END:VEVENT
BEGIN:VEVENT
DTSTART;TZID=Europe/Berlin:20280112T180000
DTEND;TZID=Europe/Berlin:20280112T200000
DTSTAMP:20260421T025522
CREATED:20250511T152129Z
LAST-MODIFIED:20250511T152129Z
UID:10001527-1831312800-1831320000@sportundkulturverein.net
SUMMARY:Bowling Stuttgart
DESCRIPTION:Beim Bowling gibt es keine signifikanten körperlichen Einschränkungen für die Spieler \, sodass sowohl jüngere als auch ältere Spieler gegeneinander antreten können. Durch den schnellen Spielerwechsel auf der Bahn ist das Spiel spannend und dynamisch\, da die Spieler ihre aktuellen Ergebnisse und Punktegewinne miteinander vergleichen können. \nEs handelt sich um einen bequemen und sicheren Sport\, der dank der Tatsache\, dass seine Spiele in Innenräumen ausgetragen werden\, unabhängig von möglichen schlechten Wetterbedingungen ist. \nDie Bowling-Gruppe Stuttgart trifft sich regelmäßig zum gemeinsamen Spiel.\nAn den Terminen sind jeweils 2 Bahnen reserviert und es wird auch mit und gegen andere Clubs gespielt. \nNeue Mitspieler sind jederzeit willkommen! \n 
URL:https://sportundkulturverein.net/veranstaltung/bowling-stuttgart/2028-01-12/
LOCATION:Bowling Arena Stuttgart\, Am Sportpark 9\, Stuttgart\, 70469
CATEGORIES:Sport
ATTACH;FMTTYPE=image/webp:https://sportundkulturverein.net/wp-content/uploads/2021/08/Bowling_P1030537-2560x1920-1920w.webp
ORGANIZER;CN="Uwe Schickle":MAILTO:bsg.gelbebengel@kabelbw.de
END:VEVENT
BEGIN:VEVENT
DTSTART;TZID=Europe/Berlin:20280119T180000
DTEND;TZID=Europe/Berlin:20280119T200000
DTSTAMP:20260421T025522
CREATED:20250511T152129Z
LAST-MODIFIED:20250511T152129Z
UID:10001528-1831917600-1831924800@sportundkulturverein.net
SUMMARY:Bowling Stuttgart
DESCRIPTION:Beim Bowling gibt es keine signifikanten körperlichen Einschränkungen für die Spieler \, sodass sowohl jüngere als auch ältere Spieler gegeneinander antreten können. Durch den schnellen Spielerwechsel auf der Bahn ist das Spiel spannend und dynamisch\, da die Spieler ihre aktuellen Ergebnisse und Punktegewinne miteinander vergleichen können. \nEs handelt sich um einen bequemen und sicheren Sport\, der dank der Tatsache\, dass seine Spiele in Innenräumen ausgetragen werden\, unabhängig von möglichen schlechten Wetterbedingungen ist. \nDie Bowling-Gruppe Stuttgart trifft sich regelmäßig zum gemeinsamen Spiel.\nAn den Terminen sind jeweils 2 Bahnen reserviert und es wird auch mit und gegen andere Clubs gespielt. \nNeue Mitspieler sind jederzeit willkommen! \n 
URL:https://sportundkulturverein.net/veranstaltung/bowling-stuttgart/2028-01-19/
LOCATION:Bowling Arena Stuttgart\, Am Sportpark 9\, Stuttgart\, 70469
CATEGORIES:Sport
ATTACH;FMTTYPE=image/webp:https://sportundkulturverein.net/wp-content/uploads/2021/08/Bowling_P1030537-2560x1920-1920w.webp
ORGANIZER;CN="Uwe Schickle":MAILTO:bsg.gelbebengel@kabelbw.de
END:VEVENT
BEGIN:VEVENT
DTSTART;TZID=Europe/Berlin:20280126T180000
DTEND;TZID=Europe/Berlin:20280126T200000
DTSTAMP:20260421T025522
CREATED:20250511T152129Z
LAST-MODIFIED:20250511T152129Z
UID:10001529-1832522400-1832529600@sportundkulturverein.net
SUMMARY:Bowling Stuttgart
DESCRIPTION:Beim Bowling gibt es keine signifikanten körperlichen Einschränkungen für die Spieler \, sodass sowohl jüngere als auch ältere Spieler gegeneinander antreten können. Durch den schnellen Spielerwechsel auf der Bahn ist das Spiel spannend und dynamisch\, da die Spieler ihre aktuellen Ergebnisse und Punktegewinne miteinander vergleichen können. \nEs handelt sich um einen bequemen und sicheren Sport\, der dank der Tatsache\, dass seine Spiele in Innenräumen ausgetragen werden\, unabhängig von möglichen schlechten Wetterbedingungen ist. \nDie Bowling-Gruppe Stuttgart trifft sich regelmäßig zum gemeinsamen Spiel.\nAn den Terminen sind jeweils 2 Bahnen reserviert und es wird auch mit und gegen andere Clubs gespielt. \nNeue Mitspieler sind jederzeit willkommen! \n 
URL:https://sportundkulturverein.net/veranstaltung/bowling-stuttgart/2028-01-26/
LOCATION:Bowling Arena Stuttgart\, Am Sportpark 9\, Stuttgart\, 70469
CATEGORIES:Sport
ATTACH;FMTTYPE=image/webp:https://sportundkulturverein.net/wp-content/uploads/2021/08/Bowling_P1030537-2560x1920-1920w.webp
ORGANIZER;CN="Uwe Schickle":MAILTO:bsg.gelbebengel@kabelbw.de
END:VEVENT
END:VCALENDAR