BEGIN:VCALENDAR
VERSION:2.0
PRODID:-//ADAC Sport- und Kulturverein e.V - ECPv6.11.2//NONSGML v1.0//EN
CALSCALE:GREGORIAN
METHOD:PUBLISH
X-ORIGINAL-URL:https://sportundkulturverein.net
X-WR-CALDESC:Veranstaltungen für ADAC Sport- und Kulturverein e.V
REFRESH-INTERVAL;VALUE=DURATION:PT1H
X-Robots-Tag:noindex
X-PUBLISHED-TTL:PT1H
BEGIN:VTIMEZONE
TZID:Europe/Berlin
BEGIN:DAYLIGHT
TZOFFSETFROM:+0100
TZOFFSETTO:+0200
TZNAME:CEST
DTSTART:20260329T010000
END:DAYLIGHT
BEGIN:STANDARD
TZOFFSETFROM:+0200
TZOFFSETTO:+0100
TZNAME:CET
DTSTART:20261025T010000
END:STANDARD
END:VTIMEZONE
BEGIN:VEVENT
DTSTART;VALUE=DATE:20260516
DTEND;VALUE=DATE:20260517
DTSTAMP:20260423T070643
CREATED:20260422T123644Z
LAST-MODIFIED:20260422T123644Z
UID:10006672-1778889600-1778975999@sportundkulturverein.net
SUMMARY:INGEAR in Bewegung Spendenlauf (Charity Lauf)
DESCRIPTION:https://ingear.de/de/spenden/in-bewegung\nOrt: Stadion an der Birkenallee\, Eggenfelden\nStrecken: 6-Stunden-Lauf
URL:https://sportundkulturverein.net/veranstaltung/ingear-in-bewegung-spendenlauf-charity-lauf/
LOCATION:Stadion an der Birkenallee\, Eggenfelden\, Eggenfelden\, Germany
CATEGORIES:Sport
ORGANIZER;CN="Stephan Reinberger":MAILTO:stephan.reinberger@adac.de
END:VEVENT
END:VCALENDAR