BEGIN:VCALENDAR
VERSION:2.0
PRODID:-//ADAC Sport- und Kulturverein e.V - ECPv6.11.2//NONSGML v1.0//EN
CALSCALE:GREGORIAN
METHOD:PUBLISH
X-ORIGINAL-URL:https://sportundkulturverein.net
X-WR-CALDESC:Veranstaltungen für ADAC Sport- und Kulturverein e.V
REFRESH-INTERVAL;VALUE=DURATION:PT1H
X-Robots-Tag:noindex
X-PUBLISHED-TTL:PT1H
BEGIN:VTIMEZONE
TZID:Europe/Berlin
BEGIN:DAYLIGHT
TZOFFSETFROM:+0100
TZOFFSETTO:+0200
TZNAME:CEST
DTSTART:20260329T010000
END:DAYLIGHT
BEGIN:STANDARD
TZOFFSETFROM:+0200
TZOFFSETTO:+0100
TZNAME:CET
DTSTART:20261025T010000
END:STANDARD
END:VTIMEZONE
BEGIN:VEVENT
DTSTART;VALUE=DATE:20260705
DTEND;VALUE=DATE:20260706
DTSTAMP:20260423T122638
CREATED:20260422T124011Z
LAST-MODIFIED:20260422T124011Z
UID:10006675-1783209600-1783295999@sportundkulturverein.net
SUMMARY:Sportscheck Run
DESCRIPTION:https://www.sportscheck.com/laufen/ausruestung/erlebnisse/events/anbieter-sportscheck–stadt-muench…\nOrt: München\nStrecken: 5 km\, 10 km\, Halbmarathon\n(ADAC Sport- und Kulturverein übernimmt Startgebühr)
URL:https://sportundkulturverein.net/veranstaltung/sportscheck-run-2/
LOCATION:München\, München\, Germany
CATEGORIES:Sport
ORGANIZER;CN="Stephan Reinberger":MAILTO:stephan.reinberger@adac.de
END:VEVENT
END:VCALENDAR