BEGIN:VCALENDAR
VERSION:2.0
PRODID:-//ADAC Sport- und Kulturverein e.V - ECPv6.11.2//NONSGML v1.0//EN
CALSCALE:GREGORIAN
METHOD:PUBLISH
X-WR-CALNAME:ADAC Sport- und Kulturverein e.V
X-ORIGINAL-URL:https://sportundkulturverein.net
X-WR-CALDESC:Veranstaltungen für ADAC Sport- und Kulturverein e.V
REFRESH-INTERVAL;VALUE=DURATION:PT1H
X-Robots-Tag:noindex
X-PUBLISHED-TTL:PT1H
BEGIN:VTIMEZONE
TZID:Europe/Berlin
BEGIN:DAYLIGHT
TZOFFSETFROM:+0100
TZOFFSETTO:+0200
TZNAME:CEST
DTSTART:20250330T010000
END:DAYLIGHT
BEGIN:STANDARD
TZOFFSETFROM:+0200
TZOFFSETTO:+0100
TZNAME:CET
DTSTART:20251026T010000
END:STANDARD
END:VTIMEZONE
BEGIN:VEVENT
DTSTART;TZID=Europe/Berlin:20250720T060000
DTEND;TZID=Europe/Berlin:20250720T180000
DTSTAMP:20260419T223906
CREATED:20250618T123800Z
LAST-MODIFIED:20250618T124125Z
UID:10003606-1752991200-1753034400@sportundkulturverein.net
SUMMARY:Pfaffenwinkelradrundfahrt 2025
DESCRIPTION:Am Sonntag\, 20.07.2025 findet in Peiting die Pfaffenwinkelradrundfahrt 2025 statt. \nAlle Informationen findet Ihr in u.a. Link. \nStart / Ziel: Dreifachturnhalle TSV Peiting\, Alfons-Peter-Str. 10\, 86971 Peiting
URL:https://sportundkulturverein.net/veranstaltung/25-jura-radmarathon-2025/
LOCATION:Dreifachturnhalle TSV Peiting\, Alfons-Peter-Str. 10\, Peiting\, 86971
CATEGORIES:Sport
ORGANIZER;CN="Burkhard Schneider":MAILTO:burkhard.schneider@luftrettung.adac.de
END:VEVENT
END:VCALENDAR