BEGIN:VCALENDAR
VERSION:2.0
PRODID:-//ADAC Sport- und Kulturverein e.V - ECPv6.11.2//NONSGML v1.0//EN
CALSCALE:GREGORIAN
METHOD:PUBLISH
X-WR-CALNAME:ADAC Sport- und Kulturverein e.V
X-ORIGINAL-URL:https://sportundkulturverein.net
X-WR-CALDESC:Veranstaltungen für ADAC Sport- und Kulturverein e.V
REFRESH-INTERVAL;VALUE=DURATION:PT1H
X-Robots-Tag:noindex
X-PUBLISHED-TTL:PT1H
BEGIN:VTIMEZONE
TZID:Europe/Berlin
BEGIN:DAYLIGHT
TZOFFSETFROM:+0100
TZOFFSETTO:+0200
TZNAME:CEST
DTSTART:20260329T010000
END:DAYLIGHT
BEGIN:STANDARD
TZOFFSETFROM:+0200
TZOFFSETTO:+0100
TZNAME:CET
DTSTART:20261025T010000
END:STANDARD
END:VTIMEZONE
BEGIN:VEVENT
DTSTART;TZID=Europe/Berlin:20260603T171500
DTEND;TZID=Europe/Berlin:20260603T180000
DTSTAMP:20260419T210014
CREATED:20250512T171522Z
LAST-MODIFIED:20250512T171751Z
UID:10002780-1780506900-1780509600@sportundkulturverein.net
SUMMARY:Laufgruppe
DESCRIPTION:Seit Sommer 2022 besteht die ADAC-Laufgruppe und ruft einmal wöchentlich zur entspannten Feierabendrunde durch den Westpark auf. \nZeit und Treffpunkt:\njeden Mittwoch um 17:15 Uhr auf dem kleinen Parkplatz vor dem Haupteingang der Zentrale oder bei kalter Witterung innen im Foyer.\nDie Laufrunde führt einmal durch den Westpark und endet – nach 6\,7 km oder etwa 45 Minuten – wieder an der Zentrale. \nTeilnehmer:\nFrauen und Männer\, die ca. 7 km am Stück in einem Tempo zwischen 6:00 und 7:30 min/km Pace laufen können. Bei unterschiedlichen Tempi bilden sich auch gerne mal mehrere Kleingruppen\, aber grundsätzlich wird niemand alleine gelassen.
URL:https://sportundkulturverein.net/veranstaltung/laufgruppe-2/2026-06-03/
LOCATION:Westpark\, München
CATEGORIES:Sport
ATTACH;FMTTYPE=image/jpeg:https://sportundkulturverein.net/wp-content/uploads/2024/02/Laufgruppe-Teamfoto-scaled.jpg
ORGANIZER;CN="Stephan Reinberger":MAILTO:stephan.reinberger@adac.de
END:VEVENT
BEGIN:VEVENT
DTSTART;TZID=Europe/Berlin:20260610T171500
DTEND;TZID=Europe/Berlin:20260610T180000
DTSTAMP:20260419T210014
CREATED:20250512T171522Z
LAST-MODIFIED:20250512T171751Z
UID:10002781-1781111700-1781114400@sportundkulturverein.net
SUMMARY:Laufgruppe
DESCRIPTION:Seit Sommer 2022 besteht die ADAC-Laufgruppe und ruft einmal wöchentlich zur entspannten Feierabendrunde durch den Westpark auf. \nZeit und Treffpunkt:\njeden Mittwoch um 17:15 Uhr auf dem kleinen Parkplatz vor dem Haupteingang der Zentrale oder bei kalter Witterung innen im Foyer.\nDie Laufrunde führt einmal durch den Westpark und endet – nach 6\,7 km oder etwa 45 Minuten – wieder an der Zentrale. \nTeilnehmer:\nFrauen und Männer\, die ca. 7 km am Stück in einem Tempo zwischen 6:00 und 7:30 min/km Pace laufen können. Bei unterschiedlichen Tempi bilden sich auch gerne mal mehrere Kleingruppen\, aber grundsätzlich wird niemand alleine gelassen.
URL:https://sportundkulturverein.net/veranstaltung/laufgruppe-2/2026-06-10/
LOCATION:Westpark\, München
CATEGORIES:Sport
ATTACH;FMTTYPE=image/jpeg:https://sportundkulturverein.net/wp-content/uploads/2024/02/Laufgruppe-Teamfoto-scaled.jpg
ORGANIZER;CN="Stephan Reinberger":MAILTO:stephan.reinberger@adac.de
END:VEVENT
BEGIN:VEVENT
DTSTART;TZID=Europe/Berlin:20260617T171500
DTEND;TZID=Europe/Berlin:20260617T180000
DTSTAMP:20260419T210014
CREATED:20250512T171522Z
LAST-MODIFIED:20250512T171751Z
UID:10002782-1781716500-1781719200@sportundkulturverein.net
SUMMARY:Laufgruppe
DESCRIPTION:Seit Sommer 2022 besteht die ADAC-Laufgruppe und ruft einmal wöchentlich zur entspannten Feierabendrunde durch den Westpark auf. \nZeit und Treffpunkt:\njeden Mittwoch um 17:15 Uhr auf dem kleinen Parkplatz vor dem Haupteingang der Zentrale oder bei kalter Witterung innen im Foyer.\nDie Laufrunde führt einmal durch den Westpark und endet – nach 6\,7 km oder etwa 45 Minuten – wieder an der Zentrale. \nTeilnehmer:\nFrauen und Männer\, die ca. 7 km am Stück in einem Tempo zwischen 6:00 und 7:30 min/km Pace laufen können. Bei unterschiedlichen Tempi bilden sich auch gerne mal mehrere Kleingruppen\, aber grundsätzlich wird niemand alleine gelassen.
URL:https://sportundkulturverein.net/veranstaltung/laufgruppe-2/2026-06-17/
LOCATION:Westpark\, München
CATEGORIES:Sport
ATTACH;FMTTYPE=image/jpeg:https://sportundkulturverein.net/wp-content/uploads/2024/02/Laufgruppe-Teamfoto-scaled.jpg
ORGANIZER;CN="Stephan Reinberger":MAILTO:stephan.reinberger@adac.de
END:VEVENT
BEGIN:VEVENT
DTSTART;TZID=Europe/Berlin:20260624T171500
DTEND;TZID=Europe/Berlin:20260624T180000
DTSTAMP:20260419T210014
CREATED:20250512T171522Z
LAST-MODIFIED:20250512T171751Z
UID:10002783-1782321300-1782324000@sportundkulturverein.net
SUMMARY:Laufgruppe
DESCRIPTION:Seit Sommer 2022 besteht die ADAC-Laufgruppe und ruft einmal wöchentlich zur entspannten Feierabendrunde durch den Westpark auf. \nZeit und Treffpunkt:\njeden Mittwoch um 17:15 Uhr auf dem kleinen Parkplatz vor dem Haupteingang der Zentrale oder bei kalter Witterung innen im Foyer.\nDie Laufrunde führt einmal durch den Westpark und endet – nach 6\,7 km oder etwa 45 Minuten – wieder an der Zentrale. \nTeilnehmer:\nFrauen und Männer\, die ca. 7 km am Stück in einem Tempo zwischen 6:00 und 7:30 min/km Pace laufen können. Bei unterschiedlichen Tempi bilden sich auch gerne mal mehrere Kleingruppen\, aber grundsätzlich wird niemand alleine gelassen.
URL:https://sportundkulturverein.net/veranstaltung/laufgruppe-2/2026-06-24/
LOCATION:Westpark\, München
CATEGORIES:Sport
ATTACH;FMTTYPE=image/jpeg:https://sportundkulturverein.net/wp-content/uploads/2024/02/Laufgruppe-Teamfoto-scaled.jpg
ORGANIZER;CN="Stephan Reinberger":MAILTO:stephan.reinberger@adac.de
END:VEVENT
END:VCALENDAR