BEGIN:VCALENDAR
VERSION:2.0
PRODID:-//ADAC Sport- und Kulturverein e.V - ECPv6.11.2//NONSGML v1.0//EN
CALSCALE:GREGORIAN
METHOD:PUBLISH
X-WR-CALNAME:ADAC Sport- und Kulturverein e.V
X-ORIGINAL-URL:https://sportundkulturverein.net
X-WR-CALDESC:Veranstaltungen für ADAC Sport- und Kulturverein e.V
REFRESH-INTERVAL;VALUE=DURATION:PT1H
X-Robots-Tag:noindex
X-PUBLISHED-TTL:PT1H
BEGIN:VTIMEZONE
TZID:Europe/Berlin
BEGIN:DAYLIGHT
TZOFFSETFROM:+0100
TZOFFSETTO:+0200
TZNAME:CEST
DTSTART:20260329T010000
END:DAYLIGHT
BEGIN:STANDARD
TZOFFSETFROM:+0200
TZOFFSETTO:+0100
TZNAME:CET
DTSTART:20261025T010000
END:STANDARD
END:VTIMEZONE
BEGIN:VEVENT
DTSTART;TZID=Europe/Berlin:20260701T183000
DTEND;TZID=Europe/Berlin:20260701T200000
DTSTAMP:20260421T034844
CREATED:20250808T182252Z
LAST-MODIFIED:20260420T164736Z
UID:10006103-1782930600-1782936000@sportundkulturverein.net
SUMMARY:Bachata oder Latin Fusion – Lady Styling für Frauen
DESCRIPTION:Dance Classes with Masha\nIn diesem Kurs konzentrieren wir uns auf Lady Styling im Bachata oder Latin Fusion Stil – Ausdruck\, Eleganz und feminine Bewegungsqualität in leidenschaftlichen Social Latin Tänzen. \nDer Kurs verbindet Technik\, tänzerische Freiheit und Selbstbewusstsein und schafft einen Raum für Leidenschaft\, Weiblichkeit und stärkende weibliche Energie auf der Tanzfläche. \nDer Kurs ist geeignet für Anfängerinnen sowie Tänzerinnen mit Vorkenntnissen.
URL:https://sportundkulturverein.net/veranstaltung/batchata-lady-styling/2026-07-01/
LOCATION:Betriebssportraum D 0162
CATEGORIES:Sport
ORGANIZER;CN="Renate Holler":MAILTO:renate.holler@adac.de
END:VEVENT
BEGIN:VEVENT
DTSTART;TZID=Europe/Berlin:20260707T193000
DTEND;TZID=Europe/Berlin:20260707T213000
DTSTAMP:20260421T034844
CREATED:20251017T152739Z
LAST-MODIFIED:20260420T164648Z
UID:10005775-1783452600-1783459800@sportundkulturverein.net
SUMMARY:Bachata Choreographie
DESCRIPTION:Dance Classes with Masha\nIn diesem Kurs konzentrieren wir uns auf Lady Styling im Bachata oder Latin Fusion Stil – Ausdruck\, Eleganz und feminine Bewegungsqualität in leidenschaftlichen Social Latin Tänzen. \nDer Kurs verbindet Technik\, tänzerische Freiheit und Selbstbewusstsein und schafft einen Raum für Leidenschaft\, Weiblichkeit und stärkende weibliche Energie auf der Tanzfläche. \nDer Kurs ist geeignet für Anfängerinnen sowie Tänzerinnen mit Vorkenntnissen.
URL:https://sportundkulturverein.net/veranstaltung/bachata-choreographie/2026-07-07/
LOCATION:Betriebssportraum D 0162
CATEGORIES:Sport
ORGANIZER;CN="Mariia (Masha) Stankevych":MAILTO:mariia.stankevych@tum.de
END:VEVENT
BEGIN:VEVENT
DTSTART;TZID=Europe/Berlin:20260708T183000
DTEND;TZID=Europe/Berlin:20260708T200000
DTSTAMP:20260421T034844
CREATED:20250808T182252Z
LAST-MODIFIED:20260420T164736Z
UID:10006104-1783535400-1783540800@sportundkulturverein.net
SUMMARY:Bachata oder Latin Fusion – Lady Styling für Frauen
DESCRIPTION:Dance Classes with Masha\nIn diesem Kurs konzentrieren wir uns auf Lady Styling im Bachata oder Latin Fusion Stil – Ausdruck\, Eleganz und feminine Bewegungsqualität in leidenschaftlichen Social Latin Tänzen. \nDer Kurs verbindet Technik\, tänzerische Freiheit und Selbstbewusstsein und schafft einen Raum für Leidenschaft\, Weiblichkeit und stärkende weibliche Energie auf der Tanzfläche. \nDer Kurs ist geeignet für Anfängerinnen sowie Tänzerinnen mit Vorkenntnissen.
URL:https://sportundkulturverein.net/veranstaltung/batchata-lady-styling/2026-07-08/
LOCATION:Betriebssportraum D 0162
CATEGORIES:Sport
ORGANIZER;CN="Renate Holler":MAILTO:renate.holler@adac.de
END:VEVENT
BEGIN:VEVENT
DTSTART;TZID=Europe/Berlin:20260714T193000
DTEND;TZID=Europe/Berlin:20260714T213000
DTSTAMP:20260421T034844
CREATED:20251017T152739Z
LAST-MODIFIED:20260420T164648Z
UID:10005776-1784057400-1784064600@sportundkulturverein.net
SUMMARY:Bachata Choreographie
DESCRIPTION:Dance Classes with Masha\nIn diesem Kurs konzentrieren wir uns auf Lady Styling im Bachata oder Latin Fusion Stil – Ausdruck\, Eleganz und feminine Bewegungsqualität in leidenschaftlichen Social Latin Tänzen. \nDer Kurs verbindet Technik\, tänzerische Freiheit und Selbstbewusstsein und schafft einen Raum für Leidenschaft\, Weiblichkeit und stärkende weibliche Energie auf der Tanzfläche. \nDer Kurs ist geeignet für Anfängerinnen sowie Tänzerinnen mit Vorkenntnissen.
URL:https://sportundkulturverein.net/veranstaltung/bachata-choreographie/2026-07-14/
LOCATION:Betriebssportraum D 0162
CATEGORIES:Sport
ORGANIZER;CN="Mariia (Masha) Stankevych":MAILTO:mariia.stankevych@tum.de
END:VEVENT
BEGIN:VEVENT
DTSTART;TZID=Europe/Berlin:20260715T183000
DTEND;TZID=Europe/Berlin:20260715T200000
DTSTAMP:20260421T034844
CREATED:20250808T182252Z
LAST-MODIFIED:20260420T164736Z
UID:10006105-1784140200-1784145600@sportundkulturverein.net
SUMMARY:Bachata oder Latin Fusion – Lady Styling für Frauen
DESCRIPTION:Dance Classes with Masha\nIn diesem Kurs konzentrieren wir uns auf Lady Styling im Bachata oder Latin Fusion Stil – Ausdruck\, Eleganz und feminine Bewegungsqualität in leidenschaftlichen Social Latin Tänzen. \nDer Kurs verbindet Technik\, tänzerische Freiheit und Selbstbewusstsein und schafft einen Raum für Leidenschaft\, Weiblichkeit und stärkende weibliche Energie auf der Tanzfläche. \nDer Kurs ist geeignet für Anfängerinnen sowie Tänzerinnen mit Vorkenntnissen.
URL:https://sportundkulturverein.net/veranstaltung/batchata-lady-styling/2026-07-15/
LOCATION:Betriebssportraum D 0162
CATEGORIES:Sport
ORGANIZER;CN="Renate Holler":MAILTO:renate.holler@adac.de
END:VEVENT
BEGIN:VEVENT
DTSTART;TZID=Europe/Berlin:20260721T193000
DTEND;TZID=Europe/Berlin:20260721T213000
DTSTAMP:20260421T034844
CREATED:20251017T152739Z
LAST-MODIFIED:20260420T164648Z
UID:10005777-1784662200-1784669400@sportundkulturverein.net
SUMMARY:Bachata Choreographie
DESCRIPTION:Dance Classes with Masha\nIn diesem Kurs konzentrieren wir uns auf Lady Styling im Bachata oder Latin Fusion Stil – Ausdruck\, Eleganz und feminine Bewegungsqualität in leidenschaftlichen Social Latin Tänzen. \nDer Kurs verbindet Technik\, tänzerische Freiheit und Selbstbewusstsein und schafft einen Raum für Leidenschaft\, Weiblichkeit und stärkende weibliche Energie auf der Tanzfläche. \nDer Kurs ist geeignet für Anfängerinnen sowie Tänzerinnen mit Vorkenntnissen.
URL:https://sportundkulturverein.net/veranstaltung/bachata-choreographie/2026-07-21/
LOCATION:Betriebssportraum D 0162
CATEGORIES:Sport
ORGANIZER;CN="Mariia (Masha) Stankevych":MAILTO:mariia.stankevych@tum.de
END:VEVENT
BEGIN:VEVENT
DTSTART;TZID=Europe/Berlin:20260722T183000
DTEND;TZID=Europe/Berlin:20260722T200000
DTSTAMP:20260421T034844
CREATED:20250808T182252Z
LAST-MODIFIED:20260420T164736Z
UID:10006106-1784745000-1784750400@sportundkulturverein.net
SUMMARY:Bachata oder Latin Fusion – Lady Styling für Frauen
DESCRIPTION:Dance Classes with Masha\nIn diesem Kurs konzentrieren wir uns auf Lady Styling im Bachata oder Latin Fusion Stil – Ausdruck\, Eleganz und feminine Bewegungsqualität in leidenschaftlichen Social Latin Tänzen. \nDer Kurs verbindet Technik\, tänzerische Freiheit und Selbstbewusstsein und schafft einen Raum für Leidenschaft\, Weiblichkeit und stärkende weibliche Energie auf der Tanzfläche. \nDer Kurs ist geeignet für Anfängerinnen sowie Tänzerinnen mit Vorkenntnissen.
URL:https://sportundkulturverein.net/veranstaltung/batchata-lady-styling/2026-07-22/
LOCATION:Betriebssportraum D 0162
CATEGORIES:Sport
ORGANIZER;CN="Renate Holler":MAILTO:renate.holler@adac.de
END:VEVENT
BEGIN:VEVENT
DTSTART;TZID=Europe/Berlin:20260728T193000
DTEND;TZID=Europe/Berlin:20260728T213000
DTSTAMP:20260421T034844
CREATED:20251017T152739Z
LAST-MODIFIED:20260420T164648Z
UID:10005778-1785267000-1785274200@sportundkulturverein.net
SUMMARY:Bachata Choreographie
DESCRIPTION:Dance Classes with Masha\nIn diesem Kurs konzentrieren wir uns auf Lady Styling im Bachata oder Latin Fusion Stil – Ausdruck\, Eleganz und feminine Bewegungsqualität in leidenschaftlichen Social Latin Tänzen. \nDer Kurs verbindet Technik\, tänzerische Freiheit und Selbstbewusstsein und schafft einen Raum für Leidenschaft\, Weiblichkeit und stärkende weibliche Energie auf der Tanzfläche. \nDer Kurs ist geeignet für Anfängerinnen sowie Tänzerinnen mit Vorkenntnissen.
URL:https://sportundkulturverein.net/veranstaltung/bachata-choreographie/2026-07-28/
LOCATION:Betriebssportraum D 0162
CATEGORIES:Sport
ORGANIZER;CN="Mariia (Masha) Stankevych":MAILTO:mariia.stankevych@tum.de
END:VEVENT
BEGIN:VEVENT
DTSTART;TZID=Europe/Berlin:20260729T183000
DTEND;TZID=Europe/Berlin:20260729T200000
DTSTAMP:20260421T034844
CREATED:20250808T182252Z
LAST-MODIFIED:20260420T164736Z
UID:10006107-1785349800-1785355200@sportundkulturverein.net
SUMMARY:Bachata oder Latin Fusion – Lady Styling für Frauen
DESCRIPTION:Dance Classes with Masha\nIn diesem Kurs konzentrieren wir uns auf Lady Styling im Bachata oder Latin Fusion Stil – Ausdruck\, Eleganz und feminine Bewegungsqualität in leidenschaftlichen Social Latin Tänzen. \nDer Kurs verbindet Technik\, tänzerische Freiheit und Selbstbewusstsein und schafft einen Raum für Leidenschaft\, Weiblichkeit und stärkende weibliche Energie auf der Tanzfläche. \nDer Kurs ist geeignet für Anfängerinnen sowie Tänzerinnen mit Vorkenntnissen.
URL:https://sportundkulturverein.net/veranstaltung/batchata-lady-styling/2026-07-29/
LOCATION:Betriebssportraum D 0162
CATEGORIES:Sport
ORGANIZER;CN="Renate Holler":MAILTO:renate.holler@adac.de
END:VEVENT
END:VCALENDAR