BEGIN:VCALENDAR
VERSION:2.0
PRODID:-//ADAC Sport- und Kulturverein e.V - ECPv6.11.2//NONSGML v1.0//EN
CALSCALE:GREGORIAN
METHOD:PUBLISH
X-ORIGINAL-URL:https://sportundkulturverein.net
X-WR-CALDESC:Veranstaltungen für ADAC Sport- und Kulturverein e.V
REFRESH-INTERVAL;VALUE=DURATION:PT1H
X-Robots-Tag:noindex
X-PUBLISHED-TTL:PT1H
BEGIN:VTIMEZONE
TZID:Europe/Berlin
BEGIN:DAYLIGHT
TZOFFSETFROM:+0100
TZOFFSETTO:+0200
TZNAME:CEST
DTSTART:20260329T010000
END:DAYLIGHT
BEGIN:STANDARD
TZOFFSETFROM:+0200
TZOFFSETTO:+0100
TZNAME:CET
DTSTART:20261025T010000
END:STANDARD
END:VTIMEZONE
BEGIN:VEVENT
DTSTART;TZID=Europe/Berlin:20260602T193000
DTEND;TZID=Europe/Berlin:20260602T213000
DTSTAMP:20260421T022032
CREATED:20251017T152739Z
LAST-MODIFIED:20260420T164648Z
UID:10005770-1780428600-1780435800@sportundkulturverein.net
SUMMARY:Bachata Choreographie
DESCRIPTION:Dance Classes with Masha\nIn diesem Kurs konzentrieren wir uns auf Lady Styling im Bachata oder Latin Fusion Stil – Ausdruck\, Eleganz und feminine Bewegungsqualität in leidenschaftlichen Social Latin Tänzen. \nDer Kurs verbindet Technik\, tänzerische Freiheit und Selbstbewusstsein und schafft einen Raum für Leidenschaft\, Weiblichkeit und stärkende weibliche Energie auf der Tanzfläche. \nDer Kurs ist geeignet für Anfängerinnen sowie Tänzerinnen mit Vorkenntnissen.
URL:https://sportundkulturverein.net/veranstaltung/bachata-choreographie/2026-06-02/
LOCATION:Betriebssportraum D 0162
CATEGORIES:Sport
ORGANIZER;CN="Mariia (Masha) Stankevych":MAILTO:mariia.stankevych@tum.de
END:VEVENT
BEGIN:VEVENT
DTSTART;TZID=Europe/Berlin:20260603T183000
DTEND;TZID=Europe/Berlin:20260603T200000
DTSTAMP:20260421T022032
CREATED:20250808T182252Z
LAST-MODIFIED:20260420T164736Z
UID:10006099-1780511400-1780516800@sportundkulturverein.net
SUMMARY:Bachata oder Latin Fusion – Lady Styling für Frauen
DESCRIPTION:Dance Classes with Masha\nIn diesem Kurs konzentrieren wir uns auf Lady Styling im Bachata oder Latin Fusion Stil – Ausdruck\, Eleganz und feminine Bewegungsqualität in leidenschaftlichen Social Latin Tänzen. \nDer Kurs verbindet Technik\, tänzerische Freiheit und Selbstbewusstsein und schafft einen Raum für Leidenschaft\, Weiblichkeit und stärkende weibliche Energie auf der Tanzfläche. \nDer Kurs ist geeignet für Anfängerinnen sowie Tänzerinnen mit Vorkenntnissen.
URL:https://sportundkulturverein.net/veranstaltung/batchata-lady-styling/2026-06-03/
LOCATION:Betriebssportraum D 0162
CATEGORIES:Sport
ORGANIZER;CN="Renate Holler":MAILTO:renate.holler@adac.de
END:VEVENT
BEGIN:VEVENT
DTSTART;TZID=Europe/Berlin:20260609T193000
DTEND;TZID=Europe/Berlin:20260609T213000
DTSTAMP:20260421T022032
CREATED:20251017T152739Z
LAST-MODIFIED:20260420T164648Z
UID:10005771-1781033400-1781040600@sportundkulturverein.net
SUMMARY:Bachata Choreographie
DESCRIPTION:Dance Classes with Masha\nIn diesem Kurs konzentrieren wir uns auf Lady Styling im Bachata oder Latin Fusion Stil – Ausdruck\, Eleganz und feminine Bewegungsqualität in leidenschaftlichen Social Latin Tänzen. \nDer Kurs verbindet Technik\, tänzerische Freiheit und Selbstbewusstsein und schafft einen Raum für Leidenschaft\, Weiblichkeit und stärkende weibliche Energie auf der Tanzfläche. \nDer Kurs ist geeignet für Anfängerinnen sowie Tänzerinnen mit Vorkenntnissen.
URL:https://sportundkulturverein.net/veranstaltung/bachata-choreographie/2026-06-09/
LOCATION:Betriebssportraum D 0162
CATEGORIES:Sport
ORGANIZER;CN="Mariia (Masha) Stankevych":MAILTO:mariia.stankevych@tum.de
END:VEVENT
BEGIN:VEVENT
DTSTART;TZID=Europe/Berlin:20260610T183000
DTEND;TZID=Europe/Berlin:20260610T200000
DTSTAMP:20260421T022032
CREATED:20250808T182252Z
LAST-MODIFIED:20260420T164736Z
UID:10006100-1781116200-1781121600@sportundkulturverein.net
SUMMARY:Bachata oder Latin Fusion – Lady Styling für Frauen
DESCRIPTION:Dance Classes with Masha\nIn diesem Kurs konzentrieren wir uns auf Lady Styling im Bachata oder Latin Fusion Stil – Ausdruck\, Eleganz und feminine Bewegungsqualität in leidenschaftlichen Social Latin Tänzen. \nDer Kurs verbindet Technik\, tänzerische Freiheit und Selbstbewusstsein und schafft einen Raum für Leidenschaft\, Weiblichkeit und stärkende weibliche Energie auf der Tanzfläche. \nDer Kurs ist geeignet für Anfängerinnen sowie Tänzerinnen mit Vorkenntnissen.
URL:https://sportundkulturverein.net/veranstaltung/batchata-lady-styling/2026-06-10/
LOCATION:Betriebssportraum D 0162
CATEGORIES:Sport
ORGANIZER;CN="Renate Holler":MAILTO:renate.holler@adac.de
END:VEVENT
BEGIN:VEVENT
DTSTART;TZID=Europe/Berlin:20260616T193000
DTEND;TZID=Europe/Berlin:20260616T213000
DTSTAMP:20260421T022032
CREATED:20251017T152739Z
LAST-MODIFIED:20260420T164648Z
UID:10005772-1781638200-1781645400@sportundkulturverein.net
SUMMARY:Bachata Choreographie
DESCRIPTION:Dance Classes with Masha\nIn diesem Kurs konzentrieren wir uns auf Lady Styling im Bachata oder Latin Fusion Stil – Ausdruck\, Eleganz und feminine Bewegungsqualität in leidenschaftlichen Social Latin Tänzen. \nDer Kurs verbindet Technik\, tänzerische Freiheit und Selbstbewusstsein und schafft einen Raum für Leidenschaft\, Weiblichkeit und stärkende weibliche Energie auf der Tanzfläche. \nDer Kurs ist geeignet für Anfängerinnen sowie Tänzerinnen mit Vorkenntnissen.
URL:https://sportundkulturverein.net/veranstaltung/bachata-choreographie/2026-06-16/
LOCATION:Betriebssportraum D 0162
CATEGORIES:Sport
ORGANIZER;CN="Mariia (Masha) Stankevych":MAILTO:mariia.stankevych@tum.de
END:VEVENT
BEGIN:VEVENT
DTSTART;TZID=Europe/Berlin:20260617T183000
DTEND;TZID=Europe/Berlin:20260617T200000
DTSTAMP:20260421T022032
CREATED:20250808T182252Z
LAST-MODIFIED:20260420T164736Z
UID:10006101-1781721000-1781726400@sportundkulturverein.net
SUMMARY:Bachata oder Latin Fusion – Lady Styling für Frauen
DESCRIPTION:Dance Classes with Masha\nIn diesem Kurs konzentrieren wir uns auf Lady Styling im Bachata oder Latin Fusion Stil – Ausdruck\, Eleganz und feminine Bewegungsqualität in leidenschaftlichen Social Latin Tänzen. \nDer Kurs verbindet Technik\, tänzerische Freiheit und Selbstbewusstsein und schafft einen Raum für Leidenschaft\, Weiblichkeit und stärkende weibliche Energie auf der Tanzfläche. \nDer Kurs ist geeignet für Anfängerinnen sowie Tänzerinnen mit Vorkenntnissen.
URL:https://sportundkulturverein.net/veranstaltung/batchata-lady-styling/2026-06-17/
LOCATION:Betriebssportraum D 0162
CATEGORIES:Sport
ORGANIZER;CN="Renate Holler":MAILTO:renate.holler@adac.de
END:VEVENT
BEGIN:VEVENT
DTSTART;TZID=Europe/Berlin:20260623T193000
DTEND;TZID=Europe/Berlin:20260623T213000
DTSTAMP:20260421T022032
CREATED:20251017T152739Z
LAST-MODIFIED:20260420T164648Z
UID:10005773-1782243000-1782250200@sportundkulturverein.net
SUMMARY:Bachata Choreographie
DESCRIPTION:Dance Classes with Masha\nIn diesem Kurs konzentrieren wir uns auf Lady Styling im Bachata oder Latin Fusion Stil – Ausdruck\, Eleganz und feminine Bewegungsqualität in leidenschaftlichen Social Latin Tänzen. \nDer Kurs verbindet Technik\, tänzerische Freiheit und Selbstbewusstsein und schafft einen Raum für Leidenschaft\, Weiblichkeit und stärkende weibliche Energie auf der Tanzfläche. \nDer Kurs ist geeignet für Anfängerinnen sowie Tänzerinnen mit Vorkenntnissen.
URL:https://sportundkulturverein.net/veranstaltung/bachata-choreographie/2026-06-23/
LOCATION:Betriebssportraum D 0162
CATEGORIES:Sport
ORGANIZER;CN="Mariia (Masha) Stankevych":MAILTO:mariia.stankevych@tum.de
END:VEVENT
BEGIN:VEVENT
DTSTART;TZID=Europe/Berlin:20260624T183000
DTEND;TZID=Europe/Berlin:20260624T200000
DTSTAMP:20260421T022032
CREATED:20250808T182252Z
LAST-MODIFIED:20260420T164736Z
UID:10006102-1782325800-1782331200@sportundkulturverein.net
SUMMARY:Bachata oder Latin Fusion – Lady Styling für Frauen
DESCRIPTION:Dance Classes with Masha\nIn diesem Kurs konzentrieren wir uns auf Lady Styling im Bachata oder Latin Fusion Stil – Ausdruck\, Eleganz und feminine Bewegungsqualität in leidenschaftlichen Social Latin Tänzen. \nDer Kurs verbindet Technik\, tänzerische Freiheit und Selbstbewusstsein und schafft einen Raum für Leidenschaft\, Weiblichkeit und stärkende weibliche Energie auf der Tanzfläche. \nDer Kurs ist geeignet für Anfängerinnen sowie Tänzerinnen mit Vorkenntnissen.
URL:https://sportundkulturverein.net/veranstaltung/batchata-lady-styling/2026-06-24/
LOCATION:Betriebssportraum D 0162
CATEGORIES:Sport
ORGANIZER;CN="Renate Holler":MAILTO:renate.holler@adac.de
END:VEVENT
BEGIN:VEVENT
DTSTART;TZID=Europe/Berlin:20260630T193000
DTEND;TZID=Europe/Berlin:20260630T213000
DTSTAMP:20260421T022032
CREATED:20251017T152739Z
LAST-MODIFIED:20260420T164648Z
UID:10005774-1782847800-1782855000@sportundkulturverein.net
SUMMARY:Bachata Choreographie
DESCRIPTION:Dance Classes with Masha\nIn diesem Kurs konzentrieren wir uns auf Lady Styling im Bachata oder Latin Fusion Stil – Ausdruck\, Eleganz und feminine Bewegungsqualität in leidenschaftlichen Social Latin Tänzen. \nDer Kurs verbindet Technik\, tänzerische Freiheit und Selbstbewusstsein und schafft einen Raum für Leidenschaft\, Weiblichkeit und stärkende weibliche Energie auf der Tanzfläche. \nDer Kurs ist geeignet für Anfängerinnen sowie Tänzerinnen mit Vorkenntnissen.
URL:https://sportundkulturverein.net/veranstaltung/bachata-choreographie/2026-06-30/
LOCATION:Betriebssportraum D 0162
CATEGORIES:Sport
ORGANIZER;CN="Mariia (Masha) Stankevych":MAILTO:mariia.stankevych@tum.de
END:VEVENT
END:VCALENDAR