BEGIN:VCALENDAR
VERSION:2.0
PRODID:-//ADAC Sport- und Kulturverein e.V - ECPv6.11.2//NONSGML v1.0//EN
CALSCALE:GREGORIAN
METHOD:PUBLISH
X-ORIGINAL-URL:https://sportundkulturverein.net
X-WR-CALDESC:Veranstaltungen für ADAC Sport- und Kulturverein e.V
REFRESH-INTERVAL;VALUE=DURATION:PT1H
X-Robots-Tag:noindex
X-PUBLISHED-TTL:PT1H
BEGIN:VTIMEZONE
TZID:Europe/Berlin
BEGIN:DAYLIGHT
TZOFFSETFROM:+0100
TZOFFSETTO:+0200
TZNAME:CEST
DTSTART:20270328T010000
END:DAYLIGHT
BEGIN:STANDARD
TZOFFSETFROM:+0200
TZOFFSETTO:+0100
TZNAME:CET
DTSTART:20271031T010000
END:STANDARD
END:VTIMEZONE
BEGIN:VEVENT
DTSTART;TZID=Europe/Berlin:20270105T183000
DTEND;TZID=Europe/Berlin:20270105T200000
DTSTAMP:20260420T113356
CREATED:20251017T152739Z
LAST-MODIFIED:20251017T152739Z
UID:10004943-1799173800-1799179200@sportundkulturverein.net
SUMMARY:Bachata Choreographie
DESCRIPTION:Bachata Sensual ist eine besondere Interpretation des ursprünglich aus der dominikanischen Republik stammenden Musik- und Tanzgenres Bachata. \nIn unseren Kursen lernst du Bachata Lady Style Steps\, d.h. Grundschritte und Kombinationen\, sexy Moves\, Posture und Deine Arme einzusetzen und immer auch eine kleine Choreo\, die für Anfänger als auch für Fortgeschrittene geeignet ist. \nLucia Rahn (Tanzlehrerin und Leitung von Pura Ladies) bringt Styling und Fußarbeit mit\, die Solo tanzbar aber auch im Paartanz einsetzbar sind.
URL:https://sportundkulturverein.net/veranstaltung/bachata-choreographie/2027-01-05/
LOCATION:Betriebssportraum D 0162
CATEGORIES:Sport
ORGANIZER;CN="Renate Holler":MAILTO:renate.holler@adac.de
END:VEVENT
BEGIN:VEVENT
DTSTART;TZID=Europe/Berlin:20270112T183000
DTEND;TZID=Europe/Berlin:20270112T200000
DTSTAMP:20260420T113356
CREATED:20251017T152739Z
LAST-MODIFIED:20251017T152739Z
UID:10004944-1799778600-1799784000@sportundkulturverein.net
SUMMARY:Bachata Choreographie
DESCRIPTION:Bachata Sensual ist eine besondere Interpretation des ursprünglich aus der dominikanischen Republik stammenden Musik- und Tanzgenres Bachata. \nIn unseren Kursen lernst du Bachata Lady Style Steps\, d.h. Grundschritte und Kombinationen\, sexy Moves\, Posture und Deine Arme einzusetzen und immer auch eine kleine Choreo\, die für Anfänger als auch für Fortgeschrittene geeignet ist. \nLucia Rahn (Tanzlehrerin und Leitung von Pura Ladies) bringt Styling und Fußarbeit mit\, die Solo tanzbar aber auch im Paartanz einsetzbar sind.
URL:https://sportundkulturverein.net/veranstaltung/bachata-choreographie/2027-01-12/
LOCATION:Betriebssportraum D 0162
CATEGORIES:Sport
ORGANIZER;CN="Renate Holler":MAILTO:renate.holler@adac.de
END:VEVENT
BEGIN:VEVENT
DTSTART;TZID=Europe/Berlin:20270119T183000
DTEND;TZID=Europe/Berlin:20270119T200000
DTSTAMP:20260420T113356
CREATED:20251017T152739Z
LAST-MODIFIED:20251017T152739Z
UID:10004945-1800383400-1800388800@sportundkulturverein.net
SUMMARY:Bachata Choreographie
DESCRIPTION:Bachata Sensual ist eine besondere Interpretation des ursprünglich aus der dominikanischen Republik stammenden Musik- und Tanzgenres Bachata. \nIn unseren Kursen lernst du Bachata Lady Style Steps\, d.h. Grundschritte und Kombinationen\, sexy Moves\, Posture und Deine Arme einzusetzen und immer auch eine kleine Choreo\, die für Anfänger als auch für Fortgeschrittene geeignet ist. \nLucia Rahn (Tanzlehrerin und Leitung von Pura Ladies) bringt Styling und Fußarbeit mit\, die Solo tanzbar aber auch im Paartanz einsetzbar sind.
URL:https://sportundkulturverein.net/veranstaltung/bachata-choreographie/2027-01-19/
LOCATION:Betriebssportraum D 0162
CATEGORIES:Sport
ORGANIZER;CN="Renate Holler":MAILTO:renate.holler@adac.de
END:VEVENT
BEGIN:VEVENT
DTSTART;TZID=Europe/Berlin:20270126T183000
DTEND;TZID=Europe/Berlin:20270126T200000
DTSTAMP:20260420T113356
CREATED:20251017T152739Z
LAST-MODIFIED:20251017T152739Z
UID:10004946-1800988200-1800993600@sportundkulturverein.net
SUMMARY:Bachata Choreographie
DESCRIPTION:Bachata Sensual ist eine besondere Interpretation des ursprünglich aus der dominikanischen Republik stammenden Musik- und Tanzgenres Bachata. \nIn unseren Kursen lernst du Bachata Lady Style Steps\, d.h. Grundschritte und Kombinationen\, sexy Moves\, Posture und Deine Arme einzusetzen und immer auch eine kleine Choreo\, die für Anfänger als auch für Fortgeschrittene geeignet ist. \nLucia Rahn (Tanzlehrerin und Leitung von Pura Ladies) bringt Styling und Fußarbeit mit\, die Solo tanzbar aber auch im Paartanz einsetzbar sind.
URL:https://sportundkulturverein.net/veranstaltung/bachata-choreographie/2027-01-26/
LOCATION:Betriebssportraum D 0162
CATEGORIES:Sport
ORGANIZER;CN="Renate Holler":MAILTO:renate.holler@adac.de
END:VEVENT
END:VCALENDAR