BEGIN:VCALENDAR
VERSION:2.0
PRODID:-//ADAC Sport- und Kulturverein e.V - ECPv6.11.2//NONSGML v1.0//EN
CALSCALE:GREGORIAN
METHOD:PUBLISH
X-ORIGINAL-URL:https://sportundkulturverein.net
X-WR-CALDESC:Veranstaltungen für ADAC Sport- und Kulturverein e.V
REFRESH-INTERVAL;VALUE=DURATION:PT1H
X-Robots-Tag:noindex
X-PUBLISHED-TTL:PT1H
BEGIN:VTIMEZONE
TZID:Europe/Berlin
BEGIN:DAYLIGHT
TZOFFSETFROM:+0100
TZOFFSETTO:+0200
TZNAME:CEST
DTSTART:20250330T010000
END:DAYLIGHT
BEGIN:STANDARD
TZOFFSETFROM:+0200
TZOFFSETTO:+0100
TZNAME:CET
DTSTART:20251026T010000
END:STANDARD
END:VTIMEZONE
BEGIN:VEVENT
DTSTART;TZID=Europe/Berlin:20250904T180000
DTEND;TZID=Europe/Berlin:20250904T193000
DTSTAMP:20260420T045751
CREATED:20250808T164025Z
LAST-MODIFIED:20250808T165318Z
UID:10003628-1757008800-1757014200@sportundkulturverein.net
SUMMARY:Fußball - Frühjahr/Sommer
DESCRIPTION:Die Fußballer des ADAC treffen sich das ganze Jahr über zum Kicken. \nVon Mai – September wird outdoor gespielt\, von Oktober – April in der Halle\, jeweils donnerstags (14-tägig). \nDer Spaß am Spiel und der Austausch mit Kollegen steht dabei im Vordergrund. \nWenn Du auch als ehemaliger oder aktueller Vereinsspieler\, Hobbyfußballer oder Ballartist gerne mal mit Kollegen dem gepflegten Ballsport nachgehen möchtest\, dann bist Du hier genau richtig!
URL:https://sportundkulturverein.net/veranstaltung/fussball-fruehjahr-sommer-3-2/2025-09-04/
LOCATION:SoccerFive bei 1880 München e.V.\, Tübinger Str. 10\, München\, 80686
CATEGORIES:Sport
ATTACH;FMTTYPE=image/jpeg:https://sportundkulturverein.net/wp-content/uploads/2023/11/ADAC-Fussball-Sommer-2-scaled.jpg
ORGANIZER;CN="Alexander Rabbe":MAILTO:lexander.rabbe@adac.de
END:VEVENT
BEGIN:VEVENT
DTSTART;TZID=Europe/Berlin:20250918T180000
DTEND;TZID=Europe/Berlin:20250918T193000
DTSTAMP:20260420T045751
CREATED:20250808T164025Z
LAST-MODIFIED:20250808T165318Z
UID:10003629-1758218400-1758223800@sportundkulturverein.net
SUMMARY:Fußball - Frühjahr/Sommer
DESCRIPTION:Die Fußballer des ADAC treffen sich das ganze Jahr über zum Kicken. \nVon Mai – September wird outdoor gespielt\, von Oktober – April in der Halle\, jeweils donnerstags (14-tägig). \nDer Spaß am Spiel und der Austausch mit Kollegen steht dabei im Vordergrund. \nWenn Du auch als ehemaliger oder aktueller Vereinsspieler\, Hobbyfußballer oder Ballartist gerne mal mit Kollegen dem gepflegten Ballsport nachgehen möchtest\, dann bist Du hier genau richtig!
URL:https://sportundkulturverein.net/veranstaltung/fussball-fruehjahr-sommer-3-2/2025-09-18/
LOCATION:SoccerFive bei 1880 München e.V.\, Tübinger Str. 10\, München\, 80686
CATEGORIES:Sport
ATTACH;FMTTYPE=image/jpeg:https://sportundkulturverein.net/wp-content/uploads/2023/11/ADAC-Fussball-Sommer-2-scaled.jpg
ORGANIZER;CN="Alexander Rabbe":MAILTO:lexander.rabbe@adac.de
END:VEVENT
END:VCALENDAR