BEGIN:VCALENDAR
VERSION:2.0
PRODID:-//ADAC Sport- und Kulturverein e.V - ECPv6.11.2//NONSGML v1.0//EN
CALSCALE:GREGORIAN
METHOD:PUBLISH
X-WR-CALNAME:ADAC Sport- und Kulturverein e.V
X-ORIGINAL-URL:https://sportundkulturverein.net
X-WR-CALDESC:Veranstaltungen für ADAC Sport- und Kulturverein e.V
REFRESH-INTERVAL;VALUE=DURATION:PT1H
X-Robots-Tag:noindex
X-PUBLISHED-TTL:PT1H
BEGIN:VTIMEZONE
TZID:Europe/Berlin
BEGIN:DAYLIGHT
TZOFFSETFROM:+0100
TZOFFSETTO:+0200
TZNAME:CEST
DTSTART:20250330T010000
END:DAYLIGHT
BEGIN:STANDARD
TZOFFSETFROM:+0200
TZOFFSETTO:+0100
TZNAME:CET
DTSTART:20251026T010000
END:STANDARD
END:VTIMEZONE
BEGIN:VEVENT
DTSTART;TZID=Europe/Berlin:20251202T124500
DTEND;TZID=Europe/Berlin:20251202T133000
DTSTAMP:20260420T070203
CREATED:20250929T102427Z
LAST-MODIFIED:20250930T124508Z
UID:10004230-1764679500-1764682200@sportundkulturverein.net
SUMMARY:Face Yoga
DESCRIPTION:Viele von uns achten auf ihre Gesundheit\, ernähren sich gesund und trainieren regelmäßig\, um fit zu bleiben. Doch oft vergessen wir\, dass unser Gesicht rund 40 verschiedene Muskeln hat\, die ebenfalls Aufmerksamkeit verdienen. Besonders im Büroalltag\, wenn wir lange am Computer arbeiten\, verspannen sich unsere Stirnmuskeln und unsere Augen werden stark beansprucht. \nFace Yoga\, ein ganzheitliches Gesichtstraining\, bietet die Möglichkeit\, durch gezielte Übungen die Gesichtsmuskulatur aufzubauen und zu entspannen. Dies führt nicht nur zu einer strafferen Haut\, sondern auch zu einer inneren Ruhe und Zufriedenheit\, die sich im Gesicht widerspiegelt.
URL:https://sportundkulturverein.net/veranstaltung/face-yoga-2/2025-12-02/
LOCATION:Kursraum ADAC Sportstudio\, Hansastr. 19\, B 0115\, München\, 80686\, Germany
CATEGORIES:Fit & Gesund
ATTACH;FMTTYPE=image/webp:https://sportundkulturverein.net/wp-content/uploads/2025/01/FaceYoga_1jpg.webp
ORGANIZER;CN="Jana Gehlert":MAILTO:jana.gehlert@adac.de
END:VEVENT
BEGIN:VEVENT
DTSTART;TZID=Europe/Berlin:20251209T124500
DTEND;TZID=Europe/Berlin:20251209T133000
DTSTAMP:20260420T070203
CREATED:20250929T102427Z
LAST-MODIFIED:20250930T124508Z
UID:10004231-1765284300-1765287000@sportundkulturverein.net
SUMMARY:Face Yoga
DESCRIPTION:Viele von uns achten auf ihre Gesundheit\, ernähren sich gesund und trainieren regelmäßig\, um fit zu bleiben. Doch oft vergessen wir\, dass unser Gesicht rund 40 verschiedene Muskeln hat\, die ebenfalls Aufmerksamkeit verdienen. Besonders im Büroalltag\, wenn wir lange am Computer arbeiten\, verspannen sich unsere Stirnmuskeln und unsere Augen werden stark beansprucht. \nFace Yoga\, ein ganzheitliches Gesichtstraining\, bietet die Möglichkeit\, durch gezielte Übungen die Gesichtsmuskulatur aufzubauen und zu entspannen. Dies führt nicht nur zu einer strafferen Haut\, sondern auch zu einer inneren Ruhe und Zufriedenheit\, die sich im Gesicht widerspiegelt.
URL:https://sportundkulturverein.net/veranstaltung/face-yoga-2/2025-12-09/
LOCATION:Kursraum ADAC Sportstudio\, Hansastr. 19\, B 0115\, München\, 80686\, Germany
CATEGORIES:Fit & Gesund
ATTACH;FMTTYPE=image/webp:https://sportundkulturverein.net/wp-content/uploads/2025/01/FaceYoga_1jpg.webp
ORGANIZER;CN="Jana Gehlert":MAILTO:jana.gehlert@adac.de
END:VEVENT
BEGIN:VEVENT
DTSTART;TZID=Europe/Berlin:20251216T124500
DTEND;TZID=Europe/Berlin:20251216T133000
DTSTAMP:20260420T070203
CREATED:20250929T102427Z
LAST-MODIFIED:20250930T124508Z
UID:10004232-1765889100-1765891800@sportundkulturverein.net
SUMMARY:Face Yoga
DESCRIPTION:Viele von uns achten auf ihre Gesundheit\, ernähren sich gesund und trainieren regelmäßig\, um fit zu bleiben. Doch oft vergessen wir\, dass unser Gesicht rund 40 verschiedene Muskeln hat\, die ebenfalls Aufmerksamkeit verdienen. Besonders im Büroalltag\, wenn wir lange am Computer arbeiten\, verspannen sich unsere Stirnmuskeln und unsere Augen werden stark beansprucht. \nFace Yoga\, ein ganzheitliches Gesichtstraining\, bietet die Möglichkeit\, durch gezielte Übungen die Gesichtsmuskulatur aufzubauen und zu entspannen. Dies führt nicht nur zu einer strafferen Haut\, sondern auch zu einer inneren Ruhe und Zufriedenheit\, die sich im Gesicht widerspiegelt.
URL:https://sportundkulturverein.net/veranstaltung/face-yoga-2/2025-12-16/
LOCATION:Kursraum ADAC Sportstudio\, Hansastr. 19\, B 0115\, München\, 80686\, Germany
CATEGORIES:Fit & Gesund
ATTACH;FMTTYPE=image/webp:https://sportundkulturverein.net/wp-content/uploads/2025/01/FaceYoga_1jpg.webp
ORGANIZER;CN="Jana Gehlert":MAILTO:jana.gehlert@adac.de
END:VEVENT
END:VCALENDAR