BEGIN:VCALENDAR
VERSION:2.0
PRODID:-//ADAC Sport- und Kulturverein e.V - ECPv6.11.2//NONSGML v1.0//EN
CALSCALE:GREGORIAN
METHOD:PUBLISH
X-WR-CALNAME:ADAC Sport- und Kulturverein e.V
X-ORIGINAL-URL:https://sportundkulturverein.net
X-WR-CALDESC:Veranstaltungen für ADAC Sport- und Kulturverein e.V
REFRESH-INTERVAL;VALUE=DURATION:PT1H
X-Robots-Tag:noindex
X-PUBLISHED-TTL:PT1H
BEGIN:VTIMEZONE
TZID:Europe/Berlin
BEGIN:DAYLIGHT
TZOFFSETFROM:+0100
TZOFFSETTO:+0200
TZNAME:CEST
DTSTART:20280326T010000
END:DAYLIGHT
BEGIN:STANDARD
TZOFFSETFROM:+0200
TZOFFSETTO:+0100
TZNAME:CET
DTSTART:20281029T010000
END:STANDARD
END:VTIMEZONE
BEGIN:VEVENT
DTSTART;TZID=Europe/Berlin:20280302T180000
DTEND;TZID=Europe/Berlin:20280302T192000
DTSTAMP:20260421T115134
CREATED:20260420T163249Z
LAST-MODIFIED:20260420T164411Z
UID:10006457-1835632800-1835637600@sportundkulturverein.net
SUMMARY:Südamerikanischer DANCEMIX
DESCRIPTION:Südamerikanischer DANCEMIX mit Andrea\nEin energiegeladenes Erlebnis voller Rhythmus\, Kultur und Lebensfreude. \nDancemix ist eine explosive Kombination aus südamerikanischen und karibischen Rhythmen\, die deinen Körper von Kopf bis Fuß in Bewegung bringt.\nWir entdecken verschiedene Tanzstile\, um neue Bewegungsformen zu erkunden\, Energie freizusetzen und aus südamerikanischen Kulturen die exotischen Rhythmen zu genießen. \nWir freuen uns auf Dich! Es sind keine Vorkenntnisse notwendig.
URL:https://sportundkulturverein.net/veranstaltung/suedamerikanischer-dancemix/2028-03-02/
LOCATION:Betriebssportraum D 0162
CATEGORIES:Sport
ORGANIZER;CN="Renate Holler":MAILTO:renate.holler@adac.de
END:VEVENT
BEGIN:VEVENT
DTSTART;TZID=Europe/Berlin:20280309T180000
DTEND;TZID=Europe/Berlin:20280309T192000
DTSTAMP:20260421T115134
CREATED:20260420T163249Z
LAST-MODIFIED:20260420T164411Z
UID:10006458-1836237600-1836242400@sportundkulturverein.net
SUMMARY:Südamerikanischer DANCEMIX
DESCRIPTION:Südamerikanischer DANCEMIX mit Andrea\nEin energiegeladenes Erlebnis voller Rhythmus\, Kultur und Lebensfreude. \nDancemix ist eine explosive Kombination aus südamerikanischen und karibischen Rhythmen\, die deinen Körper von Kopf bis Fuß in Bewegung bringt.\nWir entdecken verschiedene Tanzstile\, um neue Bewegungsformen zu erkunden\, Energie freizusetzen und aus südamerikanischen Kulturen die exotischen Rhythmen zu genießen. \nWir freuen uns auf Dich! Es sind keine Vorkenntnisse notwendig.
URL:https://sportundkulturverein.net/veranstaltung/suedamerikanischer-dancemix/2028-03-09/
LOCATION:Betriebssportraum D 0162
CATEGORIES:Sport
ORGANIZER;CN="Renate Holler":MAILTO:renate.holler@adac.de
END:VEVENT
BEGIN:VEVENT
DTSTART;TZID=Europe/Berlin:20280316T180000
DTEND;TZID=Europe/Berlin:20280316T192000
DTSTAMP:20260421T115134
CREATED:20260420T163249Z
LAST-MODIFIED:20260420T164411Z
UID:10006459-1836842400-1836847200@sportundkulturverein.net
SUMMARY:Südamerikanischer DANCEMIX
DESCRIPTION:Südamerikanischer DANCEMIX mit Andrea\nEin energiegeladenes Erlebnis voller Rhythmus\, Kultur und Lebensfreude. \nDancemix ist eine explosive Kombination aus südamerikanischen und karibischen Rhythmen\, die deinen Körper von Kopf bis Fuß in Bewegung bringt.\nWir entdecken verschiedene Tanzstile\, um neue Bewegungsformen zu erkunden\, Energie freizusetzen und aus südamerikanischen Kulturen die exotischen Rhythmen zu genießen. \nWir freuen uns auf Dich! Es sind keine Vorkenntnisse notwendig.
URL:https://sportundkulturverein.net/veranstaltung/suedamerikanischer-dancemix/2028-03-16/
LOCATION:Betriebssportraum D 0162
CATEGORIES:Sport
ORGANIZER;CN="Renate Holler":MAILTO:renate.holler@adac.de
END:VEVENT
BEGIN:VEVENT
DTSTART;TZID=Europe/Berlin:20280323T180000
DTEND;TZID=Europe/Berlin:20280323T192000
DTSTAMP:20260421T115134
CREATED:20260420T163249Z
LAST-MODIFIED:20260420T164411Z
UID:10006460-1837447200-1837452000@sportundkulturverein.net
SUMMARY:Südamerikanischer DANCEMIX
DESCRIPTION:Südamerikanischer DANCEMIX mit Andrea\nEin energiegeladenes Erlebnis voller Rhythmus\, Kultur und Lebensfreude. \nDancemix ist eine explosive Kombination aus südamerikanischen und karibischen Rhythmen\, die deinen Körper von Kopf bis Fuß in Bewegung bringt.\nWir entdecken verschiedene Tanzstile\, um neue Bewegungsformen zu erkunden\, Energie freizusetzen und aus südamerikanischen Kulturen die exotischen Rhythmen zu genießen. \nWir freuen uns auf Dich! Es sind keine Vorkenntnisse notwendig.
URL:https://sportundkulturverein.net/veranstaltung/suedamerikanischer-dancemix/2028-03-23/
LOCATION:Betriebssportraum D 0162
CATEGORIES:Sport
ORGANIZER;CN="Renate Holler":MAILTO:renate.holler@adac.de
END:VEVENT
BEGIN:VEVENT
DTSTART;TZID=Europe/Berlin:20280330T180000
DTEND;TZID=Europe/Berlin:20280330T192000
DTSTAMP:20260421T115134
CREATED:20260420T163249Z
LAST-MODIFIED:20260420T164411Z
UID:10006461-1838052000-1838056800@sportundkulturverein.net
SUMMARY:Südamerikanischer DANCEMIX
DESCRIPTION:Südamerikanischer DANCEMIX mit Andrea\nEin energiegeladenes Erlebnis voller Rhythmus\, Kultur und Lebensfreude. \nDancemix ist eine explosive Kombination aus südamerikanischen und karibischen Rhythmen\, die deinen Körper von Kopf bis Fuß in Bewegung bringt.\nWir entdecken verschiedene Tanzstile\, um neue Bewegungsformen zu erkunden\, Energie freizusetzen und aus südamerikanischen Kulturen die exotischen Rhythmen zu genießen. \nWir freuen uns auf Dich! Es sind keine Vorkenntnisse notwendig.
URL:https://sportundkulturverein.net/veranstaltung/suedamerikanischer-dancemix/2028-03-30/
LOCATION:Betriebssportraum D 0162
CATEGORIES:Sport
ORGANIZER;CN="Renate Holler":MAILTO:renate.holler@adac.de
END:VEVENT
END:VCALENDAR