BEGIN:VCALENDAR
VERSION:2.0
PRODID:-//ADAC Sport- und Kulturverein e.V - ECPv6.11.2//NONSGML v1.0//EN
CALSCALE:GREGORIAN
METHOD:PUBLISH
X-ORIGINAL-URL:https://sportundkulturverein.net
X-WR-CALDESC:Veranstaltungen für ADAC Sport- und Kulturverein e.V
REFRESH-INTERVAL;VALUE=DURATION:PT1H
X-Robots-Tag:noindex
X-PUBLISHED-TTL:PT1H
BEGIN:VTIMEZONE
TZID:Europe/Berlin
BEGIN:DAYLIGHT
TZOFFSETFROM:+0100
TZOFFSETTO:+0200
TZNAME:CEST
DTSTART:20260329T010000
END:DAYLIGHT
BEGIN:STANDARD
TZOFFSETFROM:+0200
TZOFFSETTO:+0100
TZNAME:CET
DTSTART:20261025T010000
END:STANDARD
END:VTIMEZONE
BEGIN:VEVENT
DTSTART;TZID=Europe/Berlin:20260204T180000
DTEND;TZID=Europe/Berlin:20260204T200000
DTSTAMP:20260420T092507
CREATED:20250511T152129Z
LAST-MODIFIED:20250511T152129Z
UID:10001426-1770228000-1770235200@sportundkulturverein.net
SUMMARY:Bowling Stuttgart
DESCRIPTION:Beim Bowling gibt es keine signifikanten körperlichen Einschränkungen für die Spieler \, sodass sowohl jüngere als auch ältere Spieler gegeneinander antreten können. Durch den schnellen Spielerwechsel auf der Bahn ist das Spiel spannend und dynamisch\, da die Spieler ihre aktuellen Ergebnisse und Punktegewinne miteinander vergleichen können. \nEs handelt sich um einen bequemen und sicheren Sport\, der dank der Tatsache\, dass seine Spiele in Innenräumen ausgetragen werden\, unabhängig von möglichen schlechten Wetterbedingungen ist. \nDie Bowling-Gruppe Stuttgart trifft sich regelmäßig zum gemeinsamen Spiel.\nAn den Terminen sind jeweils 2 Bahnen reserviert und es wird auch mit und gegen andere Clubs gespielt. \nNeue Mitspieler sind jederzeit willkommen! \n 
URL:https://sportundkulturverein.net/veranstaltung/bowling-stuttgart/2026-02-04/
LOCATION:Bowling Arena Stuttgart\, Am Sportpark 9\, Stuttgart\, 70469
CATEGORIES:Sport
ATTACH;FMTTYPE=image/webp:https://sportundkulturverein.net/wp-content/uploads/2021/08/Bowling_P1030537-2560x1920-1920w.webp
ORGANIZER;CN="Uwe Schickle":MAILTO:bsg.gelbebengel@kabelbw.de
END:VEVENT
BEGIN:VEVENT
DTSTART;TZID=Europe/Berlin:20260211T180000
DTEND;TZID=Europe/Berlin:20260211T200000
DTSTAMP:20260420T092507
CREATED:20250511T152129Z
LAST-MODIFIED:20250511T152129Z
UID:10001427-1770832800-1770840000@sportundkulturverein.net
SUMMARY:Bowling Stuttgart
DESCRIPTION:Beim Bowling gibt es keine signifikanten körperlichen Einschränkungen für die Spieler \, sodass sowohl jüngere als auch ältere Spieler gegeneinander antreten können. Durch den schnellen Spielerwechsel auf der Bahn ist das Spiel spannend und dynamisch\, da die Spieler ihre aktuellen Ergebnisse und Punktegewinne miteinander vergleichen können. \nEs handelt sich um einen bequemen und sicheren Sport\, der dank der Tatsache\, dass seine Spiele in Innenräumen ausgetragen werden\, unabhängig von möglichen schlechten Wetterbedingungen ist. \nDie Bowling-Gruppe Stuttgart trifft sich regelmäßig zum gemeinsamen Spiel.\nAn den Terminen sind jeweils 2 Bahnen reserviert und es wird auch mit und gegen andere Clubs gespielt. \nNeue Mitspieler sind jederzeit willkommen! \n 
URL:https://sportundkulturverein.net/veranstaltung/bowling-stuttgart/2026-02-11/
LOCATION:Bowling Arena Stuttgart\, Am Sportpark 9\, Stuttgart\, 70469
CATEGORIES:Sport
ATTACH;FMTTYPE=image/webp:https://sportundkulturverein.net/wp-content/uploads/2021/08/Bowling_P1030537-2560x1920-1920w.webp
ORGANIZER;CN="Uwe Schickle":MAILTO:bsg.gelbebengel@kabelbw.de
END:VEVENT
BEGIN:VEVENT
DTSTART;TZID=Europe/Berlin:20260212T180000
DTEND;TZID=Europe/Berlin:20260212T200000
DTSTAMP:20260420T092507
CREATED:20250511T152758Z
LAST-MODIFIED:20250512T150550Z
UID:10001670-1770919200-1770926400@sportundkulturverein.net
SUMMARY:Bowling München
DESCRIPTION:Beim Bowling gibt es keine signifikanten körperlichen Einschränkungen für die Spieler \, sodass sowohl jüngere als auch ältere Spieler gegeneinander antreten können. Durch den schnellen Spielerwechsel auf der Bahn ist das Spiel spannend und dynamisch\, da die Spieler ihre aktuellen Ergebnisse und Punktegewinne miteinander vergleichen können. \nEs handelt sich um einen bequemen und sicheren Sport\, der dank der Tatsache\, dass seine Spiele in Innenräumen ausgetragen werden\, unabhängig von möglichen schlechten Wetterbedingungen ist. \nDie Bowling-Gruppe München trifft sich regelmäßig – auch während der Schulferien – zum gemeinsamen Spiel. \nNeue Mitspieler sind jederzeit – auch zum schnuppern – willkommen!
URL:https://sportundkulturverein.net/veranstaltung/bowling-muenchen/2026-02-12/
LOCATION:Hollywood Super Bowling München\, Forstenrieder Allee 74\, Münche\, 81476
CATEGORIES:Sport
ATTACH;FMTTYPE=image/jpeg:https://sportundkulturverein.net/wp-content/uploads/2021/08/friends-bowling.jpg
ORGANIZER;CN="Christine Nickel":MAILTO:christine.nickel@adac.de
END:VEVENT
BEGIN:VEVENT
DTSTART;TZID=Europe/Berlin:20260218T180000
DTEND;TZID=Europe/Berlin:20260218T200000
DTSTAMP:20260420T092507
CREATED:20250511T152129Z
LAST-MODIFIED:20250511T152129Z
UID:10001428-1771437600-1771444800@sportundkulturverein.net
SUMMARY:Bowling Stuttgart
DESCRIPTION:Beim Bowling gibt es keine signifikanten körperlichen Einschränkungen für die Spieler \, sodass sowohl jüngere als auch ältere Spieler gegeneinander antreten können. Durch den schnellen Spielerwechsel auf der Bahn ist das Spiel spannend und dynamisch\, da die Spieler ihre aktuellen Ergebnisse und Punktegewinne miteinander vergleichen können. \nEs handelt sich um einen bequemen und sicheren Sport\, der dank der Tatsache\, dass seine Spiele in Innenräumen ausgetragen werden\, unabhängig von möglichen schlechten Wetterbedingungen ist. \nDie Bowling-Gruppe Stuttgart trifft sich regelmäßig zum gemeinsamen Spiel.\nAn den Terminen sind jeweils 2 Bahnen reserviert und es wird auch mit und gegen andere Clubs gespielt. \nNeue Mitspieler sind jederzeit willkommen! \n 
URL:https://sportundkulturverein.net/veranstaltung/bowling-stuttgart/2026-02-18/
LOCATION:Bowling Arena Stuttgart\, Am Sportpark 9\, Stuttgart\, 70469
CATEGORIES:Sport
ATTACH;FMTTYPE=image/webp:https://sportundkulturverein.net/wp-content/uploads/2021/08/Bowling_P1030537-2560x1920-1920w.webp
ORGANIZER;CN="Uwe Schickle":MAILTO:bsg.gelbebengel@kabelbw.de
END:VEVENT
BEGIN:VEVENT
DTSTART;TZID=Europe/Berlin:20260225T180000
DTEND;TZID=Europe/Berlin:20260225T200000
DTSTAMP:20260420T092507
CREATED:20250511T152129Z
LAST-MODIFIED:20250511T152129Z
UID:10001429-1772042400-1772049600@sportundkulturverein.net
SUMMARY:Bowling Stuttgart
DESCRIPTION:Beim Bowling gibt es keine signifikanten körperlichen Einschränkungen für die Spieler \, sodass sowohl jüngere als auch ältere Spieler gegeneinander antreten können. Durch den schnellen Spielerwechsel auf der Bahn ist das Spiel spannend und dynamisch\, da die Spieler ihre aktuellen Ergebnisse und Punktegewinne miteinander vergleichen können. \nEs handelt sich um einen bequemen und sicheren Sport\, der dank der Tatsache\, dass seine Spiele in Innenräumen ausgetragen werden\, unabhängig von möglichen schlechten Wetterbedingungen ist. \nDie Bowling-Gruppe Stuttgart trifft sich regelmäßig zum gemeinsamen Spiel.\nAn den Terminen sind jeweils 2 Bahnen reserviert und es wird auch mit und gegen andere Clubs gespielt. \nNeue Mitspieler sind jederzeit willkommen! \n 
URL:https://sportundkulturverein.net/veranstaltung/bowling-stuttgart/2026-02-25/
LOCATION:Bowling Arena Stuttgart\, Am Sportpark 9\, Stuttgart\, 70469
CATEGORIES:Sport
ATTACH;FMTTYPE=image/webp:https://sportundkulturverein.net/wp-content/uploads/2021/08/Bowling_P1030537-2560x1920-1920w.webp
ORGANIZER;CN="Uwe Schickle":MAILTO:bsg.gelbebengel@kabelbw.de
END:VEVENT
BEGIN:VEVENT
DTSTART;TZID=Europe/Berlin:20260226T180000
DTEND;TZID=Europe/Berlin:20260226T200000
DTSTAMP:20260420T092507
CREATED:20250511T152758Z
LAST-MODIFIED:20250512T150550Z
UID:10001671-1772128800-1772136000@sportundkulturverein.net
SUMMARY:Bowling München
DESCRIPTION:Beim Bowling gibt es keine signifikanten körperlichen Einschränkungen für die Spieler \, sodass sowohl jüngere als auch ältere Spieler gegeneinander antreten können. Durch den schnellen Spielerwechsel auf der Bahn ist das Spiel spannend und dynamisch\, da die Spieler ihre aktuellen Ergebnisse und Punktegewinne miteinander vergleichen können. \nEs handelt sich um einen bequemen und sicheren Sport\, der dank der Tatsache\, dass seine Spiele in Innenräumen ausgetragen werden\, unabhängig von möglichen schlechten Wetterbedingungen ist. \nDie Bowling-Gruppe München trifft sich regelmäßig – auch während der Schulferien – zum gemeinsamen Spiel. \nNeue Mitspieler sind jederzeit – auch zum schnuppern – willkommen!
URL:https://sportundkulturverein.net/veranstaltung/bowling-muenchen/2026-02-26/
LOCATION:Hollywood Super Bowling München\, Forstenrieder Allee 74\, Münche\, 81476
CATEGORIES:Sport
ATTACH;FMTTYPE=image/jpeg:https://sportundkulturverein.net/wp-content/uploads/2021/08/friends-bowling.jpg
ORGANIZER;CN="Christine Nickel":MAILTO:christine.nickel@adac.de
END:VEVENT
END:VCALENDAR