BEGIN:VCALENDAR
VERSION:2.0
PRODID:-//ADAC Sport- und Kulturverein e.V - ECPv6.11.2//NONSGML v1.0//EN
CALSCALE:GREGORIAN
METHOD:PUBLISH
X-WR-CALNAME:ADAC Sport- und Kulturverein e.V
X-ORIGINAL-URL:https://sportundkulturverein.net
X-WR-CALDESC:Veranstaltungen für ADAC Sport- und Kulturverein e.V
REFRESH-INTERVAL;VALUE=DURATION:PT1H
X-Robots-Tag:noindex
X-PUBLISHED-TTL:PT1H
BEGIN:VTIMEZONE
TZID:Europe/Berlin
BEGIN:DAYLIGHT
TZOFFSETFROM:+0100
TZOFFSETTO:+0200
TZNAME:CEST
DTSTART:20260329T010000
END:DAYLIGHT
BEGIN:STANDARD
TZOFFSETFROM:+0200
TZOFFSETTO:+0100
TZNAME:CET
DTSTART:20261025T010000
END:STANDARD
END:VTIMEZONE
BEGIN:VEVENT
DTSTART;TZID=Europe/Berlin:20260707T170000
DTEND;TZID=Europe/Berlin:20260707T183000
DTSTAMP:20260419T233037
CREATED:20250511T150031Z
LAST-MODIFIED:20250519T082713Z
UID:10001169-1783443600-1783449000@sportundkulturverein.net
SUMMARY:Basketball
DESCRIPTION:Bei uns stehen Spaß und Freude an dieser wundervollen Ballsportart im Mittelpunkt.\nJe nach Anzahl der Teilnehmer machen wir lustige Shootouts\, hartumkämpfte Games (jeder gegen jeden\, eins gegen eins\, Team gegen Team) oder einfach nur entspanntes Korbwerfen zum Runterkommen nach einem anstrengenden Arbeitstag. \nWir sind aktuell eine kleine Gruppe basketballbegeisterter Erwachsener und freuen uns über viele weitere Mitspielerinnen und Mitspieler. \nWährend der bayerischen Schulferien findet kein Training statt.
URL:https://sportundkulturverein.net/veranstaltung/basketball/2026-07-07/
LOCATION:Grundschule Stielerstraße\, Stielerstr. 6\, München\, 80336
CATEGORIES:Sport
ORGANIZER;CN="Manuel Aslanidis":MAILTO:manuel.aslanidis@adac.de
END:VEVENT
BEGIN:VEVENT
DTSTART;TZID=Europe/Berlin:20260714T170000
DTEND;TZID=Europe/Berlin:20260714T183000
DTSTAMP:20260419T233037
CREATED:20250511T150031Z
LAST-MODIFIED:20250519T082713Z
UID:10001170-1784048400-1784053800@sportundkulturverein.net
SUMMARY:Basketball
DESCRIPTION:Bei uns stehen Spaß und Freude an dieser wundervollen Ballsportart im Mittelpunkt.\nJe nach Anzahl der Teilnehmer machen wir lustige Shootouts\, hartumkämpfte Games (jeder gegen jeden\, eins gegen eins\, Team gegen Team) oder einfach nur entspanntes Korbwerfen zum Runterkommen nach einem anstrengenden Arbeitstag. \nWir sind aktuell eine kleine Gruppe basketballbegeisterter Erwachsener und freuen uns über viele weitere Mitspielerinnen und Mitspieler. \nWährend der bayerischen Schulferien findet kein Training statt.
URL:https://sportundkulturverein.net/veranstaltung/basketball/2026-07-14/
LOCATION:Grundschule Stielerstraße\, Stielerstr. 6\, München\, 80336
CATEGORIES:Sport
ORGANIZER;CN="Manuel Aslanidis":MAILTO:manuel.aslanidis@adac.de
END:VEVENT
BEGIN:VEVENT
DTSTART;TZID=Europe/Berlin:20260721T170000
DTEND;TZID=Europe/Berlin:20260721T183000
DTSTAMP:20260419T233037
CREATED:20250511T150031Z
LAST-MODIFIED:20250519T082713Z
UID:10001171-1784653200-1784658600@sportundkulturverein.net
SUMMARY:Basketball
DESCRIPTION:Bei uns stehen Spaß und Freude an dieser wundervollen Ballsportart im Mittelpunkt.\nJe nach Anzahl der Teilnehmer machen wir lustige Shootouts\, hartumkämpfte Games (jeder gegen jeden\, eins gegen eins\, Team gegen Team) oder einfach nur entspanntes Korbwerfen zum Runterkommen nach einem anstrengenden Arbeitstag. \nWir sind aktuell eine kleine Gruppe basketballbegeisterter Erwachsener und freuen uns über viele weitere Mitspielerinnen und Mitspieler. \nWährend der bayerischen Schulferien findet kein Training statt.
URL:https://sportundkulturverein.net/veranstaltung/basketball/2026-07-21/
LOCATION:Grundschule Stielerstraße\, Stielerstr. 6\, München\, 80336
CATEGORIES:Sport
ORGANIZER;CN="Manuel Aslanidis":MAILTO:manuel.aslanidis@adac.de
END:VEVENT
BEGIN:VEVENT
DTSTART;TZID=Europe/Berlin:20260728T170000
DTEND;TZID=Europe/Berlin:20260728T183000
DTSTAMP:20260419T233037
CREATED:20250511T150031Z
LAST-MODIFIED:20250519T082713Z
UID:10001172-1785258000-1785263400@sportundkulturverein.net
SUMMARY:Basketball
DESCRIPTION:Bei uns stehen Spaß und Freude an dieser wundervollen Ballsportart im Mittelpunkt.\nJe nach Anzahl der Teilnehmer machen wir lustige Shootouts\, hartumkämpfte Games (jeder gegen jeden\, eins gegen eins\, Team gegen Team) oder einfach nur entspanntes Korbwerfen zum Runterkommen nach einem anstrengenden Arbeitstag. \nWir sind aktuell eine kleine Gruppe basketballbegeisterter Erwachsener und freuen uns über viele weitere Mitspielerinnen und Mitspieler. \nWährend der bayerischen Schulferien findet kein Training statt.
URL:https://sportundkulturverein.net/veranstaltung/basketball/2026-07-28/
LOCATION:Grundschule Stielerstraße\, Stielerstr. 6\, München\, 80336
CATEGORIES:Sport
ORGANIZER;CN="Manuel Aslanidis":MAILTO:manuel.aslanidis@adac.de
END:VEVENT
END:VCALENDAR