BEGIN:VCALENDAR
VERSION:2.0
PRODID:-//ADAC Sport- und Kulturverein e.V - ECPv6.11.2//NONSGML v1.0//EN
CALSCALE:GREGORIAN
METHOD:PUBLISH
X-WR-CALNAME:ADAC Sport- und Kulturverein e.V
X-ORIGINAL-URL:https://sportundkulturverein.net
X-WR-CALDESC:Veranstaltungen für ADAC Sport- und Kulturverein e.V
REFRESH-INTERVAL;VALUE=DURATION:PT1H
X-Robots-Tag:noindex
X-PUBLISHED-TTL:PT1H
BEGIN:VTIMEZONE
TZID:Europe/Berlin
BEGIN:DAYLIGHT
TZOFFSETFROM:+0100
TZOFFSETTO:+0200
TZNAME:CEST
DTSTART:20260329T010000
END:DAYLIGHT
BEGIN:STANDARD
TZOFFSETFROM:+0200
TZOFFSETTO:+0100
TZNAME:CET
DTSTART:20261025T010000
END:STANDARD
END:VTIMEZONE
BEGIN:VEVENT
DTSTART;TZID=Europe/Berlin:20260206T171500
DTEND;TZID=Europe/Berlin:20260206T191500
DTSTAMP:20260419T190757
CREATED:20250511T145604Z
LAST-MODIFIED:20250519T082911Z
UID:10000868-1770398100-1770405300@sportundkulturverein.net
SUMMARY:Badminton
DESCRIPTION:Badminton ist eine Sportart\, Federball ist ein Spiel.\nBeim Federball versucht man\, den Ball so lange wie möglich in der Luft zu halten. Beim Badminton hingegen versucht man\, den Ball so schnell wie möglich in das gegnerische Feld zu schmettern. \nAlle interessierten Badmintonfreunde\, vom Anfänger über den Fortgeschrittenen bis zum Top-Spieler\, sind herzlich willkommen! \nWährend der bayerischen Schulferien findet kein Training statt.
URL:https://sportundkulturverein.net/veranstaltung/badminton/2026-02-06/
LOCATION:SV 1880\, Tübinger Str. 10\, München\, 80686
CATEGORIES:Sport
ATTACH;FMTTYPE=image/jpeg:https://sportundkulturverein.net/wp-content/uploads/2021/08/badminton-equipment.jpg
END:VEVENT
BEGIN:VEVENT
DTSTART;TZID=Europe/Berlin:20260213T171500
DTEND;TZID=Europe/Berlin:20260213T191500
DTSTAMP:20260419T190757
CREATED:20250511T145604Z
LAST-MODIFIED:20250519T082911Z
UID:10000869-1771002900-1771010100@sportundkulturverein.net
SUMMARY:Badminton
DESCRIPTION:Badminton ist eine Sportart\, Federball ist ein Spiel.\nBeim Federball versucht man\, den Ball so lange wie möglich in der Luft zu halten. Beim Badminton hingegen versucht man\, den Ball so schnell wie möglich in das gegnerische Feld zu schmettern. \nAlle interessierten Badmintonfreunde\, vom Anfänger über den Fortgeschrittenen bis zum Top-Spieler\, sind herzlich willkommen! \nWährend der bayerischen Schulferien findet kein Training statt.
URL:https://sportundkulturverein.net/veranstaltung/badminton/2026-02-13/
LOCATION:SV 1880\, Tübinger Str. 10\, München\, 80686
CATEGORIES:Sport
ATTACH;FMTTYPE=image/jpeg:https://sportundkulturverein.net/wp-content/uploads/2021/08/badminton-equipment.jpg
END:VEVENT
BEGIN:VEVENT
DTSTART;TZID=Europe/Berlin:20260220T171500
DTEND;TZID=Europe/Berlin:20260220T191500
DTSTAMP:20260419T190757
CREATED:20250511T145604Z
LAST-MODIFIED:20250519T082911Z
UID:10000870-1771607700-1771614900@sportundkulturverein.net
SUMMARY:Badminton
DESCRIPTION:Badminton ist eine Sportart\, Federball ist ein Spiel.\nBeim Federball versucht man\, den Ball so lange wie möglich in der Luft zu halten. Beim Badminton hingegen versucht man\, den Ball so schnell wie möglich in das gegnerische Feld zu schmettern. \nAlle interessierten Badmintonfreunde\, vom Anfänger über den Fortgeschrittenen bis zum Top-Spieler\, sind herzlich willkommen! \nWährend der bayerischen Schulferien findet kein Training statt.
URL:https://sportundkulturverein.net/veranstaltung/badminton/2026-02-20/
LOCATION:SV 1880\, Tübinger Str. 10\, München\, 80686
CATEGORIES:Sport
ATTACH;FMTTYPE=image/jpeg:https://sportundkulturverein.net/wp-content/uploads/2021/08/badminton-equipment.jpg
END:VEVENT
BEGIN:VEVENT
DTSTART;TZID=Europe/Berlin:20260227T171500
DTEND;TZID=Europe/Berlin:20260227T191500
DTSTAMP:20260419T190757
CREATED:20250511T145604Z
LAST-MODIFIED:20250519T082911Z
UID:10000871-1772212500-1772219700@sportundkulturverein.net
SUMMARY:Badminton
DESCRIPTION:Badminton ist eine Sportart\, Federball ist ein Spiel.\nBeim Federball versucht man\, den Ball so lange wie möglich in der Luft zu halten. Beim Badminton hingegen versucht man\, den Ball so schnell wie möglich in das gegnerische Feld zu schmettern. \nAlle interessierten Badmintonfreunde\, vom Anfänger über den Fortgeschrittenen bis zum Top-Spieler\, sind herzlich willkommen! \nWährend der bayerischen Schulferien findet kein Training statt.
URL:https://sportundkulturverein.net/veranstaltung/badminton/2026-02-27/
LOCATION:SV 1880\, Tübinger Str. 10\, München\, 80686
CATEGORIES:Sport
ATTACH;FMTTYPE=image/jpeg:https://sportundkulturverein.net/wp-content/uploads/2021/08/badminton-equipment.jpg
END:VEVENT
END:VCALENDAR