BEGIN:VCALENDAR
VERSION:2.0
PRODID:-//ADAC Sport- und Kulturverein e.V - ECPv6.11.2//NONSGML v1.0//EN
CALSCALE:GREGORIAN
METHOD:PUBLISH
X-WR-CALNAME:ADAC Sport- und Kulturverein e.V
X-ORIGINAL-URL:https://sportundkulturverein.net
X-WR-CALDESC:Veranstaltungen für ADAC Sport- und Kulturverein e.V
REFRESH-INTERVAL;VALUE=DURATION:PT1H
X-Robots-Tag:noindex
X-PUBLISHED-TTL:PT1H
BEGIN:VTIMEZONE
TZID:Europe/Berlin
BEGIN:DAYLIGHT
TZOFFSETFROM:+0100
TZOFFSETTO:+0200
TZNAME:CEST
DTSTART:20250330T010000
END:DAYLIGHT
BEGIN:STANDARD
TZOFFSETFROM:+0200
TZOFFSETTO:+0100
TZNAME:CET
DTSTART:20251026T010000
END:STANDARD
END:VTIMEZONE
BEGIN:VEVENT
DTSTART;TZID=Europe/Berlin:20251201T183000
DTEND;TZID=Europe/Berlin:20251201T194000
DTSTAMP:20260419T232833
CREATED:20250925T194957Z
LAST-MODIFIED:20250925T195129Z
UID:10004025-1764613800-1764618000@sportundkulturverein.net
SUMMARY:Viniyoga - gemischter Abendkurs
DESCRIPTION:Robert Altnöder unterrichtet nach den Prinzipien des Viniyoga. \nHier werden hauptsächlich Bewegungsabläufe geübt\, die vom Atem geführt sind.\nDiese Art des Unterrichtens von Yoga respektiert den kulturellen\, sozialen\, körperlichen\, geistigen und seelischen Hintergrund eines Menschen in besonderer Weise. Eingefügt in eine Vorbereitungs-\, Nachspür- und Ausgleichsphase können die Übungen so gewählt werden\, dass auch auf den Einzelnen in der Gruppe Rücksicht genommen werden kann. So werden gleichzeitig die Faszien behandelt. \nDie Teilnehmer bekommen auch Übungen an die Hand\, mit deren Hilfe sie für den sitzenden Alltag besser gewappnet sind.
URL:https://sportundkulturverein.net/veranstaltung/__trashed-2/2025-12-01/
LOCATION:Betriebssportraum D 0162
CATEGORIES:Fit & Gesund
ATTACH;FMTTYPE=image/jpeg:https://sportundkulturverein.net/wp-content/uploads/2021/08/woman-practising-yoga-at-home.jpg
ORGANIZER;CN="Robert Altn%C3%B6der":MAILTO:r.altnoeder@gmx
END:VEVENT
BEGIN:VEVENT
DTSTART;TZID=Europe/Berlin:20251201T194500
DTEND;TZID=Europe/Berlin:20251201T210500
DTSTAMP:20260419T232833
CREATED:20250925T191503Z
LAST-MODIFIED:20250925T195620Z
UID:10004096-1764618300-1764623100@sportundkulturverein.net
SUMMARY:Viniyoga - Männerkurs mit Meditation
DESCRIPTION:Robert Altnöder unterrichtet nach den Prinzipien des Viniyoga. \nHier werden hauptsächlich Bewegungsabläufe geübt\, die vom Atem geführt sind.\nDiese Art des Unterrichtens von Yoga respektiert den kulturellen\, sozialen\, körperlichen\, geistigen und seelischen Hintergrund eines Menschen in besonderer Weise. Eingefügt in eine Vorbereitungs-\, Nachspür- und Ausgleichsphase können die Übungen so gewählt werden\, dass auch auf den Einzelnen in der Gruppe Rücksicht genommen werden kann. So werden gleichzeitig die Faszien behandelt. \nDie Teilnehmer bekommen auch Übungen an die Hand\, mit deren Hilfe sie für den sitzenden Alltag besser gewappnet sind.
URL:https://sportundkulturverein.net/veranstaltung/viniyoga-maennerkurs-mit-meditation-2/2025-12-01/
LOCATION:Betriebssportraum D 0162
CATEGORIES:Fit & Gesund
ATTACH;FMTTYPE=image/jpeg:https://sportundkulturverein.net/wp-content/uploads/2021/08/woman-practising-yoga-at-home.jpg
ORGANIZER;CN="Robert Altn%C3%B6der":MAILTO:r.altnoeder@gmx
END:VEVENT
BEGIN:VEVENT
DTSTART;TZID=Europe/Berlin:20251203T130000
DTEND;TZID=Europe/Berlin:20251203T140000
DTSTAMP:20260419T232833
CREATED:20250925T192517Z
LAST-MODIFIED:20250925T195421Z
UID:10004158-1764766800-1764770400@sportundkulturverein.net
SUMMARY:Viniyoga - Mittags-Onlinekurs
DESCRIPTION:Robert Altnöder unterrichtet nach den Prinzipien des Viniyoga. \nHier werden hauptsächlich Bewegungsabläufe geübt\, die vom Atem geführt sind.\nDiese Art des Unterrichtens von Yoga respektiert den kulturellen\, sozialen\, körperlichen\, geistigen und seelischen Hintergrund eines Menschen in besonderer Weise. Eingefügt in eine Vorbereitungs-\, Nachspür- und Ausgleichsphase können die Übungen so gewählt werden\, dass auch auf den Einzelnen in der Gruppe Rücksicht genommen werden kann. So werden gleichzeitig die Faszien behandelt. \nDie Teilnehmer bekommen auch Übungen an die Hand\, mit deren Hilfe sie für den sitzenden Alltag besser gewappnet sind.
URL:https://sportundkulturverein.net/veranstaltung/viniyoga-mittags-onlinekurs/2025-12-03/
LOCATION:Betriebssportraum D 0162
CATEGORIES:Fit & Gesund
ATTACH;FMTTYPE=image/jpeg:https://sportundkulturverein.net/wp-content/uploads/2021/08/woman-practising-yoga-at-home.jpg
ORGANIZER;CN="Robert Altn%C3%B6der":MAILTO:r.altnoeder@gmx
END:VEVENT
BEGIN:VEVENT
DTSTART;TZID=Europe/Berlin:20251208T183000
DTEND;TZID=Europe/Berlin:20251208T194000
DTSTAMP:20260419T232833
CREATED:20250925T194957Z
LAST-MODIFIED:20250925T195129Z
UID:10004026-1765218600-1765222800@sportundkulturverein.net
SUMMARY:Viniyoga - gemischter Abendkurs
DESCRIPTION:Robert Altnöder unterrichtet nach den Prinzipien des Viniyoga. \nHier werden hauptsächlich Bewegungsabläufe geübt\, die vom Atem geführt sind.\nDiese Art des Unterrichtens von Yoga respektiert den kulturellen\, sozialen\, körperlichen\, geistigen und seelischen Hintergrund eines Menschen in besonderer Weise. Eingefügt in eine Vorbereitungs-\, Nachspür- und Ausgleichsphase können die Übungen so gewählt werden\, dass auch auf den Einzelnen in der Gruppe Rücksicht genommen werden kann. So werden gleichzeitig die Faszien behandelt. \nDie Teilnehmer bekommen auch Übungen an die Hand\, mit deren Hilfe sie für den sitzenden Alltag besser gewappnet sind.
URL:https://sportundkulturverein.net/veranstaltung/__trashed-2/2025-12-08/
LOCATION:Betriebssportraum D 0162
CATEGORIES:Fit & Gesund
ATTACH;FMTTYPE=image/jpeg:https://sportundkulturverein.net/wp-content/uploads/2021/08/woman-practising-yoga-at-home.jpg
ORGANIZER;CN="Robert Altn%C3%B6der":MAILTO:r.altnoeder@gmx
END:VEVENT
BEGIN:VEVENT
DTSTART;TZID=Europe/Berlin:20251208T194500
DTEND;TZID=Europe/Berlin:20251208T210500
DTSTAMP:20260419T232833
CREATED:20250925T191503Z
LAST-MODIFIED:20250925T195620Z
UID:10004097-1765223100-1765227900@sportundkulturverein.net
SUMMARY:Viniyoga - Männerkurs mit Meditation
DESCRIPTION:Robert Altnöder unterrichtet nach den Prinzipien des Viniyoga. \nHier werden hauptsächlich Bewegungsabläufe geübt\, die vom Atem geführt sind.\nDiese Art des Unterrichtens von Yoga respektiert den kulturellen\, sozialen\, körperlichen\, geistigen und seelischen Hintergrund eines Menschen in besonderer Weise. Eingefügt in eine Vorbereitungs-\, Nachspür- und Ausgleichsphase können die Übungen so gewählt werden\, dass auch auf den Einzelnen in der Gruppe Rücksicht genommen werden kann. So werden gleichzeitig die Faszien behandelt. \nDie Teilnehmer bekommen auch Übungen an die Hand\, mit deren Hilfe sie für den sitzenden Alltag besser gewappnet sind.
URL:https://sportundkulturverein.net/veranstaltung/viniyoga-maennerkurs-mit-meditation-2/2025-12-08/
LOCATION:Betriebssportraum D 0162
CATEGORIES:Fit & Gesund
ATTACH;FMTTYPE=image/jpeg:https://sportundkulturverein.net/wp-content/uploads/2021/08/woman-practising-yoga-at-home.jpg
ORGANIZER;CN="Robert Altn%C3%B6der":MAILTO:r.altnoeder@gmx
END:VEVENT
BEGIN:VEVENT
DTSTART;TZID=Europe/Berlin:20251210T130000
DTEND;TZID=Europe/Berlin:20251210T140000
DTSTAMP:20260419T232833
CREATED:20250925T192517Z
LAST-MODIFIED:20250925T195421Z
UID:10004159-1765371600-1765375200@sportundkulturverein.net
SUMMARY:Viniyoga - Mittags-Onlinekurs
DESCRIPTION:Robert Altnöder unterrichtet nach den Prinzipien des Viniyoga. \nHier werden hauptsächlich Bewegungsabläufe geübt\, die vom Atem geführt sind.\nDiese Art des Unterrichtens von Yoga respektiert den kulturellen\, sozialen\, körperlichen\, geistigen und seelischen Hintergrund eines Menschen in besonderer Weise. Eingefügt in eine Vorbereitungs-\, Nachspür- und Ausgleichsphase können die Übungen so gewählt werden\, dass auch auf den Einzelnen in der Gruppe Rücksicht genommen werden kann. So werden gleichzeitig die Faszien behandelt. \nDie Teilnehmer bekommen auch Übungen an die Hand\, mit deren Hilfe sie für den sitzenden Alltag besser gewappnet sind.
URL:https://sportundkulturverein.net/veranstaltung/viniyoga-mittags-onlinekurs/2025-12-10/
LOCATION:Betriebssportraum D 0162
CATEGORIES:Fit & Gesund
ATTACH;FMTTYPE=image/jpeg:https://sportundkulturverein.net/wp-content/uploads/2021/08/woman-practising-yoga-at-home.jpg
ORGANIZER;CN="Robert Altn%C3%B6der":MAILTO:r.altnoeder@gmx
END:VEVENT
BEGIN:VEVENT
DTSTART;TZID=Europe/Berlin:20251217T130000
DTEND;TZID=Europe/Berlin:20251217T140000
DTSTAMP:20260419T232833
CREATED:20250925T192517Z
LAST-MODIFIED:20250925T195421Z
UID:10004160-1765976400-1765980000@sportundkulturverein.net
SUMMARY:Viniyoga - Mittags-Onlinekurs
DESCRIPTION:Robert Altnöder unterrichtet nach den Prinzipien des Viniyoga. \nHier werden hauptsächlich Bewegungsabläufe geübt\, die vom Atem geführt sind.\nDiese Art des Unterrichtens von Yoga respektiert den kulturellen\, sozialen\, körperlichen\, geistigen und seelischen Hintergrund eines Menschen in besonderer Weise. Eingefügt in eine Vorbereitungs-\, Nachspür- und Ausgleichsphase können die Übungen so gewählt werden\, dass auch auf den Einzelnen in der Gruppe Rücksicht genommen werden kann. So werden gleichzeitig die Faszien behandelt. \nDie Teilnehmer bekommen auch Übungen an die Hand\, mit deren Hilfe sie für den sitzenden Alltag besser gewappnet sind.
URL:https://sportundkulturverein.net/veranstaltung/viniyoga-mittags-onlinekurs/2025-12-17/
LOCATION:Betriebssportraum D 0162
CATEGORIES:Fit & Gesund
ATTACH;FMTTYPE=image/jpeg:https://sportundkulturverein.net/wp-content/uploads/2021/08/woman-practising-yoga-at-home.jpg
ORGANIZER;CN="Robert Altn%C3%B6der":MAILTO:r.altnoeder@gmx
END:VEVENT
BEGIN:VEVENT
DTSTART;TZID=Europe/Berlin:20251224T130000
DTEND;TZID=Europe/Berlin:20251224T140000
DTSTAMP:20260419T232833
CREATED:20250925T192517Z
LAST-MODIFIED:20250925T195421Z
UID:10004161-1766581200-1766584800@sportundkulturverein.net
SUMMARY:Viniyoga - Mittags-Onlinekurs
DESCRIPTION:Robert Altnöder unterrichtet nach den Prinzipien des Viniyoga. \nHier werden hauptsächlich Bewegungsabläufe geübt\, die vom Atem geführt sind.\nDiese Art des Unterrichtens von Yoga respektiert den kulturellen\, sozialen\, körperlichen\, geistigen und seelischen Hintergrund eines Menschen in besonderer Weise. Eingefügt in eine Vorbereitungs-\, Nachspür- und Ausgleichsphase können die Übungen so gewählt werden\, dass auch auf den Einzelnen in der Gruppe Rücksicht genommen werden kann. So werden gleichzeitig die Faszien behandelt. \nDie Teilnehmer bekommen auch Übungen an die Hand\, mit deren Hilfe sie für den sitzenden Alltag besser gewappnet sind.
URL:https://sportundkulturverein.net/veranstaltung/viniyoga-mittags-onlinekurs/2025-12-24/
LOCATION:Betriebssportraum D 0162
CATEGORIES:Fit & Gesund
ATTACH;FMTTYPE=image/jpeg:https://sportundkulturverein.net/wp-content/uploads/2021/08/woman-practising-yoga-at-home.jpg
ORGANIZER;CN="Robert Altn%C3%B6der":MAILTO:r.altnoeder@gmx
END:VEVENT
BEGIN:VEVENT
DTSTART;TZID=Europe/Berlin:20251231T130000
DTEND;TZID=Europe/Berlin:20251231T140000
DTSTAMP:20260419T232833
CREATED:20250925T192517Z
LAST-MODIFIED:20250925T195421Z
UID:10004162-1767186000-1767189600@sportundkulturverein.net
SUMMARY:Viniyoga - Mittags-Onlinekurs
DESCRIPTION:Robert Altnöder unterrichtet nach den Prinzipien des Viniyoga. \nHier werden hauptsächlich Bewegungsabläufe geübt\, die vom Atem geführt sind.\nDiese Art des Unterrichtens von Yoga respektiert den kulturellen\, sozialen\, körperlichen\, geistigen und seelischen Hintergrund eines Menschen in besonderer Weise. Eingefügt in eine Vorbereitungs-\, Nachspür- und Ausgleichsphase können die Übungen so gewählt werden\, dass auch auf den Einzelnen in der Gruppe Rücksicht genommen werden kann. So werden gleichzeitig die Faszien behandelt. \nDie Teilnehmer bekommen auch Übungen an die Hand\, mit deren Hilfe sie für den sitzenden Alltag besser gewappnet sind.
URL:https://sportundkulturverein.net/veranstaltung/viniyoga-mittags-onlinekurs/2025-12-31/
LOCATION:Betriebssportraum D 0162
CATEGORIES:Fit & Gesund
ATTACH;FMTTYPE=image/jpeg:https://sportundkulturverein.net/wp-content/uploads/2021/08/woman-practising-yoga-at-home.jpg
ORGANIZER;CN="Robert Altn%C3%B6der":MAILTO:r.altnoeder@gmx
END:VEVENT
END:VCALENDAR