BEGIN:VCALENDAR
VERSION:2.0
PRODID:-//ADAC Sport- und Kulturverein e.V - ECPv6.11.2//NONSGML v1.0//EN
CALSCALE:GREGORIAN
METHOD:PUBLISH
X-WR-CALNAME:ADAC Sport- und Kulturverein e.V
X-ORIGINAL-URL:https://sportundkulturverein.net
X-WR-CALDESC:Veranstaltungen für ADAC Sport- und Kulturverein e.V
REFRESH-INTERVAL;VALUE=DURATION:PT1H
X-Robots-Tag:noindex
X-PUBLISHED-TTL:PT1H
BEGIN:VTIMEZONE
TZID:Europe/Berlin
BEGIN:DAYLIGHT
TZOFFSETFROM:+0100
TZOFFSETTO:+0200
TZNAME:CEST
DTSTART:20260329T010000
END:DAYLIGHT
BEGIN:STANDARD
TZOFFSETFROM:+0200
TZOFFSETTO:+0100
TZNAME:CET
DTSTART:20261025T010000
END:STANDARD
END:VTIMEZONE
BEGIN:VEVENT
DTSTART;TZID=Europe/Berlin:20260205T180000
DTEND;TZID=Europe/Berlin:20260205T190000
DTSTAMP:20260420T025341
CREATED:20260306T185510Z
LAST-MODIFIED:20260306T185510Z
UID:10005403-1770314400-1770318000@sportundkulturverein.net
SUMMARY:Online Business Yoga
DESCRIPTION:Das moderne Arbeitsleben ist von hohem Erfolgsdruck geprägt und erfordert zunehmend ein professionelles Stress- und Selbstmanagement. \nEin auf diesen Bedarf angepasstes online Yoga-Angebot lindert akute Probleme und wirkt präventiv. \nFließende Bewegungsabläufe wechseln sich mit Übungen für den Schulter-Nackenbereich ab um wieder in Einklang mit sich selbst zu kommen\, den Körper bewusst wahrzunehmen und einen Ausgleich zum Vielsitzen zu schaffen. \nEinfach die Yoga-Matte zu Hause ausrollen und los geht’s! \nKeine Vorkenntnisse im Yoga erforderlich (Anfänger)
URL:https://sportundkulturverein.net/veranstaltung/online-business-yoga-6/2026-02-05/
LOCATION:online
CATEGORIES:Fit & Gesund
ATTACH;FMTTYPE=image/jpeg:https://sportundkulturverein.net/wp-content/uploads/2021/08/woman-practising-yoga-at-home.jpg
ORGANIZER;CN="Claudia Bauer":MAILTO:claudia.bauer@yogabiz.de
END:VEVENT
BEGIN:VEVENT
DTSTART;TZID=Europe/Berlin:20260212T180000
DTEND;TZID=Europe/Berlin:20260212T190000
DTSTAMP:20260420T025341
CREATED:20260306T185510Z
LAST-MODIFIED:20260306T185510Z
UID:10005404-1770919200-1770922800@sportundkulturverein.net
SUMMARY:Online Business Yoga
DESCRIPTION:Das moderne Arbeitsleben ist von hohem Erfolgsdruck geprägt und erfordert zunehmend ein professionelles Stress- und Selbstmanagement. \nEin auf diesen Bedarf angepasstes online Yoga-Angebot lindert akute Probleme und wirkt präventiv. \nFließende Bewegungsabläufe wechseln sich mit Übungen für den Schulter-Nackenbereich ab um wieder in Einklang mit sich selbst zu kommen\, den Körper bewusst wahrzunehmen und einen Ausgleich zum Vielsitzen zu schaffen. \nEinfach die Yoga-Matte zu Hause ausrollen und los geht’s! \nKeine Vorkenntnisse im Yoga erforderlich (Anfänger)
URL:https://sportundkulturverein.net/veranstaltung/online-business-yoga-6/2026-02-12/
LOCATION:online
CATEGORIES:Fit & Gesund
ATTACH;FMTTYPE=image/jpeg:https://sportundkulturverein.net/wp-content/uploads/2021/08/woman-practising-yoga-at-home.jpg
ORGANIZER;CN="Claudia Bauer":MAILTO:claudia.bauer@yogabiz.de
END:VEVENT
BEGIN:VEVENT
DTSTART;TZID=Europe/Berlin:20260219T180000
DTEND;TZID=Europe/Berlin:20260219T190000
DTSTAMP:20260420T025341
CREATED:20260306T185510Z
LAST-MODIFIED:20260306T185510Z
UID:10005405-1771524000-1771527600@sportundkulturverein.net
SUMMARY:Online Business Yoga
DESCRIPTION:Das moderne Arbeitsleben ist von hohem Erfolgsdruck geprägt und erfordert zunehmend ein professionelles Stress- und Selbstmanagement. \nEin auf diesen Bedarf angepasstes online Yoga-Angebot lindert akute Probleme und wirkt präventiv. \nFließende Bewegungsabläufe wechseln sich mit Übungen für den Schulter-Nackenbereich ab um wieder in Einklang mit sich selbst zu kommen\, den Körper bewusst wahrzunehmen und einen Ausgleich zum Vielsitzen zu schaffen. \nEinfach die Yoga-Matte zu Hause ausrollen und los geht’s! \nKeine Vorkenntnisse im Yoga erforderlich (Anfänger)
URL:https://sportundkulturverein.net/veranstaltung/online-business-yoga-6/2026-02-19/
LOCATION:online
CATEGORIES:Fit & Gesund
ATTACH;FMTTYPE=image/jpeg:https://sportundkulturverein.net/wp-content/uploads/2021/08/woman-practising-yoga-at-home.jpg
ORGANIZER;CN="Claudia Bauer":MAILTO:claudia.bauer@yogabiz.de
END:VEVENT
END:VCALENDAR