BEGIN:VCALENDAR
VERSION:2.0
PRODID:-//ADAC Sport- und Kulturverein e.V - ECPv6.11.2//NONSGML v1.0//EN
CALSCALE:GREGORIAN
METHOD:PUBLISH
X-ORIGINAL-URL:https://sportundkulturverein.net
X-WR-CALDESC:Veranstaltungen für ADAC Sport- und Kulturverein e.V
REFRESH-INTERVAL;VALUE=DURATION:PT1H
X-Robots-Tag:noindex
X-PUBLISHED-TTL:PT1H
BEGIN:VTIMEZONE
TZID:Europe/Berlin
BEGIN:DAYLIGHT
TZOFFSETFROM:+0100
TZOFFSETTO:+0200
TZNAME:CEST
DTSTART:20250330T010000
END:DAYLIGHT
BEGIN:STANDARD
TZOFFSETFROM:+0200
TZOFFSETTO:+0100
TZNAME:CET
DTSTART:20251026T010000
END:STANDARD
END:VTIMEZONE
BEGIN:VEVENT
DTSTART;TZID=Europe/Berlin:20251201T180000
DTEND;TZID=Europe/Berlin:20251201T190000
DTSTAMP:20260420T064551
CREATED:20250512T145206Z
LAST-MODIFIED:20250512T145234Z
UID:10001832-1764612000-1764615600@sportundkulturverein.net
SUMMARY:Online Business Yoga
DESCRIPTION:Das moderne Arbeitsleben ist von hohem Erfolgsdruck geprägt und erfordert zunehmend ein professionelles Stress- und Selbstmanagement. \nEin auf diesen Bedarf angepasstes online Yoga-Angebot lindert akute Probleme und wirkt präventiv. \nFließende Bewegungsabläufe wechseln sich mit Übungen für den Schulter-Nackenbereich ab um wieder in Einklang mit sich selbst zu kommen\, den Körper bewusst wahrzunehmen und einen Ausgleich zum Vielsitzen zu schaffen. \nEinfach die Yoga-Matte zu Hause ausrollen und los geht’s! \nKeine Vorkenntnisse im Yoga erforderlich (Anfänger)
URL:https://sportundkulturverein.net/veranstaltung/online-business-yoga-3/2025-12-01/
LOCATION:online
CATEGORIES:Fit & Gesund
ATTACH;FMTTYPE=image/jpeg:https://sportundkulturverein.net/wp-content/uploads/2021/08/woman-practising-yoga-at-home.jpg
ORGANIZER;CN="Claudia Bauer":MAILTO:claudia.bauer@yogabiz.de
END:VEVENT
BEGIN:VEVENT
DTSTART;TZID=Europe/Berlin:20251208T180000
DTEND;TZID=Europe/Berlin:20251208T190000
DTSTAMP:20260420T064551
CREATED:20250512T145206Z
LAST-MODIFIED:20250512T145234Z
UID:10001833-1765216800-1765220400@sportundkulturverein.net
SUMMARY:Online Business Yoga
DESCRIPTION:Das moderne Arbeitsleben ist von hohem Erfolgsdruck geprägt und erfordert zunehmend ein professionelles Stress- und Selbstmanagement. \nEin auf diesen Bedarf angepasstes online Yoga-Angebot lindert akute Probleme und wirkt präventiv. \nFließende Bewegungsabläufe wechseln sich mit Übungen für den Schulter-Nackenbereich ab um wieder in Einklang mit sich selbst zu kommen\, den Körper bewusst wahrzunehmen und einen Ausgleich zum Vielsitzen zu schaffen. \nEinfach die Yoga-Matte zu Hause ausrollen und los geht’s! \nKeine Vorkenntnisse im Yoga erforderlich (Anfänger)
URL:https://sportundkulturverein.net/veranstaltung/online-business-yoga-3/2025-12-08/
LOCATION:online
CATEGORIES:Fit & Gesund
ATTACH;FMTTYPE=image/jpeg:https://sportundkulturverein.net/wp-content/uploads/2021/08/woman-practising-yoga-at-home.jpg
ORGANIZER;CN="Claudia Bauer":MAILTO:claudia.bauer@yogabiz.de
END:VEVENT
BEGIN:VEVENT
DTSTART;TZID=Europe/Berlin:20251215T180000
DTEND;TZID=Europe/Berlin:20251215T190000
DTSTAMP:20260420T064551
CREATED:20250512T145206Z
LAST-MODIFIED:20250512T145234Z
UID:10001834-1765821600-1765825200@sportundkulturverein.net
SUMMARY:Online Business Yoga
DESCRIPTION:Das moderne Arbeitsleben ist von hohem Erfolgsdruck geprägt und erfordert zunehmend ein professionelles Stress- und Selbstmanagement. \nEin auf diesen Bedarf angepasstes online Yoga-Angebot lindert akute Probleme und wirkt präventiv. \nFließende Bewegungsabläufe wechseln sich mit Übungen für den Schulter-Nackenbereich ab um wieder in Einklang mit sich selbst zu kommen\, den Körper bewusst wahrzunehmen und einen Ausgleich zum Vielsitzen zu schaffen. \nEinfach die Yoga-Matte zu Hause ausrollen und los geht’s! \nKeine Vorkenntnisse im Yoga erforderlich (Anfänger)
URL:https://sportundkulturverein.net/veranstaltung/online-business-yoga-3/2025-12-15/
LOCATION:online
CATEGORIES:Fit & Gesund
ATTACH;FMTTYPE=image/jpeg:https://sportundkulturverein.net/wp-content/uploads/2021/08/woman-practising-yoga-at-home.jpg
ORGANIZER;CN="Claudia Bauer":MAILTO:claudia.bauer@yogabiz.de
END:VEVENT
END:VCALENDAR