BEGIN:VCALENDAR
VERSION:2.0
PRODID:-//ADAC Sport- und Kulturverein e.V - ECPv6.11.2//NONSGML v1.0//EN
CALSCALE:GREGORIAN
METHOD:PUBLISH
X-ORIGINAL-URL:https://sportundkulturverein.net
X-WR-CALDESC:Veranstaltungen für ADAC Sport- und Kulturverein e.V
REFRESH-INTERVAL;VALUE=DURATION:PT1H
X-Robots-Tag:noindex
X-PUBLISHED-TTL:PT1H
BEGIN:VTIMEZONE
TZID:Europe/Berlin
BEGIN:DAYLIGHT
TZOFFSETFROM:+0100
TZOFFSETTO:+0200
TZNAME:CEST
DTSTART:20260329T010000
END:DAYLIGHT
BEGIN:STANDARD
TZOFFSETFROM:+0200
TZOFFSETTO:+0100
TZNAME:CET
DTSTART:20261025T010000
END:STANDARD
END:VTIMEZONE
BEGIN:VEVENT
DTSTART;VALUE=DATE:20260520
DTEND;VALUE=DATE:20260521
DTSTAMP:20260423T064842
CREATED:20260422T123914Z
LAST-MODIFIED:20260422T123914Z
UID:10006674-1779235200-1779321599@sportundkulturverein.net
SUMMARY:5×5 km Teamstaffel Westpark
DESCRIPTION:http://www.team2run.com/\nOrt: Westpark\, München\nStrecken: 5 x 5 km\, 4 x 5 km\, 3 x 5 km (Frauen)\nHighlight: Anschließender Besuch im Gans am Wasser inkl. Verpflegung\n(ADAC Sport- und Kulturverein übernimmt Startgebühr)
URL:https://sportundkulturverein.net/veranstaltung/5x5-km-teamstaffel-westpark/
LOCATION:Westpark\, München
CATEGORIES:Sport
ORGANIZER;CN="Stephan Reinberger":MAILTO:stephan.reinberger@adac.de
END:VEVENT
END:VCALENDAR