BEGIN:VCALENDAR
VERSION:2.0
PRODID:-//ADAC Sport- und Kulturverein e.V - ECPv6.11.2//NONSGML v1.0//EN
CALSCALE:GREGORIAN
METHOD:PUBLISH
X-WR-CALNAME:ADAC Sport- und Kulturverein e.V
X-ORIGINAL-URL:https://sportundkulturverein.net
X-WR-CALDESC:Veranstaltungen für ADAC Sport- und Kulturverein e.V
REFRESH-INTERVAL;VALUE=DURATION:PT1H
X-Robots-Tag:noindex
X-PUBLISHED-TTL:PT1H
BEGIN:VTIMEZONE
TZID:Europe/Berlin
BEGIN:DAYLIGHT
TZOFFSETFROM:+0100
TZOFFSETTO:+0200
TZNAME:CEST
DTSTART:20260329T010000
END:DAYLIGHT
BEGIN:STANDARD
TZOFFSETFROM:+0200
TZOFFSETTO:+0100
TZNAME:CET
DTSTART:20261025T010000
END:STANDARD
END:VTIMEZONE
BEGIN:VEVENT
DTSTART;TZID=Europe/Berlin:20260423T180000
DTEND;TZID=Europe/Berlin:20260423T192000
DTSTAMP:20260423T002128
CREATED:20260420T163249Z
LAST-MODIFIED:20260420T164411Z
UID:10006360-1776967200-1776972000@sportundkulturverein.net
SUMMARY:Südamerikanischer DANCEMIX
DESCRIPTION:Südamerikanischer DANCEMIX mit Andrea\nEin energiegeladenes Erlebnis voller Rhythmus\, Kultur und Lebensfreude. \nDancemix ist eine explosive Kombination aus südamerikanischen und karibischen Rhythmen\, die deinen Körper von Kopf bis Fuß in Bewegung bringt.\nWir entdecken verschiedene Tanzstile\, um neue Bewegungsformen zu erkunden\, Energie freizusetzen und aus südamerikanischen Kulturen die exotischen Rhythmen zu genießen. \nWir freuen uns auf Dich! Es sind keine Vorkenntnisse notwendig.
URL:https://sportundkulturverein.net/veranstaltung/suedamerikanischer-dancemix/2026-04-23/
LOCATION:Betriebssportraum D 0162
CATEGORIES:Sport
ORGANIZER;CN="Renate Holler":MAILTO:renate.holler@adac.de
END:VEVENT
BEGIN:VEVENT
DTSTART;TZID=Europe/Berlin:20260423T180000
DTEND;TZID=Europe/Berlin:20260423T193000
DTSTAMP:20260423T002128
CREATED:20260420T165927Z
LAST-MODIFIED:20260420T165927Z
UID:10006633-1776967200-1776972600@sportundkulturverein.net
SUMMARY:Refresher - Selbstverteidigung für Frauen
DESCRIPTION:Selbstverteidigungskurse bieten nicht nur die Möglichkeit\, sich in gefährlichen Situationen zu schützen\, sondern stärken auch das Selbstbewusstsein und die mentale Stärke. Durch das Erlernen von Techniken zur Selbstverteidigung können Frauen ihre persönliche Sicherheit erhöhen und sich im Alltag sicherer fühlen. \nFür alle\, die den 4-wöchigen Kurs schon besucht haben\, bieten wir einen Refresher an.
URL:https://sportundkulturverein.net/veranstaltung/refresher-selbstverteidigung-fuer-frauen/
LOCATION:Betriebssportraum D 0162
CATEGORIES:Fit & Gesund
ATTACH;FMTTYPE=image/webp:https://sportundkulturverein.net/wp-content/uploads/2025/04/Selbstverteidigung_7-e1743582599851.webp
ORGANIZER;CN="Julia M%C3%BCller":MAILTO:julia.mueller2@adac.de
END:VEVENT
BEGIN:VEVENT
DTSTART;TZID=Europe/Berlin:20260423T180000
DTEND;TZID=Europe/Berlin:20260423T200000
DTSTAMP:20260423T002128
CREATED:20250511T152758Z
LAST-MODIFIED:20250512T150550Z
UID:10001675-1776967200-1776974400@sportundkulturverein.net
SUMMARY:Bowling München
DESCRIPTION:Beim Bowling gibt es keine signifikanten körperlichen Einschränkungen für die Spieler \, sodass sowohl jüngere als auch ältere Spieler gegeneinander antreten können. Durch den schnellen Spielerwechsel auf der Bahn ist das Spiel spannend und dynamisch\, da die Spieler ihre aktuellen Ergebnisse und Punktegewinne miteinander vergleichen können. \nEs handelt sich um einen bequemen und sicheren Sport\, der dank der Tatsache\, dass seine Spiele in Innenräumen ausgetragen werden\, unabhängig von möglichen schlechten Wetterbedingungen ist. \nDie Bowling-Gruppe München trifft sich regelmäßig – auch während der Schulferien – zum gemeinsamen Spiel. \nNeue Mitspieler sind jederzeit – auch zum schnuppern – willkommen!
URL:https://sportundkulturverein.net/veranstaltung/bowling-muenchen/2026-04-23/
LOCATION:Hollywood Super Bowling München\, Forstenrieder Allee 74\, Münche\, 81476
CATEGORIES:Sport
ATTACH;FMTTYPE=image/jpeg:https://sportundkulturverein.net/wp-content/uploads/2021/08/friends-bowling.jpg
ORGANIZER;CN="Christine Nickel":MAILTO:christine.nickel@adac.de
END:VEVENT
BEGIN:VEVENT
DTSTART;TZID=Europe/Berlin:20260424T171500
DTEND;TZID=Europe/Berlin:20260424T191500
DTSTAMP:20260423T002128
CREATED:20250511T145604Z
LAST-MODIFIED:20250519T082911Z
UID:10000879-1777050900-1777058100@sportundkulturverein.net
SUMMARY:Badminton
DESCRIPTION:Badminton ist eine Sportart\, Federball ist ein Spiel.\nBeim Federball versucht man\, den Ball so lange wie möglich in der Luft zu halten. Beim Badminton hingegen versucht man\, den Ball so schnell wie möglich in das gegnerische Feld zu schmettern. \nAlle interessierten Badmintonfreunde\, vom Anfänger über den Fortgeschrittenen bis zum Top-Spieler\, sind herzlich willkommen! \nWährend der bayerischen Schulferien findet kein Training statt.
URL:https://sportundkulturverein.net/veranstaltung/badminton/2026-04-24/
LOCATION:SV 1880\, Tübinger Str. 10\, München\, 80686
CATEGORIES:Sport
ATTACH;FMTTYPE=image/jpeg:https://sportundkulturverein.net/wp-content/uploads/2021/08/badminton-equipment.jpg
END:VEVENT
BEGIN:VEVENT
DTSTART;TZID=Europe/Berlin:20260427T183000
DTEND;TZID=Europe/Berlin:20260427T194000
DTSTAMP:20260423T002128
CREATED:20260210T125926Z
LAST-MODIFIED:20260210T125926Z
UID:10005230-1777314600-1777318800@sportundkulturverein.net
SUMMARY:Viniyoga - gemischter Abendkurs
DESCRIPTION:Robert Altnöder unterrichtet nach den Prinzipien des Viniyoga. \nHier werden hauptsächlich Bewegungsabläufe geübt\, die vom Atem geführt sind.\nDiese Art des Unterrichtens von Yoga respektiert den kulturellen\, sozialen\, körperlichen\, geistigen und seelischen Hintergrund eines Menschen in besonderer Weise. Eingefügt in eine Vorbereitungs-\, Nachspür- und Ausgleichsphase können die Übungen so gewählt werden\, dass auch auf den Einzelnen in der Gruppe Rücksicht genommen werden kann. So werden gleichzeitig die Faszien behandelt. \nDie Teilnehmer bekommen auch Übungen an die Hand\, mit deren Hilfe sie für den sitzenden Alltag besser gewappnet sind.
URL:https://sportundkulturverein.net/veranstaltung/viniyoga-gemischter-abendkurs/2026-04-27/
LOCATION:Betriebssportraum D 0162
CATEGORIES:Fit & Gesund
ATTACH;FMTTYPE=image/jpeg:https://sportundkulturverein.net/wp-content/uploads/2021/08/woman-practising-yoga-at-home.jpg
ORGANIZER;CN="Robert Altn%C3%B6der":MAILTO:r.altnoeder@gmx
END:VEVENT
BEGIN:VEVENT
DTSTART;TZID=Europe/Berlin:20260427T194500
DTEND;TZID=Europe/Berlin:20260427T210500
DTSTAMP:20260423T002128
CREATED:20260210T130320Z
LAST-MODIFIED:20260210T130320Z
UID:10005261-1777319100-1777323900@sportundkulturverein.net
SUMMARY:Viniyoga - Männerkurs mit Meditation
DESCRIPTION:Robert Altnöder unterrichtet nach den Prinzipien des Viniyoga. \nHier werden hauptsächlich Bewegungsabläufe geübt\, die vom Atem geführt sind.\nDiese Art des Unterrichtens von Yoga respektiert den kulturellen\, sozialen\, körperlichen\, geistigen und seelischen Hintergrund eines Menschen in besonderer Weise. Eingefügt in eine Vorbereitungs-\, Nachspür- und Ausgleichsphase können die Übungen so gewählt werden\, dass auch auf den Einzelnen in der Gruppe Rücksicht genommen werden kann. So werden gleichzeitig die Faszien behandelt. \nDie Teilnehmer bekommen auch Übungen an die Hand\, mit deren Hilfe sie für den sitzenden Alltag besser gewappnet sind.
URL:https://sportundkulturverein.net/veranstaltung/viniyoga-maennerkurs-mit-meditation/2026-04-27/
LOCATION:Betriebssportraum D 0162
CATEGORIES:Fit & Gesund
ATTACH;FMTTYPE=image/jpeg:https://sportundkulturverein.net/wp-content/uploads/2021/08/woman-practising-yoga-at-home.jpg
ORGANIZER;CN="Robert Altn%C3%B6der":MAILTO:r.altnoeder@gmx
END:VEVENT
BEGIN:VEVENT
DTSTART;TZID=Europe/Berlin:20260428T163000
DTEND;TZID=Europe/Berlin:20260428T173000
DTSTAMP:20260423T002128
CREATED:20260328T124404Z
LAST-MODIFIED:20260328T124404Z
UID:10005728-1777393800-1777397400@sportundkulturverein.net
SUMMARY:Zumba
DESCRIPTION:Zumba ist ein dynamisches und energiegeladenes Fitness-Programm\, das Tanz und Fitness miteinander verbindet.  Die Teilnehmer tanzen zu mitreißender Musik und führen dabei einfache\, aber wirkungsvolle Bewegungen aus\, die die Herzfrequenz erhöhen und die Kalorienverbrennung ankurbeln. \nZumba ist für alle Fitnesslevel geeignet: egal\, ob blutiger Anfänger oder Tanzprofi\, jeder kann mitmachen. \nEs sind wieder 10 Termine geplant.\nAuf Grund der Ferienzeit werden die einzelnen Einheiten mit der Trainerin vorher abgestimmt\, ob der Kurs in einzelnen Wochen u.U. pausiert.
URL:https://sportundkulturverein.net/veranstaltung/zumba-3/2026-04-28/
LOCATION:Ladehof\, ADAC Zentrale\, Hansastr. 19\, München\, 80686
CATEGORIES:Sport
ATTACH;FMTTYPE=image/jpeg:https://sportundkulturverein.net/wp-content/uploads/2025/03/ZumbaKI.jpeg
ORGANIZER;CN="Patrizia Mariotti":MAILTO:patrizia.mariotti@adac.de
END:VEVENT
BEGIN:VEVENT
DTSTART;TZID=Europe/Berlin:20260428T170000
DTEND;TZID=Europe/Berlin:20260428T183000
DTSTAMP:20260423T002128
CREATED:20250511T150031Z
LAST-MODIFIED:20250519T082713Z
UID:10001159-1777395600-1777401000@sportundkulturverein.net
SUMMARY:Basketball
DESCRIPTION:Bei uns stehen Spaß und Freude an dieser wundervollen Ballsportart im Mittelpunkt.\nJe nach Anzahl der Teilnehmer machen wir lustige Shootouts\, hartumkämpfte Games (jeder gegen jeden\, eins gegen eins\, Team gegen Team) oder einfach nur entspanntes Korbwerfen zum Runterkommen nach einem anstrengenden Arbeitstag. \nWir sind aktuell eine kleine Gruppe basketballbegeisterter Erwachsener und freuen uns über viele weitere Mitspielerinnen und Mitspieler. \nWährend der bayerischen Schulferien findet kein Training statt.
URL:https://sportundkulturverein.net/veranstaltung/basketball/2026-04-28/
LOCATION:Grundschule Stielerstraße\, Stielerstr. 6\, München\, 80336
CATEGORIES:Sport
ORGANIZER;CN="Manuel Aslanidis":MAILTO:manuel.aslanidis@adac.de
END:VEVENT
BEGIN:VEVENT
DTSTART;TZID=Europe/Berlin:20260428T170000
DTEND;TZID=Europe/Berlin:20260428T190000
DTSTAMP:20260423T002128
CREATED:20250618T115200Z
LAST-MODIFIED:20250618T115200Z
UID:10003603-1777395600-1777402800@sportundkulturverein.net
SUMMARY:ADAC Jamming
DESCRIPTION:Wenn Ihr Lust auf eine Jam-Seesion habt\, freuen wir uns\, wenn Ihr zu uns stoßt. \nHierfür müsst keine Profi-Musiker sein und es ist auch nicht das Ziel\, im Stile einer Band Musikstücke bis zur Bühnenreife einzuüben\, sondern gemeinsam Spaß zu haben.\nDie Lieder werden nach den Wünschen und Neigungen der Teilnehmer ausgesucht – jeder kann und darf sich einbringen. Überwiegend geht es in die Richtung Rock\, Pop\, Folk evtl. etwas Jazz\, alles worauf wir Lust haben. \n 
URL:https://sportundkulturverein.net/veranstaltung/adac-jamming/2026-04-28/
LOCATION:ADAC Zentrale\, Konferenzsaal – EG08
CATEGORIES:Kultur
END:VEVENT
BEGIN:VEVENT
DTSTART;TZID=Europe/Berlin:20260428T170000
DTEND;TZID=Europe/Berlin:20260428T193000
DTSTAMP:20260423T002128
CREATED:20250512T155152Z
LAST-MODIFIED:20250519T082537Z
UID:10002205-1777395600-1777404600@sportundkulturverein.net
SUMMARY:Tischtennis
DESCRIPTION:Die Tischtennis-Fans spielen wöchentlich – zusammen mit der Sportgemeinschaft der Betriebssportgruppe Metzeler. \nEs wird in der Regel Doppel oder Mixed gespielt. Hallenturnschuhe sind Pflicht\, ebenso eigene Schläger. \nAlle interessierte Tischtennisfreunde\, vom Anfänger bis zum Fortgeschrittenen sind herzlich willkommen! \nWährend der bayerischen Schulferien findet kein Training statt.
URL:https://sportundkulturverein.net/veranstaltung/tischtennis/2026-04-28/
LOCATION:Guldeinschule\, Guldeinstr. 27\, München\, 80339
CATEGORIES:Sport
ATTACH;FMTTYPE=image/jpeg:https://sportundkulturverein.net/wp-content/uploads/2021/08/ping-pong-supplies.jpg
ORGANIZER;CN="Markus Dehm":MAILTO:markus.dehm@adac.de
END:VEVENT
BEGIN:VEVENT
DTSTART;TZID=Europe/Berlin:20260428T171500
DTEND;TZID=Europe/Berlin:20260428T181500
DTSTAMP:20260423T002128
CREATED:20250511T142315Z
LAST-MODIFIED:20260309T101952Z
UID:10005463-1777396500-1777400100@sportundkulturverein.net
SUMMARY:Pilates
DESCRIPTION:Pilates ist ein systematisches und wohltuendes Ganzkörpertraining zur Kräftigung der gesamten Muskulatur\, vor allem aber der vernachlässigten Tiefenmuskulatur des Rückens und führt nachhaltig zu einer besseren Körperhaltung im Alltag. \nEinmal wöchentlich findet ein „Pilates“-Kurs statt\, in den nicht nur zahlreiche Pilates-Elemente integriert wurden. Wirbelsäulengymnastik ist die beste Therapie und Vorsorge gegen Rückenschmerzen und Verspannungen\, die durch überwiegend sitzende Tätigkeiten hervorgerufen werden. \nDie Kurse werden fortlaufend weitergeführt. Bitte kontaktiert den Kursleiter wg. des laufenden Kurses.
URL:https://sportundkulturverein.net/veranstaltung/pilates/2026-04-28/
LOCATION:Betriebssportraum D 0162
CATEGORIES:Fit & Gesund
ATTACH;FMTTYPE=image/jpeg:https://sportundkulturverein.net/wp-content/uploads/2021/08/gymnastics.jpg
ORGANIZER;CN="Herbert Lehner":MAILTO:lehner.herbert@gmx.de
END:VEVENT
BEGIN:VEVENT
DTSTART;TZID=Europe/Berlin:20260428T183000
DTEND;TZID=Europe/Berlin:20260428T213000
DTSTAMP:20260423T002128
CREATED:20250519T082338Z
LAST-MODIFIED:20250519T082339Z
UID:10002484-1777401000-1777411800@sportundkulturverein.net
SUMMARY:Volleyball
DESCRIPTION:Spaß am Spiel und an Bewegung sind die wichtigsten Einstiegsvoraussetzungen beim Volleyball. \nSpieltechnisch sind die Volleyballer des ADAC mit mittlerem Niveau einzustufen.\nUnsere Spielzüge führen wir i.d.R. strukturiert (2. Ball Stellerball\, 3. Ball Angriffsschlag) aus. \nWer gerne regelmäßig mitspielen möchte oder auch gern einfach mal unangemeldet nur zum Reinschnuppern vorbeikommen möchte\, ist jederzeit eingeladen. \nDie Spieltag-Organisation erfolgt über eine Online-Teilnahmeabfrage. \nWährend der bayerischen Schulferien findet kein Training statt.
URL:https://sportundkulturverein.net/veranstaltung/volleyball-2/2026-04-28/
LOCATION:Grundschule Stielerstraße\, Stielerstr. 6\, München\, 80336
CATEGORIES:Sport
ATTACH;FMTTYPE=image/jpeg:https://sportundkulturverein.net/wp-content/uploads/2021/08/volleyball-players-practicing.jpg
ORGANIZER;CN="Manfred Gentsch":MAILTO:manfred.gentsch@adac.de
END:VEVENT
BEGIN:VEVENT
DTSTART;TZID=Europe/Berlin:20260428T193000
DTEND;TZID=Europe/Berlin:20260428T213000
DTSTAMP:20260423T002128
CREATED:20251017T152739Z
LAST-MODIFIED:20260420T164648Z
UID:10005765-1777404600-1777411800@sportundkulturverein.net
SUMMARY:Bachata Choreographie
DESCRIPTION:Dance Classes with Masha\nIn diesem Kurs konzentrieren wir uns auf Lady Styling im Bachata oder Latin Fusion Stil – Ausdruck\, Eleganz und feminine Bewegungsqualität in leidenschaftlichen Social Latin Tänzen. \nDer Kurs verbindet Technik\, tänzerische Freiheit und Selbstbewusstsein und schafft einen Raum für Leidenschaft\, Weiblichkeit und stärkende weibliche Energie auf der Tanzfläche. \nDer Kurs ist geeignet für Anfängerinnen sowie Tänzerinnen mit Vorkenntnissen.
URL:https://sportundkulturverein.net/veranstaltung/bachata-choreographie/2026-04-28/
LOCATION:Betriebssportraum D 0162
CATEGORIES:Sport
ORGANIZER;CN="Mariia (Masha) Stankevych":MAILTO:mariia.stankevych@tum.de
END:VEVENT
BEGIN:VEVENT
DTSTART;TZID=Europe/Berlin:20260429T171500
DTEND;TZID=Europe/Berlin:20260429T180000
DTSTAMP:20260423T002128
CREATED:20250512T171522Z
LAST-MODIFIED:20250512T171751Z
UID:10002775-1777482900-1777485600@sportundkulturverein.net
SUMMARY:Laufgruppe
DESCRIPTION:Seit Sommer 2022 besteht die ADAC-Laufgruppe und ruft einmal wöchentlich zur entspannten Feierabendrunde durch den Westpark auf. \nZeit und Treffpunkt:\njeden Mittwoch um 17:15 Uhr auf dem kleinen Parkplatz vor dem Haupteingang der Zentrale oder bei kalter Witterung innen im Foyer.\nDie Laufrunde führt einmal durch den Westpark und endet – nach 6\,7 km oder etwa 45 Minuten – wieder an der Zentrale. \nTeilnehmer:\nFrauen und Männer\, die ca. 7 km am Stück in einem Tempo zwischen 6:00 und 7:30 min/km Pace laufen können. Bei unterschiedlichen Tempi bilden sich auch gerne mal mehrere Kleingruppen\, aber grundsätzlich wird niemand alleine gelassen.
URL:https://sportundkulturverein.net/veranstaltung/laufgruppe-2/2026-04-29/
LOCATION:Westpark\, München
CATEGORIES:Sport
ATTACH;FMTTYPE=image/jpeg:https://sportundkulturverein.net/wp-content/uploads/2024/02/Laufgruppe-Teamfoto-scaled.jpg
ORGANIZER;CN="Stephan Reinberger":MAILTO:stephan.reinberger@adac.de
END:VEVENT
BEGIN:VEVENT
DTSTART;TZID=Europe/Berlin:20260429T180000
DTEND;TZID=Europe/Berlin:20260429T200000
DTSTAMP:20260423T002128
CREATED:20250511T152129Z
LAST-MODIFIED:20250511T152129Z
UID:10001438-1777485600-1777492800@sportundkulturverein.net
SUMMARY:Bowling Stuttgart
DESCRIPTION:Beim Bowling gibt es keine signifikanten körperlichen Einschränkungen für die Spieler \, sodass sowohl jüngere als auch ältere Spieler gegeneinander antreten können. Durch den schnellen Spielerwechsel auf der Bahn ist das Spiel spannend und dynamisch\, da die Spieler ihre aktuellen Ergebnisse und Punktegewinne miteinander vergleichen können. \nEs handelt sich um einen bequemen und sicheren Sport\, der dank der Tatsache\, dass seine Spiele in Innenräumen ausgetragen werden\, unabhängig von möglichen schlechten Wetterbedingungen ist. \nDie Bowling-Gruppe Stuttgart trifft sich regelmäßig zum gemeinsamen Spiel.\nAn den Terminen sind jeweils 2 Bahnen reserviert und es wird auch mit und gegen andere Clubs gespielt. \nNeue Mitspieler sind jederzeit willkommen! \n 
URL:https://sportundkulturverein.net/veranstaltung/bowling-stuttgart/2026-04-29/
LOCATION:Bowling Arena Stuttgart\, Am Sportpark 9\, Stuttgart\, 70469
CATEGORIES:Sport
ATTACH;FMTTYPE=image/webp:https://sportundkulturverein.net/wp-content/uploads/2021/08/Bowling_P1030537-2560x1920-1920w.webp
ORGANIZER;CN="Uwe Schickle":MAILTO:bsg.gelbebengel@kabelbw.de
END:VEVENT
BEGIN:VEVENT
DTSTART;TZID=Europe/Berlin:20260429T183000
DTEND;TZID=Europe/Berlin:20260429T200000
DTSTAMP:20260423T002128
CREATED:20250808T182252Z
LAST-MODIFIED:20260420T164736Z
UID:10006094-1777487400-1777492800@sportundkulturverein.net
SUMMARY:Bachata oder Latin Fusion – Lady Styling für Frauen
DESCRIPTION:Dance Classes with Masha\nIn diesem Kurs konzentrieren wir uns auf Lady Styling im Bachata oder Latin Fusion Stil – Ausdruck\, Eleganz und feminine Bewegungsqualität in leidenschaftlichen Social Latin Tänzen. \nDer Kurs verbindet Technik\, tänzerische Freiheit und Selbstbewusstsein und schafft einen Raum für Leidenschaft\, Weiblichkeit und stärkende weibliche Energie auf der Tanzfläche. \nDer Kurs ist geeignet für Anfängerinnen sowie Tänzerinnen mit Vorkenntnissen.
URL:https://sportundkulturverein.net/veranstaltung/batchata-lady-styling/2026-04-29/
LOCATION:Betriebssportraum D 0162
CATEGORIES:Sport
ORGANIZER;CN="Renate Holler":MAILTO:renate.holler@adac.de
END:VEVENT
BEGIN:VEVENT
DTSTART;TZID=Europe/Berlin:20260430T180000
DTEND;TZID=Europe/Berlin:20260430T192000
DTSTAMP:20260423T002128
CREATED:20260420T163249Z
LAST-MODIFIED:20260420T164411Z
UID:10006361-1777572000-1777576800@sportundkulturverein.net
SUMMARY:Südamerikanischer DANCEMIX
DESCRIPTION:Südamerikanischer DANCEMIX mit Andrea\nEin energiegeladenes Erlebnis voller Rhythmus\, Kultur und Lebensfreude. \nDancemix ist eine explosive Kombination aus südamerikanischen und karibischen Rhythmen\, die deinen Körper von Kopf bis Fuß in Bewegung bringt.\nWir entdecken verschiedene Tanzstile\, um neue Bewegungsformen zu erkunden\, Energie freizusetzen und aus südamerikanischen Kulturen die exotischen Rhythmen zu genießen. \nWir freuen uns auf Dich! Es sind keine Vorkenntnisse notwendig.
URL:https://sportundkulturverein.net/veranstaltung/suedamerikanischer-dancemix/2026-04-30/
LOCATION:Betriebssportraum D 0162
CATEGORIES:Sport
ORGANIZER;CN="Renate Holler":MAILTO:renate.holler@adac.de
END:VEVENT
END:VCALENDAR