BEGIN:VCALENDAR
VERSION:2.0
PRODID:-//ADAC Sport- und Kulturverein e.V - ECPv6.11.2//NONSGML v1.0//EN
CALSCALE:GREGORIAN
METHOD:PUBLISH
X-WR-CALNAME:ADAC Sport- und Kulturverein e.V
X-ORIGINAL-URL:https://sportundkulturverein.net
X-WR-CALDESC:Veranstaltungen für ADAC Sport- und Kulturverein e.V
REFRESH-INTERVAL;VALUE=DURATION:PT1H
X-Robots-Tag:noindex
X-PUBLISHED-TTL:PT1H
BEGIN:VTIMEZONE
TZID:Europe/Berlin
BEGIN:DAYLIGHT
TZOFFSETFROM:+0100
TZOFFSETTO:+0200
TZNAME:CEST
DTSTART:20260329T010000
END:DAYLIGHT
BEGIN:STANDARD
TZOFFSETFROM:+0200
TZOFFSETTO:+0100
TZNAME:CET
DTSTART:20261025T010000
END:STANDARD
END:VTIMEZONE
BEGIN:VEVENT
DTSTART;TZID=Europe/Berlin:20260611T164500
DTEND;TZID=Europe/Berlin:20260611T174500
DTSTAMP:20260422T002224
CREATED:20260420T181732Z
LAST-MODIFIED:20260421T072555Z
UID:10006656-1781196300-1781199900@sportundkulturverein.net
SUMMARY:Yoga für Büroangestellte – Atmen & Entspannen
DESCRIPTION:Du sitzt viel\, bist oft im Kopf und suchst einen Ausgleich zum Arbeitsalltag?\nIn diesem Yoga-Kurs steht der Atem im Mittelpunkt – kombiniert mit sanften Bewegungen für Rücken\, Nacken und Schultern. \nIdeal zum Stressabbau\, Durchatmen und Abschalten nach der Arbeit.\nKeine Vorkenntnisse nötig. \nRaus aus dem Arbeitsmodus – rein in den Atem.
URL:https://sportundkulturverein.net/veranstaltung/yoga-fuer-bueroangestellte-atmen-entspannen/2026-06-11/
LOCATION:Betriebssportraum D 0162
CATEGORIES:Fit & Gesund
ATTACH;FMTTYPE=image/jpeg:https://sportundkulturverein.net/wp-content/uploads/2026/04/YogaStephan-scaled-e1776707549238.jpg
ORGANIZER;CN="Stephan Schmid":MAILTO:stephan.schmid@adac.de
END:VEVENT
BEGIN:VEVENT
DTSTART;TZID=Europe/Berlin:20260618T164500
DTEND;TZID=Europe/Berlin:20260618T174500
DTSTAMP:20260422T002224
CREATED:20260420T181732Z
LAST-MODIFIED:20260421T072555Z
UID:10006657-1781801100-1781804700@sportundkulturverein.net
SUMMARY:Yoga für Büroangestellte – Atmen & Entspannen
DESCRIPTION:Du sitzt viel\, bist oft im Kopf und suchst einen Ausgleich zum Arbeitsalltag?\nIn diesem Yoga-Kurs steht der Atem im Mittelpunkt – kombiniert mit sanften Bewegungen für Rücken\, Nacken und Schultern. \nIdeal zum Stressabbau\, Durchatmen und Abschalten nach der Arbeit.\nKeine Vorkenntnisse nötig. \nRaus aus dem Arbeitsmodus – rein in den Atem.
URL:https://sportundkulturverein.net/veranstaltung/yoga-fuer-bueroangestellte-atmen-entspannen/2026-06-18/
LOCATION:Betriebssportraum D 0162
CATEGORIES:Fit & Gesund
ATTACH;FMTTYPE=image/jpeg:https://sportundkulturverein.net/wp-content/uploads/2026/04/YogaStephan-scaled-e1776707549238.jpg
ORGANIZER;CN="Stephan Schmid":MAILTO:stephan.schmid@adac.de
END:VEVENT
BEGIN:VEVENT
DTSTART;TZID=Europe/Berlin:20260625T164500
DTEND;TZID=Europe/Berlin:20260625T174500
DTSTAMP:20260422T002224
CREATED:20260420T181732Z
LAST-MODIFIED:20260421T072555Z
UID:10006658-1782405900-1782409500@sportundkulturverein.net
SUMMARY:Yoga für Büroangestellte – Atmen & Entspannen
DESCRIPTION:Du sitzt viel\, bist oft im Kopf und suchst einen Ausgleich zum Arbeitsalltag?\nIn diesem Yoga-Kurs steht der Atem im Mittelpunkt – kombiniert mit sanften Bewegungen für Rücken\, Nacken und Schultern. \nIdeal zum Stressabbau\, Durchatmen und Abschalten nach der Arbeit.\nKeine Vorkenntnisse nötig. \nRaus aus dem Arbeitsmodus – rein in den Atem.
URL:https://sportundkulturverein.net/veranstaltung/yoga-fuer-bueroangestellte-atmen-entspannen/2026-06-25/
LOCATION:Betriebssportraum D 0162
CATEGORIES:Fit & Gesund
ATTACH;FMTTYPE=image/jpeg:https://sportundkulturverein.net/wp-content/uploads/2026/04/YogaStephan-scaled-e1776707549238.jpg
ORGANIZER;CN="Stephan Schmid":MAILTO:stephan.schmid@adac.de
END:VEVENT
BEGIN:VEVENT
DTSTART;TZID=Europe/Berlin:20260702T164500
DTEND;TZID=Europe/Berlin:20260702T174500
DTSTAMP:20260422T002224
CREATED:20260420T181732Z
LAST-MODIFIED:20260421T072555Z
UID:10006659-1783010700-1783014300@sportundkulturverein.net
SUMMARY:Yoga für Büroangestellte – Atmen & Entspannen
DESCRIPTION:Du sitzt viel\, bist oft im Kopf und suchst einen Ausgleich zum Arbeitsalltag?\nIn diesem Yoga-Kurs steht der Atem im Mittelpunkt – kombiniert mit sanften Bewegungen für Rücken\, Nacken und Schultern. \nIdeal zum Stressabbau\, Durchatmen und Abschalten nach der Arbeit.\nKeine Vorkenntnisse nötig. \nRaus aus dem Arbeitsmodus – rein in den Atem.
URL:https://sportundkulturverein.net/veranstaltung/yoga-fuer-bueroangestellte-atmen-entspannen/2026-07-02/
LOCATION:Betriebssportraum D 0162
CATEGORIES:Fit & Gesund
ATTACH;FMTTYPE=image/jpeg:https://sportundkulturverein.net/wp-content/uploads/2026/04/YogaStephan-scaled-e1776707549238.jpg
ORGANIZER;CN="Stephan Schmid":MAILTO:stephan.schmid@adac.de
END:VEVENT
BEGIN:VEVENT
DTSTART;TZID=Europe/Berlin:20260709T164500
DTEND;TZID=Europe/Berlin:20260709T174500
DTSTAMP:20260422T002224
CREATED:20260420T181732Z
LAST-MODIFIED:20260421T072555Z
UID:10006660-1783615500-1783619100@sportundkulturverein.net
SUMMARY:Yoga für Büroangestellte – Atmen & Entspannen
DESCRIPTION:Du sitzt viel\, bist oft im Kopf und suchst einen Ausgleich zum Arbeitsalltag?\nIn diesem Yoga-Kurs steht der Atem im Mittelpunkt – kombiniert mit sanften Bewegungen für Rücken\, Nacken und Schultern. \nIdeal zum Stressabbau\, Durchatmen und Abschalten nach der Arbeit.\nKeine Vorkenntnisse nötig. \nRaus aus dem Arbeitsmodus – rein in den Atem.
URL:https://sportundkulturverein.net/veranstaltung/yoga-fuer-bueroangestellte-atmen-entspannen/2026-07-09/
LOCATION:Betriebssportraum D 0162
CATEGORIES:Fit & Gesund
ATTACH;FMTTYPE=image/jpeg:https://sportundkulturverein.net/wp-content/uploads/2026/04/YogaStephan-scaled-e1776707549238.jpg
ORGANIZER;CN="Stephan Schmid":MAILTO:stephan.schmid@adac.de
END:VEVENT
BEGIN:VEVENT
DTSTART;TZID=Europe/Berlin:20260716T164500
DTEND;TZID=Europe/Berlin:20260716T174500
DTSTAMP:20260422T002224
CREATED:20260420T181732Z
LAST-MODIFIED:20260421T072555Z
UID:10006661-1784220300-1784223900@sportundkulturverein.net
SUMMARY:Yoga für Büroangestellte – Atmen & Entspannen
DESCRIPTION:Du sitzt viel\, bist oft im Kopf und suchst einen Ausgleich zum Arbeitsalltag?\nIn diesem Yoga-Kurs steht der Atem im Mittelpunkt – kombiniert mit sanften Bewegungen für Rücken\, Nacken und Schultern. \nIdeal zum Stressabbau\, Durchatmen und Abschalten nach der Arbeit.\nKeine Vorkenntnisse nötig. \nRaus aus dem Arbeitsmodus – rein in den Atem.
URL:https://sportundkulturverein.net/veranstaltung/yoga-fuer-bueroangestellte-atmen-entspannen/2026-07-16/
LOCATION:Betriebssportraum D 0162
CATEGORIES:Fit & Gesund
ATTACH;FMTTYPE=image/jpeg:https://sportundkulturverein.net/wp-content/uploads/2026/04/YogaStephan-scaled-e1776707549238.jpg
ORGANIZER;CN="Stephan Schmid":MAILTO:stephan.schmid@adac.de
END:VEVENT
BEGIN:VEVENT
DTSTART;TZID=Europe/Berlin:20260723T164500
DTEND;TZID=Europe/Berlin:20260723T174500
DTSTAMP:20260422T002224
CREATED:20260420T181732Z
LAST-MODIFIED:20260421T072555Z
UID:10006662-1784825100-1784828700@sportundkulturverein.net
SUMMARY:Yoga für Büroangestellte – Atmen & Entspannen
DESCRIPTION:Du sitzt viel\, bist oft im Kopf und suchst einen Ausgleich zum Arbeitsalltag?\nIn diesem Yoga-Kurs steht der Atem im Mittelpunkt – kombiniert mit sanften Bewegungen für Rücken\, Nacken und Schultern. \nIdeal zum Stressabbau\, Durchatmen und Abschalten nach der Arbeit.\nKeine Vorkenntnisse nötig. \nRaus aus dem Arbeitsmodus – rein in den Atem.
URL:https://sportundkulturverein.net/veranstaltung/yoga-fuer-bueroangestellte-atmen-entspannen/2026-07-23/
LOCATION:Betriebssportraum D 0162
CATEGORIES:Fit & Gesund
ATTACH;FMTTYPE=image/jpeg:https://sportundkulturverein.net/wp-content/uploads/2026/04/YogaStephan-scaled-e1776707549238.jpg
ORGANIZER;CN="Stephan Schmid":MAILTO:stephan.schmid@adac.de
END:VEVENT
BEGIN:VEVENT
DTSTART;TZID=Europe/Berlin:20260730T164500
DTEND;TZID=Europe/Berlin:20260730T174500
DTSTAMP:20260422T002224
CREATED:20260420T181732Z
LAST-MODIFIED:20260421T072555Z
UID:10006663-1785429900-1785433500@sportundkulturverein.net
SUMMARY:Yoga für Büroangestellte – Atmen & Entspannen
DESCRIPTION:Du sitzt viel\, bist oft im Kopf und suchst einen Ausgleich zum Arbeitsalltag?\nIn diesem Yoga-Kurs steht der Atem im Mittelpunkt – kombiniert mit sanften Bewegungen für Rücken\, Nacken und Schultern. \nIdeal zum Stressabbau\, Durchatmen und Abschalten nach der Arbeit.\nKeine Vorkenntnisse nötig. \nRaus aus dem Arbeitsmodus – rein in den Atem.
URL:https://sportundkulturverein.net/veranstaltung/yoga-fuer-bueroangestellte-atmen-entspannen/2026-07-30/
LOCATION:Betriebssportraum D 0162
CATEGORIES:Fit & Gesund
ATTACH;FMTTYPE=image/jpeg:https://sportundkulturverein.net/wp-content/uploads/2026/04/YogaStephan-scaled-e1776707549238.jpg
ORGANIZER;CN="Stephan Schmid":MAILTO:stephan.schmid@adac.de
END:VEVENT
END:VCALENDAR