BEGIN:VCALENDAR
VERSION:2.0
PRODID:-//ADAC Sport- und Kulturverein e.V - ECPv6.11.2//NONSGML v1.0//EN
CALSCALE:GREGORIAN
METHOD:PUBLISH
X-ORIGINAL-URL:https://sportundkulturverein.net
X-WR-CALDESC:Veranstaltungen für ADAC Sport- und Kulturverein e.V
REFRESH-INTERVAL;VALUE=DURATION:PT1H
X-Robots-Tag:noindex
X-PUBLISHED-TTL:PT1H
BEGIN:VTIMEZONE
TZID:Europe/Berlin
BEGIN:DAYLIGHT
TZOFFSETFROM:+0100
TZOFFSETTO:+0200
TZNAME:CEST
DTSTART:20250330T010000
END:DAYLIGHT
BEGIN:STANDARD
TZOFFSETFROM:+0200
TZOFFSETTO:+0100
TZNAME:CET
DTSTART:20251026T010000
END:STANDARD
END:VTIMEZONE
BEGIN:VEVENT
DTSTART;TZID=Europe/Berlin:20250409T171500
DTEND;TZID=Europe/Berlin:20250409T180000
DTSTAMP:20260420T075612
CREATED:20250512T171522Z
LAST-MODIFIED:20250512T171751Z
UID:10002998-1744218900-1744221600@sportundkulturverein.net
SUMMARY:Laufgruppe
DESCRIPTION:Seit Sommer 2022 besteht die ADAC-Laufgruppe und ruft einmal wöchentlich zur entspannten Feierabendrunde durch den Westpark auf. \nZeit und Treffpunkt:\njeden Mittwoch um 17:15 Uhr auf dem kleinen Parkplatz vor dem Haupteingang der Zentrale oder bei kalter Witterung innen im Foyer.\nDie Laufrunde führt einmal durch den Westpark und endet – nach 6\,7 km oder etwa 45 Minuten – wieder an der Zentrale. \nTeilnehmer:\nFrauen und Männer\, die ca. 7 km am Stück in einem Tempo zwischen 6:00 und 7:30 min/km Pace laufen können. Bei unterschiedlichen Tempi bilden sich auch gerne mal mehrere Kleingruppen\, aber grundsätzlich wird niemand alleine gelassen.
URL:https://sportundkulturverein.net/veranstaltung/laufgruppe-2/2025-04-09/
LOCATION:Westpark\, München
CATEGORIES:Sport
ATTACH;FMTTYPE=image/jpeg:https://sportundkulturverein.net/wp-content/uploads/2024/02/Laufgruppe-Teamfoto-scaled.jpg
ORGANIZER;CN="Stephan Reinberger":MAILTO:stephan.reinberger@adac.de
END:VEVENT
BEGIN:VEVENT
DTSTART;VALUE=DATE:20250406
DTEND;VALUE=DATE:20250407
DTSTAMP:20260420T075612
CREATED:20250512T172505Z
LAST-MODIFIED:20250512T172759Z
UID:10003024-1743897600-1743983999@sportundkulturverein.net
SUMMARY:ADAC Marathon Hannover
DESCRIPTION:https://www.marathon-hannover.de/index.html\nStrecken: 10 km\, Halbmarathon\, Marathon\, Marathon-Staffel\nHighlight: Pasta-Party\, ADAC Läuferzelt mit Verpflegung\n(ADAC Zentrale übernimmt Startgebühr\, Reisekosten (Bahn 2. Klasse) und Übernachtung)
URL:https://sportundkulturverein.net/veranstaltung/adac-marathon-hannover/
LOCATION:Hannover
CATEGORIES:Sport
ORGANIZER;CN="Stephan Reinberger":MAILTO:stephan.reinberger@adac.de
END:VEVENT
BEGIN:VEVENT
DTSTART;TZID=Europe/Berlin:20250402T171500
DTEND;TZID=Europe/Berlin:20250402T180000
DTSTAMP:20260420T075612
CREATED:20250512T171522Z
LAST-MODIFIED:20250512T171751Z
UID:10002997-1743614100-1743616800@sportundkulturverein.net
SUMMARY:Laufgruppe
DESCRIPTION:Seit Sommer 2022 besteht die ADAC-Laufgruppe und ruft einmal wöchentlich zur entspannten Feierabendrunde durch den Westpark auf. \nZeit und Treffpunkt:\njeden Mittwoch um 17:15 Uhr auf dem kleinen Parkplatz vor dem Haupteingang der Zentrale oder bei kalter Witterung innen im Foyer.\nDie Laufrunde führt einmal durch den Westpark und endet – nach 6\,7 km oder etwa 45 Minuten – wieder an der Zentrale. \nTeilnehmer:\nFrauen und Männer\, die ca. 7 km am Stück in einem Tempo zwischen 6:00 und 7:30 min/km Pace laufen können. Bei unterschiedlichen Tempi bilden sich auch gerne mal mehrere Kleingruppen\, aber grundsätzlich wird niemand alleine gelassen.
URL:https://sportundkulturverein.net/veranstaltung/laufgruppe-2/2025-04-02/
LOCATION:Westpark\, München
CATEGORIES:Sport
ATTACH;FMTTYPE=image/jpeg:https://sportundkulturverein.net/wp-content/uploads/2024/02/Laufgruppe-Teamfoto-scaled.jpg
ORGANIZER;CN="Stephan Reinberger":MAILTO:stephan.reinberger@adac.de
END:VEVENT
BEGIN:VEVENT
DTSTART;VALUE=DATE:20250329
DTEND;VALUE=DATE:20250330
DTSTAMP:20260420T075612
CREATED:20250512T172354Z
LAST-MODIFIED:20250512T172814Z
UID:10003023-1743206400-1743292799@sportundkulturverein.net
SUMMARY:Forstenrieder Volkslauf
DESCRIPTION:https://www.forstenriedersc.de/volkslauf\nStrecken: 6\,8 km\, 10 km\, Halbmarathon\n(ADAC Sport- und Kulturverein übernimmt Startgebühr)
URL:https://sportundkulturverein.net/veranstaltung/forstenrieder-volkslauf/
LOCATION:Forstenrieder Park\, München
CATEGORIES:Sport
ORGANIZER;CN="Stephan Reinberger":MAILTO:stephan.reinberger@adac.de
END:VEVENT
BEGIN:VEVENT
DTSTART;VALUE=DATE:20250327
DTEND;VALUE=DATE:20250328
DTSTAMP:20260420T075612
CREATED:20250512T172219Z
LAST-MODIFIED:20250512T173112Z
UID:10003022-1743033600-1743119999@sportundkulturverein.net
SUMMARY:Organspendelauf (Charity Lauf)
DESCRIPTION:https://www.organspendelauf.de/\ntrecken: 5 km\, 10 km\n(ADAC Sport- und Kulturverein übernimmt Startgebühr)
URL:https://sportundkulturverein.net/veranstaltung/organspendelauf-charity-lauf/
LOCATION:Englischer Garten\, München
CATEGORIES:Sport
ORGANIZER;CN="Stephan Reinberger":MAILTO:stephan.reinberger@adac.de
END:VEVENT
BEGIN:VEVENT
DTSTART;TZID=Europe/Berlin:20250326T171500
DTEND;TZID=Europe/Berlin:20250326T180000
DTSTAMP:20260420T075612
CREATED:20250512T171522Z
LAST-MODIFIED:20250512T171751Z
UID:10002996-1743009300-1743012000@sportundkulturverein.net
SUMMARY:Laufgruppe
DESCRIPTION:Seit Sommer 2022 besteht die ADAC-Laufgruppe und ruft einmal wöchentlich zur entspannten Feierabendrunde durch den Westpark auf. \nZeit und Treffpunkt:\njeden Mittwoch um 17:15 Uhr auf dem kleinen Parkplatz vor dem Haupteingang der Zentrale oder bei kalter Witterung innen im Foyer.\nDie Laufrunde führt einmal durch den Westpark und endet – nach 6\,7 km oder etwa 45 Minuten – wieder an der Zentrale. \nTeilnehmer:\nFrauen und Männer\, die ca. 7 km am Stück in einem Tempo zwischen 6:00 und 7:30 min/km Pace laufen können. Bei unterschiedlichen Tempi bilden sich auch gerne mal mehrere Kleingruppen\, aber grundsätzlich wird niemand alleine gelassen.
URL:https://sportundkulturverein.net/veranstaltung/laufgruppe-2/2025-03-26/
LOCATION:Westpark\, München
CATEGORIES:Sport
ATTACH;FMTTYPE=image/jpeg:https://sportundkulturverein.net/wp-content/uploads/2024/02/Laufgruppe-Teamfoto-scaled.jpg
ORGANIZER;CN="Stephan Reinberger":MAILTO:stephan.reinberger@adac.de
END:VEVENT
BEGIN:VEVENT
DTSTART;TZID=Europe/Berlin:20250319T171500
DTEND;TZID=Europe/Berlin:20250319T180000
DTSTAMP:20260420T075612
CREATED:20250512T171522Z
LAST-MODIFIED:20250512T171751Z
UID:10002995-1742404500-1742407200@sportundkulturverein.net
SUMMARY:Laufgruppe
DESCRIPTION:Seit Sommer 2022 besteht die ADAC-Laufgruppe und ruft einmal wöchentlich zur entspannten Feierabendrunde durch den Westpark auf. \nZeit und Treffpunkt:\njeden Mittwoch um 17:15 Uhr auf dem kleinen Parkplatz vor dem Haupteingang der Zentrale oder bei kalter Witterung innen im Foyer.\nDie Laufrunde führt einmal durch den Westpark und endet – nach 6\,7 km oder etwa 45 Minuten – wieder an der Zentrale. \nTeilnehmer:\nFrauen und Männer\, die ca. 7 km am Stück in einem Tempo zwischen 6:00 und 7:30 min/km Pace laufen können. Bei unterschiedlichen Tempi bilden sich auch gerne mal mehrere Kleingruppen\, aber grundsätzlich wird niemand alleine gelassen.
URL:https://sportundkulturverein.net/veranstaltung/laufgruppe-2/2025-03-19/
LOCATION:Westpark\, München
CATEGORIES:Sport
ATTACH;FMTTYPE=image/jpeg:https://sportundkulturverein.net/wp-content/uploads/2024/02/Laufgruppe-Teamfoto-scaled.jpg
ORGANIZER;CN="Stephan Reinberger":MAILTO:stephan.reinberger@adac.de
END:VEVENT
BEGIN:VEVENT
DTSTART;VALUE=DATE:20250316
DTEND;VALUE=DATE:20250317
DTSTAMP:20260420T075612
CREATED:20250512T170825Z
LAST-MODIFIED:20250512T170825Z
UID:10002706-1742083200-1742169599@sportundkulturverein.net
SUMMARY:Westparklauf
DESCRIPTION:https://www.westparklauf.de/\nStrecken: 5 km\, 10 km\n(ADAC Sport- und Kulturverein übernimmt Startgebühr)
URL:https://sportundkulturverein.net/veranstaltung/westparklauf/
LOCATION:Westpark\, München
CATEGORIES:Sport
ORGANIZER;CN="Stephan Reinberger":MAILTO:stephan.reinberger@adac.de
END:VEVENT
BEGIN:VEVENT
DTSTART;TZID=Europe/Berlin:20250312T171500
DTEND;TZID=Europe/Berlin:20250312T180000
DTSTAMP:20260420T075612
CREATED:20250512T171522Z
LAST-MODIFIED:20250512T171751Z
UID:10002994-1741799700-1741802400@sportundkulturverein.net
SUMMARY:Laufgruppe
DESCRIPTION:Seit Sommer 2022 besteht die ADAC-Laufgruppe und ruft einmal wöchentlich zur entspannten Feierabendrunde durch den Westpark auf. \nZeit und Treffpunkt:\njeden Mittwoch um 17:15 Uhr auf dem kleinen Parkplatz vor dem Haupteingang der Zentrale oder bei kalter Witterung innen im Foyer.\nDie Laufrunde führt einmal durch den Westpark und endet – nach 6\,7 km oder etwa 45 Minuten – wieder an der Zentrale. \nTeilnehmer:\nFrauen und Männer\, die ca. 7 km am Stück in einem Tempo zwischen 6:00 und 7:30 min/km Pace laufen können. Bei unterschiedlichen Tempi bilden sich auch gerne mal mehrere Kleingruppen\, aber grundsätzlich wird niemand alleine gelassen.
URL:https://sportundkulturverein.net/veranstaltung/laufgruppe-2/2025-03-12/
LOCATION:Westpark\, München
CATEGORIES:Sport
ATTACH;FMTTYPE=image/jpeg:https://sportundkulturverein.net/wp-content/uploads/2024/02/Laufgruppe-Teamfoto-scaled.jpg
ORGANIZER;CN="Stephan Reinberger":MAILTO:stephan.reinberger@adac.de
END:VEVENT
BEGIN:VEVENT
DTSTART;TZID=Europe/Berlin:20250305T171500
DTEND;TZID=Europe/Berlin:20250305T180000
DTSTAMP:20260420T075612
CREATED:20250512T171522Z
LAST-MODIFIED:20250512T171751Z
UID:10002993-1741194900-1741197600@sportundkulturverein.net
SUMMARY:Laufgruppe
DESCRIPTION:Seit Sommer 2022 besteht die ADAC-Laufgruppe und ruft einmal wöchentlich zur entspannten Feierabendrunde durch den Westpark auf. \nZeit und Treffpunkt:\njeden Mittwoch um 17:15 Uhr auf dem kleinen Parkplatz vor dem Haupteingang der Zentrale oder bei kalter Witterung innen im Foyer.\nDie Laufrunde führt einmal durch den Westpark und endet – nach 6\,7 km oder etwa 45 Minuten – wieder an der Zentrale. \nTeilnehmer:\nFrauen und Männer\, die ca. 7 km am Stück in einem Tempo zwischen 6:00 und 7:30 min/km Pace laufen können. Bei unterschiedlichen Tempi bilden sich auch gerne mal mehrere Kleingruppen\, aber grundsätzlich wird niemand alleine gelassen.
URL:https://sportundkulturverein.net/veranstaltung/laufgruppe-2/2025-03-05/
LOCATION:Westpark\, München
CATEGORIES:Sport
ATTACH;FMTTYPE=image/jpeg:https://sportundkulturverein.net/wp-content/uploads/2024/02/Laufgruppe-Teamfoto-scaled.jpg
ORGANIZER;CN="Stephan Reinberger":MAILTO:stephan.reinberger@adac.de
END:VEVENT
BEGIN:VEVENT
DTSTART;TZID=Europe/Berlin:20250226T171500
DTEND;TZID=Europe/Berlin:20250226T180000
DTSTAMP:20260420T075612
CREATED:20250512T171522Z
LAST-MODIFIED:20250512T171751Z
UID:10002992-1740590100-1740592800@sportundkulturverein.net
SUMMARY:Laufgruppe
DESCRIPTION:Seit Sommer 2022 besteht die ADAC-Laufgruppe und ruft einmal wöchentlich zur entspannten Feierabendrunde durch den Westpark auf. \nZeit und Treffpunkt:\njeden Mittwoch um 17:15 Uhr auf dem kleinen Parkplatz vor dem Haupteingang der Zentrale oder bei kalter Witterung innen im Foyer.\nDie Laufrunde führt einmal durch den Westpark und endet – nach 6\,7 km oder etwa 45 Minuten – wieder an der Zentrale. \nTeilnehmer:\nFrauen und Männer\, die ca. 7 km am Stück in einem Tempo zwischen 6:00 und 7:30 min/km Pace laufen können. Bei unterschiedlichen Tempi bilden sich auch gerne mal mehrere Kleingruppen\, aber grundsätzlich wird niemand alleine gelassen.
URL:https://sportundkulturverein.net/veranstaltung/laufgruppe-2/2025-02-26/
LOCATION:Westpark\, München
CATEGORIES:Sport
ATTACH;FMTTYPE=image/jpeg:https://sportundkulturverein.net/wp-content/uploads/2024/02/Laufgruppe-Teamfoto-scaled.jpg
ORGANIZER;CN="Stephan Reinberger":MAILTO:stephan.reinberger@adac.de
END:VEVENT
BEGIN:VEVENT
DTSTART;TZID=Europe/Berlin:20250219T171500
DTEND;TZID=Europe/Berlin:20250219T180000
DTSTAMP:20260420T075612
CREATED:20250512T171522Z
LAST-MODIFIED:20250512T171751Z
UID:10002991-1739985300-1739988000@sportundkulturverein.net
SUMMARY:Laufgruppe
DESCRIPTION:Seit Sommer 2022 besteht die ADAC-Laufgruppe und ruft einmal wöchentlich zur entspannten Feierabendrunde durch den Westpark auf. \nZeit und Treffpunkt:\njeden Mittwoch um 17:15 Uhr auf dem kleinen Parkplatz vor dem Haupteingang der Zentrale oder bei kalter Witterung innen im Foyer.\nDie Laufrunde führt einmal durch den Westpark und endet – nach 6\,7 km oder etwa 45 Minuten – wieder an der Zentrale. \nTeilnehmer:\nFrauen und Männer\, die ca. 7 km am Stück in einem Tempo zwischen 6:00 und 7:30 min/km Pace laufen können. Bei unterschiedlichen Tempi bilden sich auch gerne mal mehrere Kleingruppen\, aber grundsätzlich wird niemand alleine gelassen.
URL:https://sportundkulturverein.net/veranstaltung/laufgruppe-2/2025-02-19/
LOCATION:Westpark\, München
CATEGORIES:Sport
ATTACH;FMTTYPE=image/jpeg:https://sportundkulturverein.net/wp-content/uploads/2024/02/Laufgruppe-Teamfoto-scaled.jpg
ORGANIZER;CN="Stephan Reinberger":MAILTO:stephan.reinberger@adac.de
END:VEVENT
BEGIN:VEVENT
DTSTART;TZID=Europe/Berlin:20250212T171500
DTEND;TZID=Europe/Berlin:20250212T180000
DTSTAMP:20260420T075612
CREATED:20250512T171522Z
LAST-MODIFIED:20250512T171751Z
UID:10002990-1739380500-1739383200@sportundkulturverein.net
SUMMARY:Laufgruppe
DESCRIPTION:Seit Sommer 2022 besteht die ADAC-Laufgruppe und ruft einmal wöchentlich zur entspannten Feierabendrunde durch den Westpark auf. \nZeit und Treffpunkt:\njeden Mittwoch um 17:15 Uhr auf dem kleinen Parkplatz vor dem Haupteingang der Zentrale oder bei kalter Witterung innen im Foyer.\nDie Laufrunde führt einmal durch den Westpark und endet – nach 6\,7 km oder etwa 45 Minuten – wieder an der Zentrale. \nTeilnehmer:\nFrauen und Männer\, die ca. 7 km am Stück in einem Tempo zwischen 6:00 und 7:30 min/km Pace laufen können. Bei unterschiedlichen Tempi bilden sich auch gerne mal mehrere Kleingruppen\, aber grundsätzlich wird niemand alleine gelassen.
URL:https://sportundkulturverein.net/veranstaltung/laufgruppe-2/2025-02-12/
LOCATION:Westpark\, München
CATEGORIES:Sport
ATTACH;FMTTYPE=image/jpeg:https://sportundkulturverein.net/wp-content/uploads/2024/02/Laufgruppe-Teamfoto-scaled.jpg
ORGANIZER;CN="Stephan Reinberger":MAILTO:stephan.reinberger@adac.de
END:VEVENT
BEGIN:VEVENT
DTSTART;TZID=Europe/Berlin:20250205T171500
DTEND;TZID=Europe/Berlin:20250205T180000
DTSTAMP:20260420T075612
CREATED:20250512T171522Z
LAST-MODIFIED:20250512T171751Z
UID:10002989-1738775700-1738778400@sportundkulturverein.net
SUMMARY:Laufgruppe
DESCRIPTION:Seit Sommer 2022 besteht die ADAC-Laufgruppe und ruft einmal wöchentlich zur entspannten Feierabendrunde durch den Westpark auf. \nZeit und Treffpunkt:\njeden Mittwoch um 17:15 Uhr auf dem kleinen Parkplatz vor dem Haupteingang der Zentrale oder bei kalter Witterung innen im Foyer.\nDie Laufrunde führt einmal durch den Westpark und endet – nach 6\,7 km oder etwa 45 Minuten – wieder an der Zentrale. \nTeilnehmer:\nFrauen und Männer\, die ca. 7 km am Stück in einem Tempo zwischen 6:00 und 7:30 min/km Pace laufen können. Bei unterschiedlichen Tempi bilden sich auch gerne mal mehrere Kleingruppen\, aber grundsätzlich wird niemand alleine gelassen.
URL:https://sportundkulturverein.net/veranstaltung/laufgruppe-2/2025-02-05/
LOCATION:Westpark\, München
CATEGORIES:Sport
ATTACH;FMTTYPE=image/jpeg:https://sportundkulturverein.net/wp-content/uploads/2024/02/Laufgruppe-Teamfoto-scaled.jpg
ORGANIZER;CN="Stephan Reinberger":MAILTO:stephan.reinberger@adac.de
END:VEVENT
BEGIN:VEVENT
DTSTART;TZID=Europe/Berlin:20250129T171500
DTEND;TZID=Europe/Berlin:20250129T180000
DTSTAMP:20260420T075612
CREATED:20250512T171522Z
LAST-MODIFIED:20250512T171751Z
UID:10002988-1738170900-1738173600@sportundkulturverein.net
SUMMARY:Laufgruppe
DESCRIPTION:Seit Sommer 2022 besteht die ADAC-Laufgruppe und ruft einmal wöchentlich zur entspannten Feierabendrunde durch den Westpark auf. \nZeit und Treffpunkt:\njeden Mittwoch um 17:15 Uhr auf dem kleinen Parkplatz vor dem Haupteingang der Zentrale oder bei kalter Witterung innen im Foyer.\nDie Laufrunde führt einmal durch den Westpark und endet – nach 6\,7 km oder etwa 45 Minuten – wieder an der Zentrale. \nTeilnehmer:\nFrauen und Männer\, die ca. 7 km am Stück in einem Tempo zwischen 6:00 und 7:30 min/km Pace laufen können. Bei unterschiedlichen Tempi bilden sich auch gerne mal mehrere Kleingruppen\, aber grundsätzlich wird niemand alleine gelassen.
URL:https://sportundkulturverein.net/veranstaltung/laufgruppe-2/2025-01-29/
LOCATION:Westpark\, München
CATEGORIES:Sport
ATTACH;FMTTYPE=image/jpeg:https://sportundkulturverein.net/wp-content/uploads/2024/02/Laufgruppe-Teamfoto-scaled.jpg
ORGANIZER;CN="Stephan Reinberger":MAILTO:stephan.reinberger@adac.de
END:VEVENT
BEGIN:VEVENT
DTSTART;TZID=Europe/Berlin:20250122T171500
DTEND;TZID=Europe/Berlin:20250122T180000
DTSTAMP:20260420T075612
CREATED:20250512T171522Z
LAST-MODIFIED:20250512T171751Z
UID:10002987-1737566100-1737568800@sportundkulturverein.net
SUMMARY:Laufgruppe
DESCRIPTION:Seit Sommer 2022 besteht die ADAC-Laufgruppe und ruft einmal wöchentlich zur entspannten Feierabendrunde durch den Westpark auf. \nZeit und Treffpunkt:\njeden Mittwoch um 17:15 Uhr auf dem kleinen Parkplatz vor dem Haupteingang der Zentrale oder bei kalter Witterung innen im Foyer.\nDie Laufrunde führt einmal durch den Westpark und endet – nach 6\,7 km oder etwa 45 Minuten – wieder an der Zentrale. \nTeilnehmer:\nFrauen und Männer\, die ca. 7 km am Stück in einem Tempo zwischen 6:00 und 7:30 min/km Pace laufen können. Bei unterschiedlichen Tempi bilden sich auch gerne mal mehrere Kleingruppen\, aber grundsätzlich wird niemand alleine gelassen.
URL:https://sportundkulturverein.net/veranstaltung/laufgruppe-2/2025-01-22/
LOCATION:Westpark\, München
CATEGORIES:Sport
ATTACH;FMTTYPE=image/jpeg:https://sportundkulturverein.net/wp-content/uploads/2024/02/Laufgruppe-Teamfoto-scaled.jpg
ORGANIZER;CN="Stephan Reinberger":MAILTO:stephan.reinberger@adac.de
END:VEVENT
BEGIN:VEVENT
DTSTART;TZID=Europe/Berlin:20250115T171500
DTEND;TZID=Europe/Berlin:20250115T180000
DTSTAMP:20260420T075612
CREATED:20250512T171522Z
LAST-MODIFIED:20250512T171751Z
UID:10002986-1736961300-1736964000@sportundkulturverein.net
SUMMARY:Laufgruppe
DESCRIPTION:Seit Sommer 2022 besteht die ADAC-Laufgruppe und ruft einmal wöchentlich zur entspannten Feierabendrunde durch den Westpark auf. \nZeit und Treffpunkt:\njeden Mittwoch um 17:15 Uhr auf dem kleinen Parkplatz vor dem Haupteingang der Zentrale oder bei kalter Witterung innen im Foyer.\nDie Laufrunde führt einmal durch den Westpark und endet – nach 6\,7 km oder etwa 45 Minuten – wieder an der Zentrale. \nTeilnehmer:\nFrauen und Männer\, die ca. 7 km am Stück in einem Tempo zwischen 6:00 und 7:30 min/km Pace laufen können. Bei unterschiedlichen Tempi bilden sich auch gerne mal mehrere Kleingruppen\, aber grundsätzlich wird niemand alleine gelassen.
URL:https://sportundkulturverein.net/veranstaltung/laufgruppe-2/2025-01-15/
LOCATION:Westpark\, München
CATEGORIES:Sport
ATTACH;FMTTYPE=image/jpeg:https://sportundkulturverein.net/wp-content/uploads/2024/02/Laufgruppe-Teamfoto-scaled.jpg
ORGANIZER;CN="Stephan Reinberger":MAILTO:stephan.reinberger@adac.de
END:VEVENT
BEGIN:VEVENT
DTSTART;TZID=Europe/Berlin:20250108T171500
DTEND;TZID=Europe/Berlin:20250108T180000
DTSTAMP:20260420T075612
CREATED:20250512T171522Z
LAST-MODIFIED:20250512T171751Z
UID:10002725-1736356500-1736359200@sportundkulturverein.net
SUMMARY:Laufgruppe
DESCRIPTION:Seit Sommer 2022 besteht die ADAC-Laufgruppe und ruft einmal wöchentlich zur entspannten Feierabendrunde durch den Westpark auf. \nZeit und Treffpunkt:\njeden Mittwoch um 17:15 Uhr auf dem kleinen Parkplatz vor dem Haupteingang der Zentrale oder bei kalter Witterung innen im Foyer.\nDie Laufrunde führt einmal durch den Westpark und endet – nach 6\,7 km oder etwa 45 Minuten – wieder an der Zentrale. \nTeilnehmer:\nFrauen und Männer\, die ca. 7 km am Stück in einem Tempo zwischen 6:00 und 7:30 min/km Pace laufen können. Bei unterschiedlichen Tempi bilden sich auch gerne mal mehrere Kleingruppen\, aber grundsätzlich wird niemand alleine gelassen.
URL:https://sportundkulturverein.net/veranstaltung/laufgruppe-2/2025-01-08/
LOCATION:Westpark\, München
CATEGORIES:Sport
ATTACH;FMTTYPE=image/jpeg:https://sportundkulturverein.net/wp-content/uploads/2024/02/Laufgruppe-Teamfoto-scaled.jpg
ORGANIZER;CN="Stephan Reinberger":MAILTO:stephan.reinberger@adac.de
END:VEVENT
END:VCALENDAR