BEGIN:VCALENDAR
VERSION:2.0
PRODID:-//ADAC Sport- und Kulturverein e.V - ECPv6.11.2//NONSGML v1.0//EN
CALSCALE:GREGORIAN
METHOD:PUBLISH
X-ORIGINAL-URL:https://sportundkulturverein.net
X-WR-CALDESC:Veranstaltungen für ADAC Sport- und Kulturverein e.V
REFRESH-INTERVAL;VALUE=DURATION:PT1H
X-Robots-Tag:noindex
X-PUBLISHED-TTL:PT1H
BEGIN:VTIMEZONE
TZID:Europe/Berlin
BEGIN:DAYLIGHT
TZOFFSETFROM:+0100
TZOFFSETTO:+0200
TZNAME:CEST
DTSTART:20300331T010000
END:DAYLIGHT
BEGIN:STANDARD
TZOFFSETFROM:+0200
TZOFFSETTO:+0100
TZNAME:CET
DTSTART:20301027T010000
END:STANDARD
END:VTIMEZONE
BEGIN:VEVENT
DTSTART;TZID=Europe/Berlin:20300319T170000
DTEND;TZID=Europe/Berlin:20300319T193000
DTSTAMP:20260420T171048
CREATED:20250512T155152Z
LAST-MODIFIED:20250519T082537Z
UID:10002408-1900170000-1900179000@sportundkulturverein.net
SUMMARY:Tischtennis
DESCRIPTION:Die Tischtennis-Fans spielen wöchentlich – zusammen mit der Sportgemeinschaft der Betriebssportgruppe Metzeler. \nEs wird in der Regel Doppel oder Mixed gespielt. Hallenturnschuhe sind Pflicht\, ebenso eigene Schläger. \nAlle interessierte Tischtennisfreunde\, vom Anfänger bis zum Fortgeschrittenen sind herzlich willkommen! \nWährend der bayerischen Schulferien findet kein Training statt.
URL:https://sportundkulturverein.net/veranstaltung/tischtennis/2030-03-19/
LOCATION:Guldeinschule\, Guldeinstr. 27\, München\, 80339
CATEGORIES:Sport
ATTACH;FMTTYPE=image/jpeg:https://sportundkulturverein.net/wp-content/uploads/2021/08/ping-pong-supplies.jpg
ORGANIZER;CN="Markus Dehm":MAILTO:markus.dehm@adac.de
END:VEVENT
BEGIN:VEVENT
DTSTART;TZID=Europe/Berlin:20300326T170000
DTEND;TZID=Europe/Berlin:20300326T193000
DTSTAMP:20260420T171048
CREATED:20250512T155152Z
LAST-MODIFIED:20250519T082537Z
UID:10002409-1900774800-1900783800@sportundkulturverein.net
SUMMARY:Tischtennis
DESCRIPTION:Die Tischtennis-Fans spielen wöchentlich – zusammen mit der Sportgemeinschaft der Betriebssportgruppe Metzeler. \nEs wird in der Regel Doppel oder Mixed gespielt. Hallenturnschuhe sind Pflicht\, ebenso eigene Schläger. \nAlle interessierte Tischtennisfreunde\, vom Anfänger bis zum Fortgeschrittenen sind herzlich willkommen! \nWährend der bayerischen Schulferien findet kein Training statt.
URL:https://sportundkulturverein.net/veranstaltung/tischtennis/2030-03-26/
LOCATION:Guldeinschule\, Guldeinstr. 27\, München\, 80339
CATEGORIES:Sport
ATTACH;FMTTYPE=image/jpeg:https://sportundkulturverein.net/wp-content/uploads/2021/08/ping-pong-supplies.jpg
ORGANIZER;CN="Markus Dehm":MAILTO:markus.dehm@adac.de
END:VEVENT
BEGIN:VEVENT
DTSTART;TZID=Europe/Berlin:20300402T170000
DTEND;TZID=Europe/Berlin:20300402T193000
DTSTAMP:20260420T171048
CREATED:20250512T155152Z
LAST-MODIFIED:20250519T082537Z
UID:10002410-1901379600-1901388600@sportundkulturverein.net
SUMMARY:Tischtennis
DESCRIPTION:Die Tischtennis-Fans spielen wöchentlich – zusammen mit der Sportgemeinschaft der Betriebssportgruppe Metzeler. \nEs wird in der Regel Doppel oder Mixed gespielt. Hallenturnschuhe sind Pflicht\, ebenso eigene Schläger. \nAlle interessierte Tischtennisfreunde\, vom Anfänger bis zum Fortgeschrittenen sind herzlich willkommen! \nWährend der bayerischen Schulferien findet kein Training statt.
URL:https://sportundkulturverein.net/veranstaltung/tischtennis/2030-04-02/
LOCATION:Guldeinschule\, Guldeinstr. 27\, München\, 80339
CATEGORIES:Sport
ATTACH;FMTTYPE=image/jpeg:https://sportundkulturverein.net/wp-content/uploads/2021/08/ping-pong-supplies.jpg
ORGANIZER;CN="Markus Dehm":MAILTO:markus.dehm@adac.de
END:VEVENT
BEGIN:VEVENT
DTSTART;TZID=Europe/Berlin:20300409T170000
DTEND;TZID=Europe/Berlin:20300409T193000
DTSTAMP:20260420T171048
CREATED:20250512T155152Z
LAST-MODIFIED:20250519T082537Z
UID:10002411-1901984400-1901993400@sportundkulturverein.net
SUMMARY:Tischtennis
DESCRIPTION:Die Tischtennis-Fans spielen wöchentlich – zusammen mit der Sportgemeinschaft der Betriebssportgruppe Metzeler. \nEs wird in der Regel Doppel oder Mixed gespielt. Hallenturnschuhe sind Pflicht\, ebenso eigene Schläger. \nAlle interessierte Tischtennisfreunde\, vom Anfänger bis zum Fortgeschrittenen sind herzlich willkommen! \nWährend der bayerischen Schulferien findet kein Training statt.
URL:https://sportundkulturverein.net/veranstaltung/tischtennis/2030-04-09/
LOCATION:Guldeinschule\, Guldeinstr. 27\, München\, 80339
CATEGORIES:Sport
ATTACH;FMTTYPE=image/jpeg:https://sportundkulturverein.net/wp-content/uploads/2021/08/ping-pong-supplies.jpg
ORGANIZER;CN="Markus Dehm":MAILTO:markus.dehm@adac.de
END:VEVENT
BEGIN:VEVENT
DTSTART;TZID=Europe/Berlin:20300416T170000
DTEND;TZID=Europe/Berlin:20300416T193000
DTSTAMP:20260420T171048
CREATED:20250512T155152Z
LAST-MODIFIED:20250519T082537Z
UID:10002412-1902589200-1902598200@sportundkulturverein.net
SUMMARY:Tischtennis
DESCRIPTION:Die Tischtennis-Fans spielen wöchentlich – zusammen mit der Sportgemeinschaft der Betriebssportgruppe Metzeler. \nEs wird in der Regel Doppel oder Mixed gespielt. Hallenturnschuhe sind Pflicht\, ebenso eigene Schläger. \nAlle interessierte Tischtennisfreunde\, vom Anfänger bis zum Fortgeschrittenen sind herzlich willkommen! \nWährend der bayerischen Schulferien findet kein Training statt.
URL:https://sportundkulturverein.net/veranstaltung/tischtennis/2030-04-16/
LOCATION:Guldeinschule\, Guldeinstr. 27\, München\, 80339
CATEGORIES:Sport
ATTACH;FMTTYPE=image/jpeg:https://sportundkulturverein.net/wp-content/uploads/2021/08/ping-pong-supplies.jpg
ORGANIZER;CN="Markus Dehm":MAILTO:markus.dehm@adac.de
END:VEVENT
BEGIN:VEVENT
DTSTART;TZID=Europe/Berlin:20300423T170000
DTEND;TZID=Europe/Berlin:20300423T193000
DTSTAMP:20260420T171048
CREATED:20250512T155152Z
LAST-MODIFIED:20250519T082537Z
UID:10002413-1903194000-1903203000@sportundkulturverein.net
SUMMARY:Tischtennis
DESCRIPTION:Die Tischtennis-Fans spielen wöchentlich – zusammen mit der Sportgemeinschaft der Betriebssportgruppe Metzeler. \nEs wird in der Regel Doppel oder Mixed gespielt. Hallenturnschuhe sind Pflicht\, ebenso eigene Schläger. \nAlle interessierte Tischtennisfreunde\, vom Anfänger bis zum Fortgeschrittenen sind herzlich willkommen! \nWährend der bayerischen Schulferien findet kein Training statt.
URL:https://sportundkulturverein.net/veranstaltung/tischtennis/2030-04-23/
LOCATION:Guldeinschule\, Guldeinstr. 27\, München\, 80339
CATEGORIES:Sport
ATTACH;FMTTYPE=image/jpeg:https://sportundkulturverein.net/wp-content/uploads/2021/08/ping-pong-supplies.jpg
ORGANIZER;CN="Markus Dehm":MAILTO:markus.dehm@adac.de
END:VEVENT
BEGIN:VEVENT
DTSTART;TZID=Europe/Berlin:20300430T170000
DTEND;TZID=Europe/Berlin:20300430T193000
DTSTAMP:20260420T171048
CREATED:20250512T155152Z
LAST-MODIFIED:20250519T082537Z
UID:10002414-1903798800-1903807800@sportundkulturverein.net
SUMMARY:Tischtennis
DESCRIPTION:Die Tischtennis-Fans spielen wöchentlich – zusammen mit der Sportgemeinschaft der Betriebssportgruppe Metzeler. \nEs wird in der Regel Doppel oder Mixed gespielt. Hallenturnschuhe sind Pflicht\, ebenso eigene Schläger. \nAlle interessierte Tischtennisfreunde\, vom Anfänger bis zum Fortgeschrittenen sind herzlich willkommen! \nWährend der bayerischen Schulferien findet kein Training statt.
URL:https://sportundkulturverein.net/veranstaltung/tischtennis/2030-04-30/
LOCATION:Guldeinschule\, Guldeinstr. 27\, München\, 80339
CATEGORIES:Sport
ATTACH;FMTTYPE=image/jpeg:https://sportundkulturverein.net/wp-content/uploads/2021/08/ping-pong-supplies.jpg
ORGANIZER;CN="Markus Dehm":MAILTO:markus.dehm@adac.de
END:VEVENT
BEGIN:VEVENT
DTSTART;TZID=Europe/Berlin:20300507T170000
DTEND;TZID=Europe/Berlin:20300507T193000
DTSTAMP:20260420T171048
CREATED:20250512T155152Z
LAST-MODIFIED:20250519T082537Z
UID:10002415-1904403600-1904412600@sportundkulturverein.net
SUMMARY:Tischtennis
DESCRIPTION:Die Tischtennis-Fans spielen wöchentlich – zusammen mit der Sportgemeinschaft der Betriebssportgruppe Metzeler. \nEs wird in der Regel Doppel oder Mixed gespielt. Hallenturnschuhe sind Pflicht\, ebenso eigene Schläger. \nAlle interessierte Tischtennisfreunde\, vom Anfänger bis zum Fortgeschrittenen sind herzlich willkommen! \nWährend der bayerischen Schulferien findet kein Training statt.
URL:https://sportundkulturverein.net/veranstaltung/tischtennis/2030-05-07/
LOCATION:Guldeinschule\, Guldeinstr. 27\, München\, 80339
CATEGORIES:Sport
ATTACH;FMTTYPE=image/jpeg:https://sportundkulturverein.net/wp-content/uploads/2021/08/ping-pong-supplies.jpg
ORGANIZER;CN="Markus Dehm":MAILTO:markus.dehm@adac.de
END:VEVENT
BEGIN:VEVENT
DTSTART;TZID=Europe/Berlin:20300514T170000
DTEND;TZID=Europe/Berlin:20300514T193000
DTSTAMP:20260420T171048
CREATED:20250512T155152Z
LAST-MODIFIED:20250519T082537Z
UID:10003565-1905008400-1905017400@sportundkulturverein.net
SUMMARY:Tischtennis
DESCRIPTION:Die Tischtennis-Fans spielen wöchentlich – zusammen mit der Sportgemeinschaft der Betriebssportgruppe Metzeler. \nEs wird in der Regel Doppel oder Mixed gespielt. Hallenturnschuhe sind Pflicht\, ebenso eigene Schläger. \nAlle interessierte Tischtennisfreunde\, vom Anfänger bis zum Fortgeschrittenen sind herzlich willkommen! \nWährend der bayerischen Schulferien findet kein Training statt.
URL:https://sportundkulturverein.net/veranstaltung/tischtennis/2030-05-14/
LOCATION:Guldeinschule\, Guldeinstr. 27\, München\, 80339
CATEGORIES:Sport
ATTACH;FMTTYPE=image/jpeg:https://sportundkulturverein.net/wp-content/uploads/2021/08/ping-pong-supplies.jpg
ORGANIZER;CN="Markus Dehm":MAILTO:markus.dehm@adac.de
END:VEVENT
END:VCALENDAR