BEGIN:VCALENDAR
VERSION:2.0
PRODID:-//ADAC Sport- und Kulturverein e.V - ECPv6.11.2//NONSGML v1.0//EN
CALSCALE:GREGORIAN
METHOD:PUBLISH
X-ORIGINAL-URL:https://sportundkulturverein.net
X-WR-CALDESC:Veranstaltungen für ADAC Sport- und Kulturverein e.V
REFRESH-INTERVAL;VALUE=DURATION:PT1H
X-Robots-Tag:noindex
X-PUBLISHED-TTL:PT1H
BEGIN:VTIMEZONE
TZID:Europe/Berlin
BEGIN:DAYLIGHT
TZOFFSETFROM:+0100
TZOFFSETTO:+0200
TZNAME:CEST
DTSTART:20250330T010000
END:DAYLIGHT
BEGIN:STANDARD
TZOFFSETFROM:+0200
TZOFFSETTO:+0100
TZNAME:CET
DTSTART:20251026T010000
END:STANDARD
END:VTIMEZONE
BEGIN:VEVENT
DTSTART;TZID=Europe/Berlin:20250517T130000
DTEND;TZID=Europe/Berlin:20250517T160000
DTSTAMP:20260421T054744
CREATED:20250511T161137Z
LAST-MODIFIED:20250511T161217Z
UID:10001814-1747486800-1747497600@sportundkulturverein.net
SUMMARY:Golf-Schnupperkurs
DESCRIPTION:Einmal im Jahr findet für Interessierte ohne Golferfahrung ein Golf-Schnupperkurs statt\, in dem in 2 – 3 Stunden die Basics erklärt werden und im Anschluss auf der Übungsanlage geübt werden können. \nBei den Golfern des ADAC Sportvereins stehen generell  Spaß und Freude an dieser wundervollen Sportart im Mittelpunkt. \nMomentan sind es ca. 250 Golfer\, die sich regelmäßig in kleineren Gruppen zu Turnieren auf den Golfplätzen rund um München treffen. \n\nJeder Interessierte am Golfsport ist willkommen!
URL:https://sportundkulturverein.net/veranstaltung/golf/
LOCATION:Golfclub Odelzhausen West\, Todtenried 3\, Odelzhausen\, 85235
CATEGORIES:Sport
ATTACH;FMTTYPE=image/webp:https://sportundkulturverein.net/wp-content/uploads/2021/08/040617_ADAC_Golf_2-1920w.webp
ORGANIZER;CN="Branka Gajic":MAILTO:branislava.gajic@adac.de
END:VEVENT
END:VCALENDAR