BEGIN:VCALENDAR
VERSION:2.0
PRODID:-//ADAC Sport- und Kulturverein e.V - ECPv6.11.2//NONSGML v1.0//EN
CALSCALE:GREGORIAN
METHOD:PUBLISH
X-WR-CALNAME:ADAC Sport- und Kulturverein e.V
X-ORIGINAL-URL:https://sportundkulturverein.net
X-WR-CALDESC:Veranstaltungen für ADAC Sport- und Kulturverein e.V
REFRESH-INTERVAL;VALUE=DURATION:PT1H
X-Robots-Tag:noindex
X-PUBLISHED-TTL:PT1H
BEGIN:VTIMEZONE
TZID:Europe/Berlin
BEGIN:DAYLIGHT
TZOFFSETFROM:+0100
TZOFFSETTO:+0200
TZNAME:CEST
DTSTART:20290325T010000
END:DAYLIGHT
BEGIN:STANDARD
TZOFFSETFROM:+0200
TZOFFSETTO:+0100
TZNAME:CET
DTSTART:20291028T010000
END:STANDARD
BEGIN:DAYLIGHT
TZOFFSETFROM:+0100
TZOFFSETTO:+0200
TZNAME:CEST
DTSTART:20300331T010000
END:DAYLIGHT
BEGIN:STANDARD
TZOFFSETFROM:+0200
TZOFFSETTO:+0100
TZNAME:CET
DTSTART:20301027T010000
END:STANDARD
END:VTIMEZONE
BEGIN:VEVENT
DTSTART;TZID=Europe/Berlin:20290710T140000
DTEND;TZID=Europe/Berlin:20290710T143000
DTSTAMP:20260420T042530
CREATED:20250512T180137Z
LAST-MODIFIED:20250512T180440Z
UID:10003436-1878386400-1878388200@sportundkulturverein.net
SUMMARY:Oldtimer
DESCRIPTION:Du interessierst Dich für Oldtimer\, bist auf der Suche nach Ersatzteilen oder möchtest Dir erst noch einen Oldtimer zulegen? \nUnsere Interessengemeinschaft trifft sich regelmäßig in der Cafeteria der ADAC-Zentrale. Bei einer gemeinsamen Tasse Kaffee kann gefachsimpelt und Schraubertipps gegeben sowie die nächste Tour oder ein gemeinsamer Museumsbesuch geplant werden. \nDas Ressort Motorsport stellt außerdem ausgewählte Fahrtrouten für Ausfahrten rund um München zur Verfügung.
URL:https://sportundkulturverein.net/veranstaltung/oldtimer/2029-07-10/
LOCATION:Cafeteria\, ADAC Zentrale\, Hansastr. 19\, München\, 80686\, Germany
CATEGORIES:Kultur
ATTACH;FMTTYPE=image/jpeg:https://sportundkulturverein.net/wp-content/uploads/2025/04/Logo_oldtimer.jpeg
ORGANIZER;CN="Aron Schenk":MAILTO:aron.schenk@adac.de
END:VEVENT
BEGIN:VEVENT
DTSTART;TZID=Europe/Berlin:20290724T140000
DTEND;TZID=Europe/Berlin:20290724T143000
DTSTAMP:20260420T042531
CREATED:20250512T180137Z
LAST-MODIFIED:20250512T180440Z
UID:10003437-1879596000-1879597800@sportundkulturverein.net
SUMMARY:Oldtimer
DESCRIPTION:Du interessierst Dich für Oldtimer\, bist auf der Suche nach Ersatzteilen oder möchtest Dir erst noch einen Oldtimer zulegen? \nUnsere Interessengemeinschaft trifft sich regelmäßig in der Cafeteria der ADAC-Zentrale. Bei einer gemeinsamen Tasse Kaffee kann gefachsimpelt und Schraubertipps gegeben sowie die nächste Tour oder ein gemeinsamer Museumsbesuch geplant werden. \nDas Ressort Motorsport stellt außerdem ausgewählte Fahrtrouten für Ausfahrten rund um München zur Verfügung.
URL:https://sportundkulturverein.net/veranstaltung/oldtimer/2029-07-24/
LOCATION:Cafeteria\, ADAC Zentrale\, Hansastr. 19\, München\, 80686\, Germany
CATEGORIES:Kultur
ATTACH;FMTTYPE=image/jpeg:https://sportundkulturverein.net/wp-content/uploads/2025/04/Logo_oldtimer.jpeg
ORGANIZER;CN="Aron Schenk":MAILTO:aron.schenk@adac.de
END:VEVENT
BEGIN:VEVENT
DTSTART;TZID=Europe/Berlin:20290807T140000
DTEND;TZID=Europe/Berlin:20290807T143000
DTSTAMP:20260420T042531
CREATED:20250512T180137Z
LAST-MODIFIED:20250512T180440Z
UID:10003438-1880805600-1880807400@sportundkulturverein.net
SUMMARY:Oldtimer
DESCRIPTION:Du interessierst Dich für Oldtimer\, bist auf der Suche nach Ersatzteilen oder möchtest Dir erst noch einen Oldtimer zulegen? \nUnsere Interessengemeinschaft trifft sich regelmäßig in der Cafeteria der ADAC-Zentrale. Bei einer gemeinsamen Tasse Kaffee kann gefachsimpelt und Schraubertipps gegeben sowie die nächste Tour oder ein gemeinsamer Museumsbesuch geplant werden. \nDas Ressort Motorsport stellt außerdem ausgewählte Fahrtrouten für Ausfahrten rund um München zur Verfügung.
URL:https://sportundkulturverein.net/veranstaltung/oldtimer/2029-08-07/
LOCATION:Cafeteria\, ADAC Zentrale\, Hansastr. 19\, München\, 80686\, Germany
CATEGORIES:Kultur
ATTACH;FMTTYPE=image/jpeg:https://sportundkulturverein.net/wp-content/uploads/2025/04/Logo_oldtimer.jpeg
ORGANIZER;CN="Aron Schenk":MAILTO:aron.schenk@adac.de
END:VEVENT
BEGIN:VEVENT
DTSTART;TZID=Europe/Berlin:20290821T140000
DTEND;TZID=Europe/Berlin:20290821T143000
DTSTAMP:20260420T042531
CREATED:20250512T180137Z
LAST-MODIFIED:20250512T180440Z
UID:10003439-1882015200-1882017000@sportundkulturverein.net
SUMMARY:Oldtimer
DESCRIPTION:Du interessierst Dich für Oldtimer\, bist auf der Suche nach Ersatzteilen oder möchtest Dir erst noch einen Oldtimer zulegen? \nUnsere Interessengemeinschaft trifft sich regelmäßig in der Cafeteria der ADAC-Zentrale. Bei einer gemeinsamen Tasse Kaffee kann gefachsimpelt und Schraubertipps gegeben sowie die nächste Tour oder ein gemeinsamer Museumsbesuch geplant werden. \nDas Ressort Motorsport stellt außerdem ausgewählte Fahrtrouten für Ausfahrten rund um München zur Verfügung.
URL:https://sportundkulturverein.net/veranstaltung/oldtimer/2029-08-21/
LOCATION:Cafeteria\, ADAC Zentrale\, Hansastr. 19\, München\, 80686\, Germany
CATEGORIES:Kultur
ATTACH;FMTTYPE=image/jpeg:https://sportundkulturverein.net/wp-content/uploads/2025/04/Logo_oldtimer.jpeg
ORGANIZER;CN="Aron Schenk":MAILTO:aron.schenk@adac.de
END:VEVENT
BEGIN:VEVENT
DTSTART;TZID=Europe/Berlin:20290904T140000
DTEND;TZID=Europe/Berlin:20290904T143000
DTSTAMP:20260420T042531
CREATED:20250512T180137Z
LAST-MODIFIED:20250512T180440Z
UID:10003440-1883224800-1883226600@sportundkulturverein.net
SUMMARY:Oldtimer
DESCRIPTION:Du interessierst Dich für Oldtimer\, bist auf der Suche nach Ersatzteilen oder möchtest Dir erst noch einen Oldtimer zulegen? \nUnsere Interessengemeinschaft trifft sich regelmäßig in der Cafeteria der ADAC-Zentrale. Bei einer gemeinsamen Tasse Kaffee kann gefachsimpelt und Schraubertipps gegeben sowie die nächste Tour oder ein gemeinsamer Museumsbesuch geplant werden. \nDas Ressort Motorsport stellt außerdem ausgewählte Fahrtrouten für Ausfahrten rund um München zur Verfügung.
URL:https://sportundkulturverein.net/veranstaltung/oldtimer/2029-09-04/
LOCATION:Cafeteria\, ADAC Zentrale\, Hansastr. 19\, München\, 80686\, Germany
CATEGORIES:Kultur
ATTACH;FMTTYPE=image/jpeg:https://sportundkulturverein.net/wp-content/uploads/2025/04/Logo_oldtimer.jpeg
ORGANIZER;CN="Aron Schenk":MAILTO:aron.schenk@adac.de
END:VEVENT
BEGIN:VEVENT
DTSTART;TZID=Europe/Berlin:20290918T140000
DTEND;TZID=Europe/Berlin:20290918T143000
DTSTAMP:20260420T042531
CREATED:20250512T180137Z
LAST-MODIFIED:20250512T180440Z
UID:10003441-1884434400-1884436200@sportundkulturverein.net
SUMMARY:Oldtimer
DESCRIPTION:Du interessierst Dich für Oldtimer\, bist auf der Suche nach Ersatzteilen oder möchtest Dir erst noch einen Oldtimer zulegen? \nUnsere Interessengemeinschaft trifft sich regelmäßig in der Cafeteria der ADAC-Zentrale. Bei einer gemeinsamen Tasse Kaffee kann gefachsimpelt und Schraubertipps gegeben sowie die nächste Tour oder ein gemeinsamer Museumsbesuch geplant werden. \nDas Ressort Motorsport stellt außerdem ausgewählte Fahrtrouten für Ausfahrten rund um München zur Verfügung.
URL:https://sportundkulturverein.net/veranstaltung/oldtimer/2029-09-18/
LOCATION:Cafeteria\, ADAC Zentrale\, Hansastr. 19\, München\, 80686\, Germany
CATEGORIES:Kultur
ATTACH;FMTTYPE=image/jpeg:https://sportundkulturverein.net/wp-content/uploads/2025/04/Logo_oldtimer.jpeg
ORGANIZER;CN="Aron Schenk":MAILTO:aron.schenk@adac.de
END:VEVENT
BEGIN:VEVENT
DTSTART;TZID=Europe/Berlin:20291002T140000
DTEND;TZID=Europe/Berlin:20291002T143000
DTSTAMP:20260420T042531
CREATED:20250512T180137Z
LAST-MODIFIED:20250512T180440Z
UID:10003442-1885644000-1885645800@sportundkulturverein.net
SUMMARY:Oldtimer
DESCRIPTION:Du interessierst Dich für Oldtimer\, bist auf der Suche nach Ersatzteilen oder möchtest Dir erst noch einen Oldtimer zulegen? \nUnsere Interessengemeinschaft trifft sich regelmäßig in der Cafeteria der ADAC-Zentrale. Bei einer gemeinsamen Tasse Kaffee kann gefachsimpelt und Schraubertipps gegeben sowie die nächste Tour oder ein gemeinsamer Museumsbesuch geplant werden. \nDas Ressort Motorsport stellt außerdem ausgewählte Fahrtrouten für Ausfahrten rund um München zur Verfügung.
URL:https://sportundkulturverein.net/veranstaltung/oldtimer/2029-10-02/
LOCATION:Cafeteria\, ADAC Zentrale\, Hansastr. 19\, München\, 80686\, Germany
CATEGORIES:Kultur
ATTACH;FMTTYPE=image/jpeg:https://sportundkulturverein.net/wp-content/uploads/2025/04/Logo_oldtimer.jpeg
ORGANIZER;CN="Aron Schenk":MAILTO:aron.schenk@adac.de
END:VEVENT
BEGIN:VEVENT
DTSTART;TZID=Europe/Berlin:20291016T140000
DTEND;TZID=Europe/Berlin:20291016T143000
DTSTAMP:20260420T042531
CREATED:20250512T180137Z
LAST-MODIFIED:20250512T180440Z
UID:10003443-1886853600-1886855400@sportundkulturverein.net
SUMMARY:Oldtimer
DESCRIPTION:Du interessierst Dich für Oldtimer\, bist auf der Suche nach Ersatzteilen oder möchtest Dir erst noch einen Oldtimer zulegen? \nUnsere Interessengemeinschaft trifft sich regelmäßig in der Cafeteria der ADAC-Zentrale. Bei einer gemeinsamen Tasse Kaffee kann gefachsimpelt und Schraubertipps gegeben sowie die nächste Tour oder ein gemeinsamer Museumsbesuch geplant werden. \nDas Ressort Motorsport stellt außerdem ausgewählte Fahrtrouten für Ausfahrten rund um München zur Verfügung.
URL:https://sportundkulturverein.net/veranstaltung/oldtimer/2029-10-16/
LOCATION:Cafeteria\, ADAC Zentrale\, Hansastr. 19\, München\, 80686\, Germany
CATEGORIES:Kultur
ATTACH;FMTTYPE=image/jpeg:https://sportundkulturverein.net/wp-content/uploads/2025/04/Logo_oldtimer.jpeg
ORGANIZER;CN="Aron Schenk":MAILTO:aron.schenk@adac.de
END:VEVENT
BEGIN:VEVENT
DTSTART;TZID=Europe/Berlin:20291030T140000
DTEND;TZID=Europe/Berlin:20291030T143000
DTSTAMP:20260420T042531
CREATED:20250512T180137Z
LAST-MODIFIED:20250512T180440Z
UID:10003444-1888063200-1888065000@sportundkulturverein.net
SUMMARY:Oldtimer
DESCRIPTION:Du interessierst Dich für Oldtimer\, bist auf der Suche nach Ersatzteilen oder möchtest Dir erst noch einen Oldtimer zulegen? \nUnsere Interessengemeinschaft trifft sich regelmäßig in der Cafeteria der ADAC-Zentrale. Bei einer gemeinsamen Tasse Kaffee kann gefachsimpelt und Schraubertipps gegeben sowie die nächste Tour oder ein gemeinsamer Museumsbesuch geplant werden. \nDas Ressort Motorsport stellt außerdem ausgewählte Fahrtrouten für Ausfahrten rund um München zur Verfügung.
URL:https://sportundkulturverein.net/veranstaltung/oldtimer/2029-10-30/
LOCATION:Cafeteria\, ADAC Zentrale\, Hansastr. 19\, München\, 80686\, Germany
CATEGORIES:Kultur
ATTACH;FMTTYPE=image/jpeg:https://sportundkulturverein.net/wp-content/uploads/2025/04/Logo_oldtimer.jpeg
ORGANIZER;CN="Aron Schenk":MAILTO:aron.schenk@adac.de
END:VEVENT
BEGIN:VEVENT
DTSTART;TZID=Europe/Berlin:20291113T140000
DTEND;TZID=Europe/Berlin:20291113T143000
DTSTAMP:20260420T042531
CREATED:20250512T180137Z
LAST-MODIFIED:20250512T180440Z
UID:10003445-1889272800-1889274600@sportundkulturverein.net
SUMMARY:Oldtimer
DESCRIPTION:Du interessierst Dich für Oldtimer\, bist auf der Suche nach Ersatzteilen oder möchtest Dir erst noch einen Oldtimer zulegen? \nUnsere Interessengemeinschaft trifft sich regelmäßig in der Cafeteria der ADAC-Zentrale. Bei einer gemeinsamen Tasse Kaffee kann gefachsimpelt und Schraubertipps gegeben sowie die nächste Tour oder ein gemeinsamer Museumsbesuch geplant werden. \nDas Ressort Motorsport stellt außerdem ausgewählte Fahrtrouten für Ausfahrten rund um München zur Verfügung.
URL:https://sportundkulturverein.net/veranstaltung/oldtimer/2029-11-13/
LOCATION:Cafeteria\, ADAC Zentrale\, Hansastr. 19\, München\, 80686\, Germany
CATEGORIES:Kultur
ATTACH;FMTTYPE=image/jpeg:https://sportundkulturverein.net/wp-content/uploads/2025/04/Logo_oldtimer.jpeg
ORGANIZER;CN="Aron Schenk":MAILTO:aron.schenk@adac.de
END:VEVENT
BEGIN:VEVENT
DTSTART;TZID=Europe/Berlin:20291127T140000
DTEND;TZID=Europe/Berlin:20291127T143000
DTSTAMP:20260420T042531
CREATED:20250512T180137Z
LAST-MODIFIED:20250512T180440Z
UID:10003446-1890482400-1890484200@sportundkulturverein.net
SUMMARY:Oldtimer
DESCRIPTION:Du interessierst Dich für Oldtimer\, bist auf der Suche nach Ersatzteilen oder möchtest Dir erst noch einen Oldtimer zulegen? \nUnsere Interessengemeinschaft trifft sich regelmäßig in der Cafeteria der ADAC-Zentrale. Bei einer gemeinsamen Tasse Kaffee kann gefachsimpelt und Schraubertipps gegeben sowie die nächste Tour oder ein gemeinsamer Museumsbesuch geplant werden. \nDas Ressort Motorsport stellt außerdem ausgewählte Fahrtrouten für Ausfahrten rund um München zur Verfügung.
URL:https://sportundkulturverein.net/veranstaltung/oldtimer/2029-11-27/
LOCATION:Cafeteria\, ADAC Zentrale\, Hansastr. 19\, München\, 80686\, Germany
CATEGORIES:Kultur
ATTACH;FMTTYPE=image/jpeg:https://sportundkulturverein.net/wp-content/uploads/2025/04/Logo_oldtimer.jpeg
ORGANIZER;CN="Aron Schenk":MAILTO:aron.schenk@adac.de
END:VEVENT
BEGIN:VEVENT
DTSTART;TZID=Europe/Berlin:20291211T140000
DTEND;TZID=Europe/Berlin:20291211T143000
DTSTAMP:20260420T042531
CREATED:20250512T180137Z
LAST-MODIFIED:20250512T180440Z
UID:10003447-1891692000-1891693800@sportundkulturverein.net
SUMMARY:Oldtimer
DESCRIPTION:Du interessierst Dich für Oldtimer\, bist auf der Suche nach Ersatzteilen oder möchtest Dir erst noch einen Oldtimer zulegen? \nUnsere Interessengemeinschaft trifft sich regelmäßig in der Cafeteria der ADAC-Zentrale. Bei einer gemeinsamen Tasse Kaffee kann gefachsimpelt und Schraubertipps gegeben sowie die nächste Tour oder ein gemeinsamer Museumsbesuch geplant werden. \nDas Ressort Motorsport stellt außerdem ausgewählte Fahrtrouten für Ausfahrten rund um München zur Verfügung.
URL:https://sportundkulturverein.net/veranstaltung/oldtimer/2029-12-11/
LOCATION:Cafeteria\, ADAC Zentrale\, Hansastr. 19\, München\, 80686\, Germany
CATEGORIES:Kultur
ATTACH;FMTTYPE=image/jpeg:https://sportundkulturverein.net/wp-content/uploads/2025/04/Logo_oldtimer.jpeg
ORGANIZER;CN="Aron Schenk":MAILTO:aron.schenk@adac.de
END:VEVENT
BEGIN:VEVENT
DTSTART;TZID=Europe/Berlin:20291225T140000
DTEND;TZID=Europe/Berlin:20291225T143000
DTSTAMP:20260420T042531
CREATED:20250512T180137Z
LAST-MODIFIED:20250512T180440Z
UID:10003448-1892901600-1892903400@sportundkulturverein.net
SUMMARY:Oldtimer
DESCRIPTION:Du interessierst Dich für Oldtimer\, bist auf der Suche nach Ersatzteilen oder möchtest Dir erst noch einen Oldtimer zulegen? \nUnsere Interessengemeinschaft trifft sich regelmäßig in der Cafeteria der ADAC-Zentrale. Bei einer gemeinsamen Tasse Kaffee kann gefachsimpelt und Schraubertipps gegeben sowie die nächste Tour oder ein gemeinsamer Museumsbesuch geplant werden. \nDas Ressort Motorsport stellt außerdem ausgewählte Fahrtrouten für Ausfahrten rund um München zur Verfügung.
URL:https://sportundkulturverein.net/veranstaltung/oldtimer/2029-12-25/
LOCATION:Cafeteria\, ADAC Zentrale\, Hansastr. 19\, München\, 80686\, Germany
CATEGORIES:Kultur
ATTACH;FMTTYPE=image/jpeg:https://sportundkulturverein.net/wp-content/uploads/2025/04/Logo_oldtimer.jpeg
ORGANIZER;CN="Aron Schenk":MAILTO:aron.schenk@adac.de
END:VEVENT
BEGIN:VEVENT
DTSTART;TZID=Europe/Berlin:20300108T140000
DTEND;TZID=Europe/Berlin:20300108T143000
DTSTAMP:20260420T042531
CREATED:20250512T180137Z
LAST-MODIFIED:20250512T180440Z
UID:10003449-1894111200-1894113000@sportundkulturverein.net
SUMMARY:Oldtimer
DESCRIPTION:Du interessierst Dich für Oldtimer\, bist auf der Suche nach Ersatzteilen oder möchtest Dir erst noch einen Oldtimer zulegen? \nUnsere Interessengemeinschaft trifft sich regelmäßig in der Cafeteria der ADAC-Zentrale. Bei einer gemeinsamen Tasse Kaffee kann gefachsimpelt und Schraubertipps gegeben sowie die nächste Tour oder ein gemeinsamer Museumsbesuch geplant werden. \nDas Ressort Motorsport stellt außerdem ausgewählte Fahrtrouten für Ausfahrten rund um München zur Verfügung.
URL:https://sportundkulturverein.net/veranstaltung/oldtimer/2030-01-08/
LOCATION:Cafeteria\, ADAC Zentrale\, Hansastr. 19\, München\, 80686\, Germany
CATEGORIES:Kultur
ATTACH;FMTTYPE=image/jpeg:https://sportundkulturverein.net/wp-content/uploads/2025/04/Logo_oldtimer.jpeg
ORGANIZER;CN="Aron Schenk":MAILTO:aron.schenk@adac.de
END:VEVENT
BEGIN:VEVENT
DTSTART;TZID=Europe/Berlin:20300122T140000
DTEND;TZID=Europe/Berlin:20300122T143000
DTSTAMP:20260420T042531
CREATED:20250512T180137Z
LAST-MODIFIED:20250512T180440Z
UID:10003450-1895320800-1895322600@sportundkulturverein.net
SUMMARY:Oldtimer
DESCRIPTION:Du interessierst Dich für Oldtimer\, bist auf der Suche nach Ersatzteilen oder möchtest Dir erst noch einen Oldtimer zulegen? \nUnsere Interessengemeinschaft trifft sich regelmäßig in der Cafeteria der ADAC-Zentrale. Bei einer gemeinsamen Tasse Kaffee kann gefachsimpelt und Schraubertipps gegeben sowie die nächste Tour oder ein gemeinsamer Museumsbesuch geplant werden. \nDas Ressort Motorsport stellt außerdem ausgewählte Fahrtrouten für Ausfahrten rund um München zur Verfügung.
URL:https://sportundkulturverein.net/veranstaltung/oldtimer/2030-01-22/
LOCATION:Cafeteria\, ADAC Zentrale\, Hansastr. 19\, München\, 80686\, Germany
CATEGORIES:Kultur
ATTACH;FMTTYPE=image/jpeg:https://sportundkulturverein.net/wp-content/uploads/2025/04/Logo_oldtimer.jpeg
ORGANIZER;CN="Aron Schenk":MAILTO:aron.schenk@adac.de
END:VEVENT
BEGIN:VEVENT
DTSTART;TZID=Europe/Berlin:20300205T140000
DTEND;TZID=Europe/Berlin:20300205T143000
DTSTAMP:20260420T042531
CREATED:20250512T180137Z
LAST-MODIFIED:20250512T180440Z
UID:10003451-1896530400-1896532200@sportundkulturverein.net
SUMMARY:Oldtimer
DESCRIPTION:Du interessierst Dich für Oldtimer\, bist auf der Suche nach Ersatzteilen oder möchtest Dir erst noch einen Oldtimer zulegen? \nUnsere Interessengemeinschaft trifft sich regelmäßig in der Cafeteria der ADAC-Zentrale. Bei einer gemeinsamen Tasse Kaffee kann gefachsimpelt und Schraubertipps gegeben sowie die nächste Tour oder ein gemeinsamer Museumsbesuch geplant werden. \nDas Ressort Motorsport stellt außerdem ausgewählte Fahrtrouten für Ausfahrten rund um München zur Verfügung.
URL:https://sportundkulturverein.net/veranstaltung/oldtimer/2030-02-05/
LOCATION:Cafeteria\, ADAC Zentrale\, Hansastr. 19\, München\, 80686\, Germany
CATEGORIES:Kultur
ATTACH;FMTTYPE=image/jpeg:https://sportundkulturverein.net/wp-content/uploads/2025/04/Logo_oldtimer.jpeg
ORGANIZER;CN="Aron Schenk":MAILTO:aron.schenk@adac.de
END:VEVENT
BEGIN:VEVENT
DTSTART;TZID=Europe/Berlin:20300219T140000
DTEND;TZID=Europe/Berlin:20300219T143000
DTSTAMP:20260420T042531
CREATED:20250512T180137Z
LAST-MODIFIED:20250512T180440Z
UID:10003452-1897740000-1897741800@sportundkulturverein.net
SUMMARY:Oldtimer
DESCRIPTION:Du interessierst Dich für Oldtimer\, bist auf der Suche nach Ersatzteilen oder möchtest Dir erst noch einen Oldtimer zulegen? \nUnsere Interessengemeinschaft trifft sich regelmäßig in der Cafeteria der ADAC-Zentrale. Bei einer gemeinsamen Tasse Kaffee kann gefachsimpelt und Schraubertipps gegeben sowie die nächste Tour oder ein gemeinsamer Museumsbesuch geplant werden. \nDas Ressort Motorsport stellt außerdem ausgewählte Fahrtrouten für Ausfahrten rund um München zur Verfügung.
URL:https://sportundkulturverein.net/veranstaltung/oldtimer/2030-02-19/
LOCATION:Cafeteria\, ADAC Zentrale\, Hansastr. 19\, München\, 80686\, Germany
CATEGORIES:Kultur
ATTACH;FMTTYPE=image/jpeg:https://sportundkulturverein.net/wp-content/uploads/2025/04/Logo_oldtimer.jpeg
ORGANIZER;CN="Aron Schenk":MAILTO:aron.schenk@adac.de
END:VEVENT
BEGIN:VEVENT
DTSTART;TZID=Europe/Berlin:20300305T140000
DTEND;TZID=Europe/Berlin:20300305T143000
DTSTAMP:20260420T042531
CREATED:20250512T180137Z
LAST-MODIFIED:20250512T180440Z
UID:10003453-1898949600-1898951400@sportundkulturverein.net
SUMMARY:Oldtimer
DESCRIPTION:Du interessierst Dich für Oldtimer\, bist auf der Suche nach Ersatzteilen oder möchtest Dir erst noch einen Oldtimer zulegen? \nUnsere Interessengemeinschaft trifft sich regelmäßig in der Cafeteria der ADAC-Zentrale. Bei einer gemeinsamen Tasse Kaffee kann gefachsimpelt und Schraubertipps gegeben sowie die nächste Tour oder ein gemeinsamer Museumsbesuch geplant werden. \nDas Ressort Motorsport stellt außerdem ausgewählte Fahrtrouten für Ausfahrten rund um München zur Verfügung.
URL:https://sportundkulturverein.net/veranstaltung/oldtimer/2030-03-05/
LOCATION:Cafeteria\, ADAC Zentrale\, Hansastr. 19\, München\, 80686\, Germany
CATEGORIES:Kultur
ATTACH;FMTTYPE=image/jpeg:https://sportundkulturverein.net/wp-content/uploads/2025/04/Logo_oldtimer.jpeg
ORGANIZER;CN="Aron Schenk":MAILTO:aron.schenk@adac.de
END:VEVENT
BEGIN:VEVENT
DTSTART;TZID=Europe/Berlin:20300319T140000
DTEND;TZID=Europe/Berlin:20300319T143000
DTSTAMP:20260420T042531
CREATED:20250512T180137Z
LAST-MODIFIED:20250512T180440Z
UID:10003454-1900159200-1900161000@sportundkulturverein.net
SUMMARY:Oldtimer
DESCRIPTION:Du interessierst Dich für Oldtimer\, bist auf der Suche nach Ersatzteilen oder möchtest Dir erst noch einen Oldtimer zulegen? \nUnsere Interessengemeinschaft trifft sich regelmäßig in der Cafeteria der ADAC-Zentrale. Bei einer gemeinsamen Tasse Kaffee kann gefachsimpelt und Schraubertipps gegeben sowie die nächste Tour oder ein gemeinsamer Museumsbesuch geplant werden. \nDas Ressort Motorsport stellt außerdem ausgewählte Fahrtrouten für Ausfahrten rund um München zur Verfügung.
URL:https://sportundkulturverein.net/veranstaltung/oldtimer/2030-03-19/
LOCATION:Cafeteria\, ADAC Zentrale\, Hansastr. 19\, München\, 80686\, Germany
CATEGORIES:Kultur
ATTACH;FMTTYPE=image/jpeg:https://sportundkulturverein.net/wp-content/uploads/2025/04/Logo_oldtimer.jpeg
ORGANIZER;CN="Aron Schenk":MAILTO:aron.schenk@adac.de
END:VEVENT
BEGIN:VEVENT
DTSTART;TZID=Europe/Berlin:20300402T140000
DTEND;TZID=Europe/Berlin:20300402T143000
DTSTAMP:20260420T042531
CREATED:20250512T180137Z
LAST-MODIFIED:20250512T180440Z
UID:10003455-1901368800-1901370600@sportundkulturverein.net
SUMMARY:Oldtimer
DESCRIPTION:Du interessierst Dich für Oldtimer\, bist auf der Suche nach Ersatzteilen oder möchtest Dir erst noch einen Oldtimer zulegen? \nUnsere Interessengemeinschaft trifft sich regelmäßig in der Cafeteria der ADAC-Zentrale. Bei einer gemeinsamen Tasse Kaffee kann gefachsimpelt und Schraubertipps gegeben sowie die nächste Tour oder ein gemeinsamer Museumsbesuch geplant werden. \nDas Ressort Motorsport stellt außerdem ausgewählte Fahrtrouten für Ausfahrten rund um München zur Verfügung.
URL:https://sportundkulturverein.net/veranstaltung/oldtimer/2030-04-02/
LOCATION:Cafeteria\, ADAC Zentrale\, Hansastr. 19\, München\, 80686\, Germany
CATEGORIES:Kultur
ATTACH;FMTTYPE=image/jpeg:https://sportundkulturverein.net/wp-content/uploads/2025/04/Logo_oldtimer.jpeg
ORGANIZER;CN="Aron Schenk":MAILTO:aron.schenk@adac.de
END:VEVENT
BEGIN:VEVENT
DTSTART;TZID=Europe/Berlin:20300416T140000
DTEND;TZID=Europe/Berlin:20300416T143000
DTSTAMP:20260420T042531
CREATED:20250512T180137Z
LAST-MODIFIED:20250512T180440Z
UID:10003456-1902578400-1902580200@sportundkulturverein.net
SUMMARY:Oldtimer
DESCRIPTION:Du interessierst Dich für Oldtimer\, bist auf der Suche nach Ersatzteilen oder möchtest Dir erst noch einen Oldtimer zulegen? \nUnsere Interessengemeinschaft trifft sich regelmäßig in der Cafeteria der ADAC-Zentrale. Bei einer gemeinsamen Tasse Kaffee kann gefachsimpelt und Schraubertipps gegeben sowie die nächste Tour oder ein gemeinsamer Museumsbesuch geplant werden. \nDas Ressort Motorsport stellt außerdem ausgewählte Fahrtrouten für Ausfahrten rund um München zur Verfügung.
URL:https://sportundkulturverein.net/veranstaltung/oldtimer/2030-04-16/
LOCATION:Cafeteria\, ADAC Zentrale\, Hansastr. 19\, München\, 80686\, Germany
CATEGORIES:Kultur
ATTACH;FMTTYPE=image/jpeg:https://sportundkulturverein.net/wp-content/uploads/2025/04/Logo_oldtimer.jpeg
ORGANIZER;CN="Aron Schenk":MAILTO:aron.schenk@adac.de
END:VEVENT
BEGIN:VEVENT
DTSTART;TZID=Europe/Berlin:20300430T140000
DTEND;TZID=Europe/Berlin:20300430T143000
DTSTAMP:20260420T042531
CREATED:20250512T180137Z
LAST-MODIFIED:20250512T180440Z
UID:10003457-1903788000-1903789800@sportundkulturverein.net
SUMMARY:Oldtimer
DESCRIPTION:Du interessierst Dich für Oldtimer\, bist auf der Suche nach Ersatzteilen oder möchtest Dir erst noch einen Oldtimer zulegen? \nUnsere Interessengemeinschaft trifft sich regelmäßig in der Cafeteria der ADAC-Zentrale. Bei einer gemeinsamen Tasse Kaffee kann gefachsimpelt und Schraubertipps gegeben sowie die nächste Tour oder ein gemeinsamer Museumsbesuch geplant werden. \nDas Ressort Motorsport stellt außerdem ausgewählte Fahrtrouten für Ausfahrten rund um München zur Verfügung.
URL:https://sportundkulturverein.net/veranstaltung/oldtimer/2030-04-30/
LOCATION:Cafeteria\, ADAC Zentrale\, Hansastr. 19\, München\, 80686\, Germany
CATEGORIES:Kultur
ATTACH;FMTTYPE=image/jpeg:https://sportundkulturverein.net/wp-content/uploads/2025/04/Logo_oldtimer.jpeg
ORGANIZER;CN="Aron Schenk":MAILTO:aron.schenk@adac.de
END:VEVENT
END:VCALENDAR