BEGIN:VCALENDAR
VERSION:2.0
PRODID:-//ADAC Sport- und Kulturverein e.V - ECPv6.11.2//NONSGML v1.0//EN
CALSCALE:GREGORIAN
METHOD:PUBLISH
X-WR-CALNAME:ADAC Sport- und Kulturverein e.V
X-ORIGINAL-URL:https://sportundkulturverein.net
X-WR-CALDESC:Veranstaltungen für ADAC Sport- und Kulturverein e.V
REFRESH-INTERVAL;VALUE=DURATION:PT1H
X-Robots-Tag:noindex
X-PUBLISHED-TTL:PT1H
BEGIN:VTIMEZONE
TZID:Europe/Berlin
BEGIN:DAYLIGHT
TZOFFSETFROM:+0100
TZOFFSETTO:+0200
TZNAME:CEST
DTSTART:20250330T010000
END:DAYLIGHT
BEGIN:STANDARD
TZOFFSETFROM:+0200
TZOFFSETTO:+0100
TZNAME:CET
DTSTART:20251026T010000
END:STANDARD
END:VTIMEZONE
BEGIN:VEVENT
DTSTART;TZID=Europe/Berlin:20251021T140000
DTEND;TZID=Europe/Berlin:20251021T143000
DTSTAMP:20260419T183950
CREATED:20250512T180137Z
LAST-MODIFIED:20250512T180440Z
UID:10003339-1761055200-1761057000@sportundkulturverein.net
SUMMARY:Oldtimer
DESCRIPTION:Du interessierst Dich für Oldtimer\, bist auf der Suche nach Ersatzteilen oder möchtest Dir erst noch einen Oldtimer zulegen? \nUnsere Interessengemeinschaft trifft sich regelmäßig in der Cafeteria der ADAC-Zentrale. Bei einer gemeinsamen Tasse Kaffee kann gefachsimpelt und Schraubertipps gegeben sowie die nächste Tour oder ein gemeinsamer Museumsbesuch geplant werden. \nDas Ressort Motorsport stellt außerdem ausgewählte Fahrtrouten für Ausfahrten rund um München zur Verfügung.
URL:https://sportundkulturverein.net/veranstaltung/oldtimer/2025-10-21/
LOCATION:Cafeteria\, ADAC Zentrale\, Hansastr. 19\, München\, 80686\, Germany
CATEGORIES:Kultur
ATTACH;FMTTYPE=image/jpeg:https://sportundkulturverein.net/wp-content/uploads/2025/04/Logo_oldtimer.jpeg
ORGANIZER;CN="Aron Schenk":MAILTO:aron.schenk@adac.de
END:VEVENT
BEGIN:VEVENT
DTSTART;TZID=Europe/Berlin:20251007T140000
DTEND;TZID=Europe/Berlin:20251007T143000
DTSTAMP:20260419T183950
CREATED:20250512T180137Z
LAST-MODIFIED:20250512T180440Z
UID:10003338-1759845600-1759847400@sportundkulturverein.net
SUMMARY:Oldtimer
DESCRIPTION:Du interessierst Dich für Oldtimer\, bist auf der Suche nach Ersatzteilen oder möchtest Dir erst noch einen Oldtimer zulegen? \nUnsere Interessengemeinschaft trifft sich regelmäßig in der Cafeteria der ADAC-Zentrale. Bei einer gemeinsamen Tasse Kaffee kann gefachsimpelt und Schraubertipps gegeben sowie die nächste Tour oder ein gemeinsamer Museumsbesuch geplant werden. \nDas Ressort Motorsport stellt außerdem ausgewählte Fahrtrouten für Ausfahrten rund um München zur Verfügung.
URL:https://sportundkulturverein.net/veranstaltung/oldtimer/2025-10-07/
LOCATION:Cafeteria\, ADAC Zentrale\, Hansastr. 19\, München\, 80686\, Germany
CATEGORIES:Kultur
ATTACH;FMTTYPE=image/jpeg:https://sportundkulturverein.net/wp-content/uploads/2025/04/Logo_oldtimer.jpeg
ORGANIZER;CN="Aron Schenk":MAILTO:aron.schenk@adac.de
END:VEVENT
BEGIN:VEVENT
DTSTART;TZID=Europe/Berlin:20250923T140000
DTEND;TZID=Europe/Berlin:20250923T143000
DTSTAMP:20260419T183950
CREATED:20250512T180137Z
LAST-MODIFIED:20250512T180440Z
UID:10003337-1758636000-1758637800@sportundkulturverein.net
SUMMARY:Oldtimer
DESCRIPTION:Du interessierst Dich für Oldtimer\, bist auf der Suche nach Ersatzteilen oder möchtest Dir erst noch einen Oldtimer zulegen? \nUnsere Interessengemeinschaft trifft sich regelmäßig in der Cafeteria der ADAC-Zentrale. Bei einer gemeinsamen Tasse Kaffee kann gefachsimpelt und Schraubertipps gegeben sowie die nächste Tour oder ein gemeinsamer Museumsbesuch geplant werden. \nDas Ressort Motorsport stellt außerdem ausgewählte Fahrtrouten für Ausfahrten rund um München zur Verfügung.
URL:https://sportundkulturverein.net/veranstaltung/oldtimer/2025-09-23/
LOCATION:Cafeteria\, ADAC Zentrale\, Hansastr. 19\, München\, 80686\, Germany
CATEGORIES:Kultur
ATTACH;FMTTYPE=image/jpeg:https://sportundkulturverein.net/wp-content/uploads/2025/04/Logo_oldtimer.jpeg
ORGANIZER;CN="Aron Schenk":MAILTO:aron.schenk@adac.de
END:VEVENT
BEGIN:VEVENT
DTSTART;TZID=Europe/Berlin:20250909T140000
DTEND;TZID=Europe/Berlin:20250909T143000
DTSTAMP:20260419T183950
CREATED:20250512T180137Z
LAST-MODIFIED:20250512T180440Z
UID:10003336-1757426400-1757428200@sportundkulturverein.net
SUMMARY:Oldtimer
DESCRIPTION:Du interessierst Dich für Oldtimer\, bist auf der Suche nach Ersatzteilen oder möchtest Dir erst noch einen Oldtimer zulegen? \nUnsere Interessengemeinschaft trifft sich regelmäßig in der Cafeteria der ADAC-Zentrale. Bei einer gemeinsamen Tasse Kaffee kann gefachsimpelt und Schraubertipps gegeben sowie die nächste Tour oder ein gemeinsamer Museumsbesuch geplant werden. \nDas Ressort Motorsport stellt außerdem ausgewählte Fahrtrouten für Ausfahrten rund um München zur Verfügung.
URL:https://sportundkulturverein.net/veranstaltung/oldtimer/2025-09-09/
LOCATION:Cafeteria\, ADAC Zentrale\, Hansastr. 19\, München\, 80686\, Germany
CATEGORIES:Kultur
ATTACH;FMTTYPE=image/jpeg:https://sportundkulturverein.net/wp-content/uploads/2025/04/Logo_oldtimer.jpeg
ORGANIZER;CN="Aron Schenk":MAILTO:aron.schenk@adac.de
END:VEVENT
BEGIN:VEVENT
DTSTART;TZID=Europe/Berlin:20250826T140000
DTEND;TZID=Europe/Berlin:20250826T143000
DTSTAMP:20260419T183950
CREATED:20250512T180137Z
LAST-MODIFIED:20250512T180440Z
UID:10003335-1756216800-1756218600@sportundkulturverein.net
SUMMARY:Oldtimer
DESCRIPTION:Du interessierst Dich für Oldtimer\, bist auf der Suche nach Ersatzteilen oder möchtest Dir erst noch einen Oldtimer zulegen? \nUnsere Interessengemeinschaft trifft sich regelmäßig in der Cafeteria der ADAC-Zentrale. Bei einer gemeinsamen Tasse Kaffee kann gefachsimpelt und Schraubertipps gegeben sowie die nächste Tour oder ein gemeinsamer Museumsbesuch geplant werden. \nDas Ressort Motorsport stellt außerdem ausgewählte Fahrtrouten für Ausfahrten rund um München zur Verfügung.
URL:https://sportundkulturverein.net/veranstaltung/oldtimer/2025-08-26/
LOCATION:Cafeteria\, ADAC Zentrale\, Hansastr. 19\, München\, 80686\, Germany
CATEGORIES:Kultur
ATTACH;FMTTYPE=image/jpeg:https://sportundkulturverein.net/wp-content/uploads/2025/04/Logo_oldtimer.jpeg
ORGANIZER;CN="Aron Schenk":MAILTO:aron.schenk@adac.de
END:VEVENT
BEGIN:VEVENT
DTSTART;TZID=Europe/Berlin:20250812T140000
DTEND;TZID=Europe/Berlin:20250812T143000
DTSTAMP:20260419T183950
CREATED:20250512T180137Z
LAST-MODIFIED:20250512T180440Z
UID:10003334-1755007200-1755009000@sportundkulturverein.net
SUMMARY:Oldtimer
DESCRIPTION:Du interessierst Dich für Oldtimer\, bist auf der Suche nach Ersatzteilen oder möchtest Dir erst noch einen Oldtimer zulegen? \nUnsere Interessengemeinschaft trifft sich regelmäßig in der Cafeteria der ADAC-Zentrale. Bei einer gemeinsamen Tasse Kaffee kann gefachsimpelt und Schraubertipps gegeben sowie die nächste Tour oder ein gemeinsamer Museumsbesuch geplant werden. \nDas Ressort Motorsport stellt außerdem ausgewählte Fahrtrouten für Ausfahrten rund um München zur Verfügung.
URL:https://sportundkulturverein.net/veranstaltung/oldtimer/2025-08-12/
LOCATION:Cafeteria\, ADAC Zentrale\, Hansastr. 19\, München\, 80686\, Germany
CATEGORIES:Kultur
ATTACH;FMTTYPE=image/jpeg:https://sportundkulturverein.net/wp-content/uploads/2025/04/Logo_oldtimer.jpeg
ORGANIZER;CN="Aron Schenk":MAILTO:aron.schenk@adac.de
END:VEVENT
BEGIN:VEVENT
DTSTART;TZID=Europe/Berlin:20250729T140000
DTEND;TZID=Europe/Berlin:20250729T143000
DTSTAMP:20260419T183950
CREATED:20250512T180137Z
LAST-MODIFIED:20250512T180440Z
UID:10003333-1753797600-1753799400@sportundkulturverein.net
SUMMARY:Oldtimer
DESCRIPTION:Du interessierst Dich für Oldtimer\, bist auf der Suche nach Ersatzteilen oder möchtest Dir erst noch einen Oldtimer zulegen? \nUnsere Interessengemeinschaft trifft sich regelmäßig in der Cafeteria der ADAC-Zentrale. Bei einer gemeinsamen Tasse Kaffee kann gefachsimpelt und Schraubertipps gegeben sowie die nächste Tour oder ein gemeinsamer Museumsbesuch geplant werden. \nDas Ressort Motorsport stellt außerdem ausgewählte Fahrtrouten für Ausfahrten rund um München zur Verfügung.
URL:https://sportundkulturverein.net/veranstaltung/oldtimer/2025-07-29/
LOCATION:Cafeteria\, ADAC Zentrale\, Hansastr. 19\, München\, 80686\, Germany
CATEGORIES:Kultur
ATTACH;FMTTYPE=image/jpeg:https://sportundkulturverein.net/wp-content/uploads/2025/04/Logo_oldtimer.jpeg
ORGANIZER;CN="Aron Schenk":MAILTO:aron.schenk@adac.de
END:VEVENT
BEGIN:VEVENT
DTSTART;TZID=Europe/Berlin:20250715T140000
DTEND;TZID=Europe/Berlin:20250715T143000
DTSTAMP:20260419T183950
CREATED:20250512T180137Z
LAST-MODIFIED:20250512T180440Z
UID:10003332-1752588000-1752589800@sportundkulturverein.net
SUMMARY:Oldtimer
DESCRIPTION:Du interessierst Dich für Oldtimer\, bist auf der Suche nach Ersatzteilen oder möchtest Dir erst noch einen Oldtimer zulegen? \nUnsere Interessengemeinschaft trifft sich regelmäßig in der Cafeteria der ADAC-Zentrale. Bei einer gemeinsamen Tasse Kaffee kann gefachsimpelt und Schraubertipps gegeben sowie die nächste Tour oder ein gemeinsamer Museumsbesuch geplant werden. \nDas Ressort Motorsport stellt außerdem ausgewählte Fahrtrouten für Ausfahrten rund um München zur Verfügung.
URL:https://sportundkulturverein.net/veranstaltung/oldtimer/2025-07-15/
LOCATION:Cafeteria\, ADAC Zentrale\, Hansastr. 19\, München\, 80686\, Germany
CATEGORIES:Kultur
ATTACH;FMTTYPE=image/jpeg:https://sportundkulturverein.net/wp-content/uploads/2025/04/Logo_oldtimer.jpeg
ORGANIZER;CN="Aron Schenk":MAILTO:aron.schenk@adac.de
END:VEVENT
BEGIN:VEVENT
DTSTART;TZID=Europe/Berlin:20250701T140000
DTEND;TZID=Europe/Berlin:20250701T143000
DTSTAMP:20260419T183950
CREATED:20250512T180137Z
LAST-MODIFIED:20250512T180440Z
UID:10003331-1751378400-1751380200@sportundkulturverein.net
SUMMARY:Oldtimer
DESCRIPTION:Du interessierst Dich für Oldtimer\, bist auf der Suche nach Ersatzteilen oder möchtest Dir erst noch einen Oldtimer zulegen? \nUnsere Interessengemeinschaft trifft sich regelmäßig in der Cafeteria der ADAC-Zentrale. Bei einer gemeinsamen Tasse Kaffee kann gefachsimpelt und Schraubertipps gegeben sowie die nächste Tour oder ein gemeinsamer Museumsbesuch geplant werden. \nDas Ressort Motorsport stellt außerdem ausgewählte Fahrtrouten für Ausfahrten rund um München zur Verfügung.
URL:https://sportundkulturverein.net/veranstaltung/oldtimer/2025-07-01/
LOCATION:Cafeteria\, ADAC Zentrale\, Hansastr. 19\, München\, 80686\, Germany
CATEGORIES:Kultur
ATTACH;FMTTYPE=image/jpeg:https://sportundkulturverein.net/wp-content/uploads/2025/04/Logo_oldtimer.jpeg
ORGANIZER;CN="Aron Schenk":MAILTO:aron.schenk@adac.de
END:VEVENT
BEGIN:VEVENT
DTSTART;TZID=Europe/Berlin:20250617T140000
DTEND;TZID=Europe/Berlin:20250617T143000
DTSTAMP:20260419T183950
CREATED:20250512T180137Z
LAST-MODIFIED:20250512T180440Z
UID:10003330-1750168800-1750170600@sportundkulturverein.net
SUMMARY:Oldtimer
DESCRIPTION:Du interessierst Dich für Oldtimer\, bist auf der Suche nach Ersatzteilen oder möchtest Dir erst noch einen Oldtimer zulegen? \nUnsere Interessengemeinschaft trifft sich regelmäßig in der Cafeteria der ADAC-Zentrale. Bei einer gemeinsamen Tasse Kaffee kann gefachsimpelt und Schraubertipps gegeben sowie die nächste Tour oder ein gemeinsamer Museumsbesuch geplant werden. \nDas Ressort Motorsport stellt außerdem ausgewählte Fahrtrouten für Ausfahrten rund um München zur Verfügung.
URL:https://sportundkulturverein.net/veranstaltung/oldtimer/2025-06-17/
LOCATION:Cafeteria\, ADAC Zentrale\, Hansastr. 19\, München\, 80686\, Germany
CATEGORIES:Kultur
ATTACH;FMTTYPE=image/jpeg:https://sportundkulturverein.net/wp-content/uploads/2025/04/Logo_oldtimer.jpeg
ORGANIZER;CN="Aron Schenk":MAILTO:aron.schenk@adac.de
END:VEVENT
BEGIN:VEVENT
DTSTART;TZID=Europe/Berlin:20250603T140000
DTEND;TZID=Europe/Berlin:20250603T143000
DTSTAMP:20260419T183950
CREATED:20250512T180137Z
LAST-MODIFIED:20250512T180440Z
UID:10003329-1748959200-1748961000@sportundkulturverein.net
SUMMARY:Oldtimer
DESCRIPTION:Du interessierst Dich für Oldtimer\, bist auf der Suche nach Ersatzteilen oder möchtest Dir erst noch einen Oldtimer zulegen? \nUnsere Interessengemeinschaft trifft sich regelmäßig in der Cafeteria der ADAC-Zentrale. Bei einer gemeinsamen Tasse Kaffee kann gefachsimpelt und Schraubertipps gegeben sowie die nächste Tour oder ein gemeinsamer Museumsbesuch geplant werden. \nDas Ressort Motorsport stellt außerdem ausgewählte Fahrtrouten für Ausfahrten rund um München zur Verfügung.
URL:https://sportundkulturverein.net/veranstaltung/oldtimer/2025-06-03/
LOCATION:Cafeteria\, ADAC Zentrale\, Hansastr. 19\, München\, 80686\, Germany
CATEGORIES:Kultur
ATTACH;FMTTYPE=image/jpeg:https://sportundkulturverein.net/wp-content/uploads/2025/04/Logo_oldtimer.jpeg
ORGANIZER;CN="Aron Schenk":MAILTO:aron.schenk@adac.de
END:VEVENT
BEGIN:VEVENT
DTSTART;TZID=Europe/Berlin:20250520T140000
DTEND;TZID=Europe/Berlin:20250520T143000
DTSTAMP:20260419T183950
CREATED:20250512T180137Z
LAST-MODIFIED:20250512T180440Z
UID:10003328-1747749600-1747751400@sportundkulturverein.net
SUMMARY:Oldtimer
DESCRIPTION:Du interessierst Dich für Oldtimer\, bist auf der Suche nach Ersatzteilen oder möchtest Dir erst noch einen Oldtimer zulegen? \nUnsere Interessengemeinschaft trifft sich regelmäßig in der Cafeteria der ADAC-Zentrale. Bei einer gemeinsamen Tasse Kaffee kann gefachsimpelt und Schraubertipps gegeben sowie die nächste Tour oder ein gemeinsamer Museumsbesuch geplant werden. \nDas Ressort Motorsport stellt außerdem ausgewählte Fahrtrouten für Ausfahrten rund um München zur Verfügung.
URL:https://sportundkulturverein.net/veranstaltung/oldtimer/2025-05-20/
LOCATION:Cafeteria\, ADAC Zentrale\, Hansastr. 19\, München\, 80686\, Germany
CATEGORIES:Kultur
ATTACH;FMTTYPE=image/jpeg:https://sportundkulturverein.net/wp-content/uploads/2025/04/Logo_oldtimer.jpeg
ORGANIZER;CN="Aron Schenk":MAILTO:aron.schenk@adac.de
END:VEVENT
BEGIN:VEVENT
DTSTART;TZID=Europe/Berlin:20250506T140000
DTEND;TZID=Europe/Berlin:20250506T143000
DTSTAMP:20260419T183950
CREATED:20250512T180137Z
LAST-MODIFIED:20250512T180440Z
UID:10003327-1746540000-1746541800@sportundkulturverein.net
SUMMARY:Oldtimer
DESCRIPTION:Du interessierst Dich für Oldtimer\, bist auf der Suche nach Ersatzteilen oder möchtest Dir erst noch einen Oldtimer zulegen? \nUnsere Interessengemeinschaft trifft sich regelmäßig in der Cafeteria der ADAC-Zentrale. Bei einer gemeinsamen Tasse Kaffee kann gefachsimpelt und Schraubertipps gegeben sowie die nächste Tour oder ein gemeinsamer Museumsbesuch geplant werden. \nDas Ressort Motorsport stellt außerdem ausgewählte Fahrtrouten für Ausfahrten rund um München zur Verfügung.
URL:https://sportundkulturverein.net/veranstaltung/oldtimer/2025-05-06/
LOCATION:Cafeteria\, ADAC Zentrale\, Hansastr. 19\, München\, 80686\, Germany
CATEGORIES:Kultur
ATTACH;FMTTYPE=image/jpeg:https://sportundkulturverein.net/wp-content/uploads/2025/04/Logo_oldtimer.jpeg
ORGANIZER;CN="Aron Schenk":MAILTO:aron.schenk@adac.de
END:VEVENT
BEGIN:VEVENT
DTSTART;TZID=Europe/Berlin:20250422T140000
DTEND;TZID=Europe/Berlin:20250422T143000
DTSTAMP:20260419T183950
CREATED:20250512T180137Z
LAST-MODIFIED:20250512T180440Z
UID:10003326-1745330400-1745332200@sportundkulturverein.net
SUMMARY:Oldtimer
DESCRIPTION:Du interessierst Dich für Oldtimer\, bist auf der Suche nach Ersatzteilen oder möchtest Dir erst noch einen Oldtimer zulegen? \nUnsere Interessengemeinschaft trifft sich regelmäßig in der Cafeteria der ADAC-Zentrale. Bei einer gemeinsamen Tasse Kaffee kann gefachsimpelt und Schraubertipps gegeben sowie die nächste Tour oder ein gemeinsamer Museumsbesuch geplant werden. \nDas Ressort Motorsport stellt außerdem ausgewählte Fahrtrouten für Ausfahrten rund um München zur Verfügung.
URL:https://sportundkulturverein.net/veranstaltung/oldtimer/2025-04-22/
LOCATION:Cafeteria\, ADAC Zentrale\, Hansastr. 19\, München\, 80686\, Germany
CATEGORIES:Kultur
ATTACH;FMTTYPE=image/jpeg:https://sportundkulturverein.net/wp-content/uploads/2025/04/Logo_oldtimer.jpeg
ORGANIZER;CN="Aron Schenk":MAILTO:aron.schenk@adac.de
END:VEVENT
BEGIN:VEVENT
DTSTART;TZID=Europe/Berlin:20250408T140000
DTEND;TZID=Europe/Berlin:20250408T143000
DTSTAMP:20260419T183950
CREATED:20250512T180137Z
LAST-MODIFIED:20250512T180440Z
UID:10003325-1744120800-1744122600@sportundkulturverein.net
SUMMARY:Oldtimer
DESCRIPTION:Du interessierst Dich für Oldtimer\, bist auf der Suche nach Ersatzteilen oder möchtest Dir erst noch einen Oldtimer zulegen? \nUnsere Interessengemeinschaft trifft sich regelmäßig in der Cafeteria der ADAC-Zentrale. Bei einer gemeinsamen Tasse Kaffee kann gefachsimpelt und Schraubertipps gegeben sowie die nächste Tour oder ein gemeinsamer Museumsbesuch geplant werden. \nDas Ressort Motorsport stellt außerdem ausgewählte Fahrtrouten für Ausfahrten rund um München zur Verfügung.
URL:https://sportundkulturverein.net/veranstaltung/oldtimer/2025-04-08/
LOCATION:Cafeteria\, ADAC Zentrale\, Hansastr. 19\, München\, 80686\, Germany
CATEGORIES:Kultur
ATTACH;FMTTYPE=image/jpeg:https://sportundkulturverein.net/wp-content/uploads/2025/04/Logo_oldtimer.jpeg
ORGANIZER;CN="Aron Schenk":MAILTO:aron.schenk@adac.de
END:VEVENT
BEGIN:VEVENT
DTSTART;TZID=Europe/Berlin:20250325T140000
DTEND;TZID=Europe/Berlin:20250325T143000
DTSTAMP:20260419T183950
CREATED:20250512T180137Z
LAST-MODIFIED:20250512T180440Z
UID:10003324-1742911200-1742913000@sportundkulturverein.net
SUMMARY:Oldtimer
DESCRIPTION:Du interessierst Dich für Oldtimer\, bist auf der Suche nach Ersatzteilen oder möchtest Dir erst noch einen Oldtimer zulegen? \nUnsere Interessengemeinschaft trifft sich regelmäßig in der Cafeteria der ADAC-Zentrale. Bei einer gemeinsamen Tasse Kaffee kann gefachsimpelt und Schraubertipps gegeben sowie die nächste Tour oder ein gemeinsamer Museumsbesuch geplant werden. \nDas Ressort Motorsport stellt außerdem ausgewählte Fahrtrouten für Ausfahrten rund um München zur Verfügung.
URL:https://sportundkulturverein.net/veranstaltung/oldtimer/2025-03-25/
LOCATION:Cafeteria\, ADAC Zentrale\, Hansastr. 19\, München\, 80686\, Germany
CATEGORIES:Kultur
ATTACH;FMTTYPE=image/jpeg:https://sportundkulturverein.net/wp-content/uploads/2025/04/Logo_oldtimer.jpeg
ORGANIZER;CN="Aron Schenk":MAILTO:aron.schenk@adac.de
END:VEVENT
BEGIN:VEVENT
DTSTART;TZID=Europe/Berlin:20250311T140000
DTEND;TZID=Europe/Berlin:20250311T143000
DTSTAMP:20260419T183950
CREATED:20250512T180137Z
LAST-MODIFIED:20250512T180440Z
UID:10003323-1741701600-1741703400@sportundkulturverein.net
SUMMARY:Oldtimer
DESCRIPTION:Du interessierst Dich für Oldtimer\, bist auf der Suche nach Ersatzteilen oder möchtest Dir erst noch einen Oldtimer zulegen? \nUnsere Interessengemeinschaft trifft sich regelmäßig in der Cafeteria der ADAC-Zentrale. Bei einer gemeinsamen Tasse Kaffee kann gefachsimpelt und Schraubertipps gegeben sowie die nächste Tour oder ein gemeinsamer Museumsbesuch geplant werden. \nDas Ressort Motorsport stellt außerdem ausgewählte Fahrtrouten für Ausfahrten rund um München zur Verfügung.
URL:https://sportundkulturverein.net/veranstaltung/oldtimer/2025-03-11/
LOCATION:Cafeteria\, ADAC Zentrale\, Hansastr. 19\, München\, 80686\, Germany
CATEGORIES:Kultur
ATTACH;FMTTYPE=image/jpeg:https://sportundkulturverein.net/wp-content/uploads/2025/04/Logo_oldtimer.jpeg
ORGANIZER;CN="Aron Schenk":MAILTO:aron.schenk@adac.de
END:VEVENT
BEGIN:VEVENT
DTSTART;TZID=Europe/Berlin:20250225T140000
DTEND;TZID=Europe/Berlin:20250225T143000
DTSTAMP:20260419T183950
CREATED:20250512T180137Z
LAST-MODIFIED:20250512T180440Z
UID:10003322-1740492000-1740493800@sportundkulturverein.net
SUMMARY:Oldtimer
DESCRIPTION:Du interessierst Dich für Oldtimer\, bist auf der Suche nach Ersatzteilen oder möchtest Dir erst noch einen Oldtimer zulegen? \nUnsere Interessengemeinschaft trifft sich regelmäßig in der Cafeteria der ADAC-Zentrale. Bei einer gemeinsamen Tasse Kaffee kann gefachsimpelt und Schraubertipps gegeben sowie die nächste Tour oder ein gemeinsamer Museumsbesuch geplant werden. \nDas Ressort Motorsport stellt außerdem ausgewählte Fahrtrouten für Ausfahrten rund um München zur Verfügung.
URL:https://sportundkulturverein.net/veranstaltung/oldtimer/2025-02-25/
LOCATION:Cafeteria\, ADAC Zentrale\, Hansastr. 19\, München\, 80686\, Germany
CATEGORIES:Kultur
ATTACH;FMTTYPE=image/jpeg:https://sportundkulturverein.net/wp-content/uploads/2025/04/Logo_oldtimer.jpeg
ORGANIZER;CN="Aron Schenk":MAILTO:aron.schenk@adac.de
END:VEVENT
BEGIN:VEVENT
DTSTART;TZID=Europe/Berlin:20250211T140000
DTEND;TZID=Europe/Berlin:20250211T143000
DTSTAMP:20260419T183950
CREATED:20250512T180137Z
LAST-MODIFIED:20250512T180440Z
UID:10003321-1739282400-1739284200@sportundkulturverein.net
SUMMARY:Oldtimer
DESCRIPTION:Du interessierst Dich für Oldtimer\, bist auf der Suche nach Ersatzteilen oder möchtest Dir erst noch einen Oldtimer zulegen? \nUnsere Interessengemeinschaft trifft sich regelmäßig in der Cafeteria der ADAC-Zentrale. Bei einer gemeinsamen Tasse Kaffee kann gefachsimpelt und Schraubertipps gegeben sowie die nächste Tour oder ein gemeinsamer Museumsbesuch geplant werden. \nDas Ressort Motorsport stellt außerdem ausgewählte Fahrtrouten für Ausfahrten rund um München zur Verfügung.
URL:https://sportundkulturverein.net/veranstaltung/oldtimer/2025-02-11/
LOCATION:Cafeteria\, ADAC Zentrale\, Hansastr. 19\, München\, 80686\, Germany
CATEGORIES:Kultur
ATTACH;FMTTYPE=image/jpeg:https://sportundkulturverein.net/wp-content/uploads/2025/04/Logo_oldtimer.jpeg
ORGANIZER;CN="Aron Schenk":MAILTO:aron.schenk@adac.de
END:VEVENT
BEGIN:VEVENT
DTSTART;TZID=Europe/Berlin:20250128T140000
DTEND;TZID=Europe/Berlin:20250128T143000
DTSTAMP:20260419T183950
CREATED:20250512T180137Z
LAST-MODIFIED:20250512T180440Z
UID:10003320-1738072800-1738074600@sportundkulturverein.net
SUMMARY:Oldtimer
DESCRIPTION:Du interessierst Dich für Oldtimer\, bist auf der Suche nach Ersatzteilen oder möchtest Dir erst noch einen Oldtimer zulegen? \nUnsere Interessengemeinschaft trifft sich regelmäßig in der Cafeteria der ADAC-Zentrale. Bei einer gemeinsamen Tasse Kaffee kann gefachsimpelt und Schraubertipps gegeben sowie die nächste Tour oder ein gemeinsamer Museumsbesuch geplant werden. \nDas Ressort Motorsport stellt außerdem ausgewählte Fahrtrouten für Ausfahrten rund um München zur Verfügung.
URL:https://sportundkulturverein.net/veranstaltung/oldtimer/2025-01-28/
LOCATION:Cafeteria\, ADAC Zentrale\, Hansastr. 19\, München\, 80686\, Germany
CATEGORIES:Kultur
ATTACH;FMTTYPE=image/jpeg:https://sportundkulturverein.net/wp-content/uploads/2025/04/Logo_oldtimer.jpeg
ORGANIZER;CN="Aron Schenk":MAILTO:aron.schenk@adac.de
END:VEVENT
BEGIN:VEVENT
DTSTART;TZID=Europe/Berlin:20250114T140000
DTEND;TZID=Europe/Berlin:20250114T143000
DTSTAMP:20260419T183950
CREATED:20250512T180137Z
LAST-MODIFIED:20250512T180440Z
UID:10003319-1736863200-1736865000@sportundkulturverein.net
SUMMARY:Oldtimer
DESCRIPTION:Du interessierst Dich für Oldtimer\, bist auf der Suche nach Ersatzteilen oder möchtest Dir erst noch einen Oldtimer zulegen? \nUnsere Interessengemeinschaft trifft sich regelmäßig in der Cafeteria der ADAC-Zentrale. Bei einer gemeinsamen Tasse Kaffee kann gefachsimpelt und Schraubertipps gegeben sowie die nächste Tour oder ein gemeinsamer Museumsbesuch geplant werden. \nDas Ressort Motorsport stellt außerdem ausgewählte Fahrtrouten für Ausfahrten rund um München zur Verfügung.
URL:https://sportundkulturverein.net/veranstaltung/oldtimer/2025-01-14/
LOCATION:Cafeteria\, ADAC Zentrale\, Hansastr. 19\, München\, 80686\, Germany
CATEGORIES:Kultur
ATTACH;FMTTYPE=image/jpeg:https://sportundkulturverein.net/wp-content/uploads/2025/04/Logo_oldtimer.jpeg
ORGANIZER;CN="Aron Schenk":MAILTO:aron.schenk@adac.de
END:VEVENT
END:VCALENDAR