BEGIN:VCALENDAR
VERSION:2.0
PRODID:-//ADAC Sport- und Kulturverein e.V - ECPv6.11.2//NONSGML v1.0//EN
CALSCALE:GREGORIAN
METHOD:PUBLISH
X-WR-CALNAME:ADAC Sport- und Kulturverein e.V
X-ORIGINAL-URL:https://sportundkulturverein.net
X-WR-CALDESC:Veranstaltungen für ADAC Sport- und Kulturverein e.V
REFRESH-INTERVAL;VALUE=DURATION:PT1H
X-Robots-Tag:noindex
X-PUBLISHED-TTL:PT1H
BEGIN:VTIMEZONE
TZID:Europe/Berlin
BEGIN:DAYLIGHT
TZOFFSETFROM:+0100
TZOFFSETTO:+0200
TZNAME:CEST
DTSTART:20250330T010000
END:DAYLIGHT
BEGIN:STANDARD
TZOFFSETFROM:+0200
TZOFFSETTO:+0100
TZNAME:CET
DTSTART:20251026T010000
END:STANDARD
END:VTIMEZONE
BEGIN:VEVENT
DTSTART;TZID=Europe/Berlin:20250429T110000
DTEND;TZID=Europe/Berlin:20250429T133000
DTSTAMP:20260424T021632
CREATED:20250512T184630Z
LAST-MODIFIED:20250512T184630Z
UID:10003458-1745924400-1745933400@sportundkulturverein.net
SUMMARY:ADAC Sport- und Kulturtag
DESCRIPTION:Beim ADAC Sport- und Kulturtag können sich alle Kolleginnen und Kollegen nicht nur zum Angebot des ADAC Sport- und Kulturvereins informieren\, sondern auch die Spartenleiter kennenlernen und selbst aktiv werden. \nDie Mischung aus Bewegung\, Austausch und Gemeinschaft (mit ADAC Kolleginnen und Kollegen) kommt gut an – und macht Lust auf mehr. Deswegen stellen wir euch bei dieser Veranstaltung viele unserer bisherigen Sparten\, aber auch einige neue Sparten vor. \nWir freuen uns auf Euren Besuch und Eure Interesse!l
URL:https://sportundkulturverein.net/veranstaltung/adac-sport-und-kulturtag/
LOCATION:ADAC Zentrale\, Foyer\, Hansastr. 19\, München\, 80686\, Germany
CATEGORIES:Allgemein
ORGANIZER;CN="ADAC Sport- und Kulturverein":MAILTO:betriebssport@adac.de
END:VEVENT
END:VCALENDAR